BEGIN:VCALENDAR
VERSION:2.0
PRODID:-//HasGeek//NONSGML Funnel//EN
DESCRIPTION:Community to share and cherish their infrastructure stories an
 d challenges at scale.
X-WR-CALDESC:Community to share and cherish their infrastructure stories a
 nd challenges at scale.
NAME:Infrastructure Engineering @Scale 2020
X-WR-CALNAME:Infrastructure Engineering @Scale 2020
REFRESH-INTERVAL;VALUE=DURATION:PT12H
SUMMARY:Infrastructure Engineering @Scale 2020
TIMEZONE-ID:Asia/Kolkata
X-PUBLISHED-TTL:PT12H
X-WR-TIMEZONE:Asia/Kolkata
BEGIN:VEVENT
SUMMARY:Distributed Firewall enabling Single Fabric at LinkedIn
DTSTART:20200801T050000Z
DTEND:20200801T054500Z
DTSTAMP:20260421T032617Z
UID:session/HtKUQSuby6sETBA2Ea75wQ@hasgeek.com
SEQUENCE:2
CREATED:20200727T133449Z
DESCRIPTION:The infrastructure systems and network engineers share their j
 ourney to Single Frabic with the help of Distributed Firewall system. The 
 team walks the audience through various challeges and learnings from them 
 during the design\, rollout and enforcement of the host level distributed 
 firewall system throughout LinkedIn to enable one big fabric.\n\n### Speak
 er bio\n\nSaira Khanum - Software Engineering\, LinkedIn\nKumar Tej Gedala
  - Software Engineering\, LinkedIn\nArun Thiagarajan - Network Engineering
 \, LinkedIn\n
LAST-MODIFIED:20230810T072606Z
LOCATION:Bengaluru
ORGANIZER;CN="Infrastructure Engineering @Scale":MAILTO:no-reply@hasgeek.c
 om
URL:https://hasgeek.com/infrastructureengineeringatscale/2020/schedule/dis
 tributed-firewall-enabling-single-fabric-at-linkedin-HtKUQSuby6sETBA2Ea75w
 Q
BEGIN:VALARM
ACTION:display
DESCRIPTION:Distributed Firewall enabling Single Fabric at LinkedIn in 5 m
 inutes
TRIGGER:-PT5M
END:VALARM
END:VEVENT
BEGIN:VEVENT
SUMMARY:A Mighty elephant's journey to the cloud - How Twitter made the el
 ephant fly?
DTSTART:20200801T055500Z
DTEND:20200801T064000Z
DTSTAMP:20260421T032617Z
UID:session/QYbUSiTPR6Cp9umU8kHBAD@hasgeek.com
SEQUENCE:2
CREATED:20200727T133254Z
DESCRIPTION:The mission we serve at Twitter is to give everyone the power 
 to create and share ideas and information instantly without barriers. And 
 with people tweeting more and more every day\, the data produced by these 
 tweets starts to add up that calls for the need for more storage and more 
 compute power. To keep processing massive amounts of data 24/7 and after a
  careful evaluation\, we kicked off an initiative to move the Hadoop ad-ho
 c and cold clusters to Google cloud services. This initiative\, which we f
 ondly call as Partly cloudy. This talk provides insights into the current 
 Hadoop infrastructure @Twitter and its journey to cloud.\n\nOutline:\n* Tw
 itter Infrastructure workloads \n* Hadoop @Twitter scale\n* Partly cloudy 
 - Journey to cloud\n* Q&A\n\n### Speaker bio\n\nAbhishek J - SRE @Twitter\
 nJeffrey Jacson - SRE @Twitter\n
LAST-MODIFIED:20230810T072606Z
LOCATION:Bengaluru
ORGANIZER;CN="Infrastructure Engineering @Scale":MAILTO:no-reply@hasgeek.c
 om
URL:https://hasgeek.com/infrastructureengineeringatscale/2020/schedule/a-m
 ighty-elephants-journey-to-the-cloud-how-twitter-made-the-elephant-fly-QYb
 USiTPR6Cp9umU8kHBAD
BEGIN:VALARM
ACTION:display
DESCRIPTION:A Mighty elephant's journey to the cloud - How Twitter made th
 e elephant fly? in 5 minutes
TRIGGER:-PT5M
END:VALARM
END:VEVENT
BEGIN:VEVENT
SUMMARY:Introduction to OpenTelemetry on Kubernetes
DTSTART:20200801T064500Z
DTEND:20200801T073000Z
DTSTAMP:20260421T032617Z
UID:session/VH448VwJZjTtzG4w19ABU@hasgeek.com
SEQUENCE:2
CREATED:20200727T133210Z
DESCRIPTION:This talk will provide an introduction to https://github.com/o
 pen-telemetry/ as a vendor neutral telemetry stack. Delve into the archite
 cture and design of the project at a high level and end with a detailed ex
 planation and demo of how to deploy open-telemetry on kubernetes.\n\nOutli
 ne:\n- What is Telemetry and why do we need to have an open standard for i
 t\n- The History and lineage of OpenTelemetry\n- Architecture\n- Component
  Layout\n- Basic Sampling\, constant\, probabilistc and tail-sampling\n- C
 aveat of using tail-sampling w.r.t. scalability\n- Kubernetes Deployment o
 f OpenTelemetry stack\n- Quick Demo of open-source code\n- Q&A\n\n### Spea
 ker bio\n\nJoy is currently an Independent Cloud Native Infrastructure Con
 sultant. Previously\, he has been the first DevOps person at Razorpay\, wo
 rked with ZoomCar and been part of the Hotstar Kubernetes Platform team fo
 r IPL2018.\n
LAST-MODIFIED:20230810T072606Z
LOCATION:Bengaluru
ORGANIZER;CN="Infrastructure Engineering @Scale":MAILTO:no-reply@hasgeek.c
 om
URL:https://hasgeek.com/infrastructureengineeringatscale/2020/schedule/int
 roduction-to-opentelemetry-on-kubernetes-VH448VwJZjTtzG4w19ABU
BEGIN:VALARM
ACTION:display
DESCRIPTION:Introduction to OpenTelemetry on Kubernetes in 5 minutes
TRIGGER:-PT5M
END:VALARM
END:VEVENT
END:VCALENDAR
