BEGIN:VCALENDAR
VERSION:2.0
PRODID:-//HasGeek//NONSGML Funnel//EN
DESCRIPTION:HelloA11Y November Meet 2020
X-WR-CALDESC:HelloA11Y November Meet 2020
NAME:Accessibility: WCAG\, Usability and Design by Irfan Ali
X-WR-CALNAME:Accessibility: WCAG\, Usability and Design by Irfan Ali
REFRESH-INTERVAL;VALUE=DURATION:PT12H
SUMMARY:Accessibility: WCAG\, Usability and Design by Irfan Ali
TIMEZONE-ID:Asia/Kolkata
X-PUBLISHED-TTL:PT12H
X-WR-TIMEZONE:Asia/Kolkata
BEGIN:VEVENT
SUMMARY:Accessibility: WCAG\, Usability\, and Design
DTSTART:20201126T140000Z
DTEND:20201126T150500Z
DTSTAMP:20260424T083316Z
UID:session/XB6afErPhvUjAfg7NFSESR@hasgeek.com
SEQUENCE:0
CREATED:20200717T104110Z
DESCRIPTION:\n
LAST-MODIFIED:20200717T104401Z
LOCATION:Online
ORGANIZER;CN=helloa11y:MAILTO:no-reply@hasgeek.com
BEGIN:VALARM
ACTION:display
DESCRIPTION:Accessibility: WCAG\, Usability\, and Design in 5 minutes
TRIGGER:-PT5M
END:VALARM
END:VEVENT
END:VCALENDAR
