BEGIN:VCALENDAR
VERSION:2.0
PRODID:-//HasGeek//NONSGML Funnel//EN
DESCRIPTION:Discussing a more inclusive and accessible digital world
X-WR-CALDESC:Discussing a more inclusive and accessible digital world
NAME:helloA11Y Global Accessibility Awareness Day 2020
X-WR-CALNAME:helloA11Y Global Accessibility Awareness Day 2020
REFRESH-INTERVAL;VALUE=DURATION:PT12H
SUMMARY:helloA11Y Global Accessibility Awareness Day 2020
TIMEZONE-ID:Asia/Kolkata
X-PUBLISHED-TTL:PT12H
X-WR-TIMEZONE:Asia/Kolkata
BEGIN:VEVENT
SUMMARY:Considerations for Inclusive Social VR
DTSTART:20200521T120000Z
DTEND:20200521T124000Z
DTSTAMP:20260419T170650Z
UID:session/4ho3wmcgdoHY6zcEkPuvya@hasgeek.com
SEQUENCE:0
CREATED:20200519T091552Z
DESCRIPTION:\n
LAST-MODIFIED:20200519T091603Z
LOCATION:Online
ORGANIZER;CN=helloa11y:MAILTO:no-reply@hasgeek.com
BEGIN:VALARM
ACTION:display
DESCRIPTION:Considerations for Inclusive Social VR in 5 minutes
TRIGGER:-PT5M
END:VALARM
END:VEVENT
BEGIN:VEVENT
SUMMARY:SVG Icons and Screen Reader Accessibility
DTSTART:20200521T124500Z
DTEND:20200521T132500Z
DTSTAMP:20260419T170650Z
UID:session/RdqmzFuFMqSnxq3a3w65Z6@hasgeek.com
SEQUENCE:0
CREATED:20200519T091619Z
DESCRIPTION:\n
LAST-MODIFIED:20200519T091631Z
LOCATION:Online
ORGANIZER;CN=helloa11y:MAILTO:no-reply@hasgeek.com
BEGIN:VALARM
ACTION:display
DESCRIPTION:SVG Icons and Screen Reader Accessibility in 5 minutes
TRIGGER:-PT5M
END:VALARM
END:VEVENT
BEGIN:VEVENT
SUMMARY:Writing Accessible friendly CSS
DTSTART:20200521T133000Z
DTEND:20200521T141000Z
DTSTAMP:20260419T170650Z
UID:session/GtmjGxMVqkxV5kQXV2mJVK@hasgeek.com
SEQUENCE:0
CREATED:20200519T091641Z
DESCRIPTION:\n
LAST-MODIFIED:20200519T091651Z
LOCATION:Online
ORGANIZER;CN=helloa11y:MAILTO:no-reply@hasgeek.com
BEGIN:VALARM
ACTION:display
DESCRIPTION:Writing Accessible friendly CSS in 5 minutes
TRIGGER:-PT5M
END:VALARM
END:VEVENT
BEGIN:VEVENT
SUMMARY:Challenges we face while automatic accessibility testing and some 
 solutions to overcome
DTSTART:20200521T141000Z
DTEND:20200521T145000Z
DTSTAMP:20260419T170650Z
UID:session/2WExcLEWV6qFhhsRP3xyZf@hasgeek.com
SEQUENCE:0
CREATED:20200519T091701Z
DESCRIPTION:\n
LAST-MODIFIED:20200519T091710Z
LOCATION:Online
ORGANIZER;CN=helloa11y:MAILTO:no-reply@hasgeek.com
BEGIN:VALARM
ACTION:display
DESCRIPTION:Challenges we face while automatic accessibility testing and s
 ome solutions to overcome in 5 minutes
TRIGGER:-PT5M
END:VALARM
END:VEVENT
BEGIN:VEVENT
SUMMARY:100 Days of Accessibility: Getting started on web accessibility
DTSTART:20200521T150000Z
DTEND:20200521T154000Z
DTSTAMP:20260419T170650Z
UID:session/3gCK1kSqoXQUEi8jDxQTDb@hasgeek.com
SEQUENCE:0
CREATED:20200519T091722Z
DESCRIPTION:\n
LAST-MODIFIED:20200519T091729Z
LOCATION:Online
ORGANIZER;CN=helloa11y:MAILTO:no-reply@hasgeek.com
BEGIN:VALARM
ACTION:display
DESCRIPTION:100 Days of Accessibility: Getting started on web accessibilit
 y in 5 minutes
TRIGGER:-PT5M
END:VALARM
END:VEVENT
BEGIN:VEVENT
SUMMARY:Exploring Inclusive Artificial Intelligence
DTSTART:20200521T154500Z
DTEND:20200521T162500Z
DTSTAMP:20260419T170650Z
UID:session/TYR2MpBod24heC2VL2UuZw@hasgeek.com
SEQUENCE:0
CREATED:20200519T091742Z
DESCRIPTION:\n
LAST-MODIFIED:20200519T091754Z
LOCATION:Online
ORGANIZER;CN=helloa11y:MAILTO:no-reply@hasgeek.com
BEGIN:VALARM
ACTION:display
DESCRIPTION:Exploring Inclusive Artificial Intelligence in 5 minutes
TRIGGER:-PT5M
END:VALARM
END:VEVENT
END:VCALENDAR
