BEGIN:VCALENDAR
VERSION:2.0
PRODID:-//HasGeek//NONSGML Funnel//EN
DESCRIPTION:Upskill your VueJS skills
X-WR-CALDESC:Upskill your VueJS skills
NAME:Hands-on tutorial: Building a real-time collaborative Vue.js app usin
 g GraphQL
X-WR-CALNAME:Hands-on tutorial: Building a real-time collaborative Vue.js 
 app using GraphQL
REFRESH-INTERVAL;VALUE=DURATION:PT12H
SUMMARY:Hands-on tutorial: Building a real-time collaborative Vue.js app u
 sing GraphQL
TIMEZONE-ID:Asia/Kolkata
X-PUBLISHED-TTL:PT12H
X-WR-TIMEZONE:Asia/Kolkata
BEGIN:VEVENT
SUMMARY:Check-in and onsite registrations
DTSTART:20191109T040000Z
DTEND:20191109T042000Z
DTSTAMP:20260421T222450Z
UID:session/6YPjejnYTLCm7jy31b8Uvq@hasgeek.com
SEQUENCE:0
CREATED:20190901T113513Z
DESCRIPTION:\n
LAST-MODIFIED:20191015T074000Z
LOCATION:Bangalore
ORGANIZER;CN=Hasura:MAILTO:no-reply@hasgeek.com
BEGIN:VALARM
ACTION:display
DESCRIPTION:Check-in and onsite registrations in 5 minutes
TRIGGER:-PT5M
END:VALARM
END:VEVENT
BEGIN:VEVENT
SUMMARY:Introduction to the tutorial\; introduction of the trainer
DTSTART:20191109T042000Z
DTEND:20191109T043000Z
DTSTAMP:20260421T222450Z
UID:session/NAX9CYZ9zxxRfK8SBrYeRL@hasgeek.com
SEQUENCE:0
CREATED:20190901T113539Z
DESCRIPTION:\n
LAST-MODIFIED:20191015T074003Z
LOCATION:Bangalore
ORGANIZER;CN=Hasura:MAILTO:no-reply@hasgeek.com
BEGIN:VALARM
ACTION:display
DESCRIPTION:Introduction to the tutorial\; introduction of the trainer in 
 5 minutes
TRIGGER:-PT5M
END:VALARM
END:VEVENT
BEGIN:VEVENT
SUMMARY:Introduction to GraphQL with demos: familiarizing ourselves with k
 ey concepts including queries\, mutations and subscriptions.
DTSTART:20191109T043000Z
DTEND:20191109T050000Z
DTSTAMP:20260421T222450Z
UID:session/5PRfAAsqoAm9CSwXMPsG7R@hasgeek.com
SEQUENCE:0
CREATED:20190901T113643Z
DESCRIPTION:\n
LAST-MODIFIED:20191015T074005Z
LOCATION:Bangalore
ORGANIZER;CN=Hasura:MAILTO:no-reply@hasgeek.com
BEGIN:VALARM
ACTION:display
DESCRIPTION:Introduction to GraphQL with demos: familiarizing ourselves wi
 th key concepts including queries\, mutations and subscriptions. in 5 minu
 tes
TRIGGER:-PT5M
END:VALARM
END:VEVENT
BEGIN:VEVENT
SUMMARY:Hands-on session: Clone an existing Vue.js app which has boilerpla
 te UI
DTSTART:20191109T050000Z
DTEND:20191109T052000Z
DTSTAMP:20260421T222450Z
UID:session/81LzmALqnHJtF2X1FYCdFB@hasgeek.com
SEQUENCE:0
CREATED:20190901T113738Z
DESCRIPTION:\n
LAST-MODIFIED:20191015T074007Z
LOCATION:Bangalore
ORGANIZER;CN=Hasura:MAILTO:no-reply@hasgeek.com
BEGIN:VALARM
ACTION:display
DESCRIPTION:Hands-on session: Clone an existing Vue.js app which has boile
 rplate UI in 5 minutes
TRIGGER:-PT5M
END:VALARM
END:VEVENT
BEGIN:VEVENT
SUMMARY:Hands-on sessions for building real-time to-do app in VueJS using 
 GraphQL
DTSTART:20191109T052000Z
DTEND:20191109T060000Z
DTSTAMP:20260421T222450Z
UID:session/85Yr3PJne16CxV7iGzM81T@hasgeek.com
SEQUENCE:1
CREATED:20190901T113922Z
DESCRIPTION:Hands-on exercises will include: \n\n1. Set up vue-apollo for 
 GraphQL configuration.\n2. Integrate a query for fetching todos.\n3. Integ
 rate mutations for inserting\, updating and deleting todos.\n
LAST-MODIFIED:20230108T103046Z
LOCATION:Bangalore
ORGANIZER;CN=Hasura:MAILTO:no-reply@hasgeek.com
BEGIN:VALARM
ACTION:display
DESCRIPTION:Hands-on sessions for building real-time to-do app in VueJS us
 ing GraphQL in 5 minutes
TRIGGER:-PT5M
END:VALARM
END:VEVENT
BEGIN:VEVENT
SUMMARY:Morning beverage break
DTSTART:20191109T060000Z
DTEND:20191109T062000Z
DTSTAMP:20260421T222450Z
UID:session/USuCKuWSpxKJ7bEmi675Ay@hasgeek.com
SEQUENCE:0
CREATED:20190901T114538Z
DESCRIPTION:\n
LAST-MODIFIED:20191015T074011Z
LOCATION:Bangalore
ORGANIZER;CN=Hasura:MAILTO:no-reply@hasgeek.com
BEGIN:VALARM
ACTION:display
DESCRIPTION:Morning beverage break in 5 minutes
TRIGGER:-PT5M
END:VALARM
END:VEVENT
BEGIN:VEVENT
SUMMARY:Hands-on session to build real-time to-do app with VueJS
DTSTART:20191109T062000Z
DTEND:20191109T071000Z
DTSTAMP:20260421T222450Z
UID:session/LbqiYbD6otj6obX1z8M1iD@hasgeek.com
SEQUENCE:1
CREATED:20190901T114651Z
DESCRIPTION:The hands-on exercises include: \n\n1. Test out authentication
 .\n2. Setup subscriptions module to listen to online users and update code
 .\n3. Code for managing realtime feed.\n
LAST-MODIFIED:20230108T103046Z
LOCATION:Bangalore
ORGANIZER;CN=Hasura:MAILTO:no-reply@hasgeek.com
BEGIN:VALARM
ACTION:display
DESCRIPTION:Hands-on session to build real-time to-do app with VueJS in 5 
 minutes
TRIGGER:-PT5M
END:VALARM
END:VEVENT
BEGIN:VEVENT
SUMMARY:Recap of backend setup\; how the APIs were configured.
DTSTART:20191109T071000Z
DTEND:20191109T073500Z
DTSTAMP:20260421T222450Z
UID:session/WfK2RAUHXhcMG9CEpMTKuW@hasgeek.com
SEQUENCE:0
CREATED:20190901T114732Z
DESCRIPTION:\n
LAST-MODIFIED:20191015T074016Z
LOCATION:Bangalore
ORGANIZER;CN=Hasura:MAILTO:no-reply@hasgeek.com
BEGIN:VALARM
ACTION:display
DESCRIPTION:Recap of backend setup\; how the APIs were configured. in 5 mi
 nutes
TRIGGER:-PT5M
END:VALARM
END:VEVENT
BEGIN:VEVENT
SUMMARY:Q&A session\; sharing experiences
DTSTART:20191109T073500Z
DTEND:20191109T080000Z
DTSTAMP:20260421T222450Z
UID:session/GBBHioPBhmbWuMCNDBt7Aq@hasgeek.com
SEQUENCE:0
CREATED:20190901T114812Z
DESCRIPTION:\n
LAST-MODIFIED:20191015T074017Z
LOCATION:Bangalore
ORGANIZER;CN=Hasura:MAILTO:no-reply@hasgeek.com
BEGIN:VALARM
ACTION:display
DESCRIPTION:Q&A session\; sharing experiences in 5 minutes
TRIGGER:-PT5M
END:VALARM
END:VEVENT
END:VCALENDAR
