BEGIN:VCALENDAR
VERSION:2.0
PRODID:-//HasGeek//NONSGML Funnel//EN
DESCRIPTION:In 2020\, Hasgeek turns a decade old. Here’s a recap
X-WR-CALDESC:In 2020\, Hasgeek turns a decade old. Here’s a recap
NAME:Ten years of Hasgeek
X-WR-CALNAME:Ten years of Hasgeek
REFRESH-INTERVAL;VALUE=DURATION:PT12H
SUMMARY:Ten years of Hasgeek
TIMEZONE-ID:Asia/Kolkata
X-PUBLISHED-TTL:PT12H
X-WR-TIMEZONE:Asia/Kolkata
BEGIN:VEVENT
SUMMARY:Reliving memories - Hasgeek turns 10
DTSTART:20201215T130000Z
DTEND:20201215T140000Z
DTSTAMP:20260421T205210Z
UID:session/4WjNToN59PzasukEarCUu7@hasgeek.com
SEQUENCE:1
CREATED:20201215T031202Z
DESCRIPTION:Join us as we celebrate Hasgeek's 10th anniversary\, with virt
 ual cake and your favorite beverage!\n
LAST-MODIFIED:20230108T103046Z
LOCATION:Online
ORGANIZER;CN=Hasgeek:MAILTO:no-reply@hasgeek.com
BEGIN:VALARM
ACTION:display
DESCRIPTION:Reliving memories - Hasgeek turns 10 in 5 minutes
TRIGGER:-PT5M
END:VALARM
END:VEVENT
END:VCALENDAR
