BEGIN:VCALENDAR
VERSION:2.0
PRODID:-//HasGeek//NONSGML Funnel//EN
DESCRIPTION:Meet-up for founders of robotics startups
X-WR-CALDESC:Meet-up for founders of robotics startups
NAME:December meet-up
X-WR-CALNAME:December meet-up
REFRESH-INTERVAL;VALUE=DURATION:PT12H
SUMMARY:December meet-up
TIMEZONE-ID:Asia/Kolkata
X-PUBLISHED-TTL:PT12H
X-WR-TIMEZONE:Asia/Kolkata
BEGIN:VEVENT
SUMMARY:Raising funds for early stage Robotics startups
DTSTART:20231201T110000Z
DTEND:20231201T113000Z
DTSTAMP:20260422T001834Z
UID:session/GrWJ4gMBypM8v3YF7fqFKL@hasgeek.com
SEQUENCE:4
CREATED:20231129T040733Z
LAST-MODIFIED:20231207T105726Z
LOCATION:Accio office (HSR Layout)
ORGANIZER;CN=GolemCo:MAILTO:no-reply@hasgeek.com
BEGIN:VALARM
ACTION:display
DESCRIPTION:Raising funds for early stage Robotics startups in 5 minutes
TRIGGER:-PT5M
END:VALARM
END:VEVENT
END:VCALENDAR
