BEGIN:VCALENDAR
VERSION:2.0
PRODID:-//HasGeek//NONSGML Funnel//EN
DESCRIPTION:Meet-up for founders of robotics startups
X-WR-CALDESC:Meet-up for founders of robotics startups
NAME:July meet-up
X-WR-CALNAME:July meet-up
REFRESH-INTERVAL;VALUE=DURATION:PT12H
SUMMARY:July meet-up
TIMEZONE-ID:Asia/Kolkata
X-PUBLISHED-TTL:PT12H
X-WR-TIMEZONE:Asia/Kolkata
BEGIN:VEVENT
SUMMARY:July meet-up
DTSTART:20230705T102000Z
DTEND:20230705T133000Z
DTSTAMP:20260421T165030Z
UID:session/ERyMWRNDSYViYjePyjojYZ@hasgeek.com
SEQUENCE:16
CREATED:20230701T063823Z
DESCRIPTION:This meet-up is an overview of:\n\n1. Practical challenges inv
 olved in running robotics startups.\n2. Funding landscape for deep tech an
 d robotics companies.\n\nKarthik Reddy (Blume Ventures)\, Soumyadeep Mukhe
 rjee (Dashtoon) and Saurabh Chandra (Ati Motors) will speak at the meet-up
 .   
LAST-MODIFIED:20230713T161344Z
LOCATION:Bangalore - https://hasgeek.com/golemco/2023-07/
ORGANIZER;CN=GolemCo:MAILTO:no-reply@hasgeek.com
URL:https://hasgeek.com/golemco/2023-07/
BEGIN:VALARM
ACTION:display
DESCRIPTION:July meet-up in 5 minutes
TRIGGER:-PT5M
END:VALARM
END:VEVENT
END:VCALENDAR
