BEGIN:VCALENDAR
VERSION:2.0
PRODID:-//HasGeek//NONSGML Funnel//EN
DESCRIPTION:This meetup is in Bangalore for women who write Javascript or 
 who wish to learn Javascript
X-WR-CALDESC:This meetup is in Bangalore for women who write Javascript or
  who wish to learn Javascript
NAME:Online meetup  18
X-WR-CALNAME:Online meetup  18
REFRESH-INTERVAL;VALUE=DURATION:PT12H
SUMMARY:Online meetup  18
TIMEZONE-ID:Asia/Kolkata
X-PUBLISHED-TTL:PT12H
X-WR-TIMEZONE:Asia/Kolkata
BEGIN:VEVENT
SUMMARY:Online meetup  18
DTSTART:20220806T053000Z
DTEND:20220806T063000Z
DTSTAMP:20260421T210316Z
UID:session/76XWJx39fiHxT1BkE9asA7@hasgeek.com
SEQUENCE:8
CREATED:20220722T061450Z
DESCRIPTION:Girls who JS meetup 18\n\nA meetup for women who write JavaScr
 ipt (or who want to learn JavaScript). Come discuss your work\, interests\
 , and ideas! \n
LAST-MODIFIED:20230108T102931Z
LOCATION:Bangalore - https://hasgeek.com/girls_who_javascript/online-meetu
 p-18/
ORGANIZER;CN="Girls Who Javascript":MAILTO:no-reply@hasgeek.com
URL:https://hasgeek.com/girls_who_javascript/online-meetup-18/
BEGIN:VALARM
ACTION:display
DESCRIPTION:Online meetup  18 in 5 minutes
TRIGGER:-PT5M
END:VALARM
END:VEVENT
END:VCALENDAR
