BEGIN:VCALENDAR
VERSION:2.0
PRODID:-//HasGeek//NONSGML Funnel//EN
DESCRIPTION:This meetup is in Bangalore for women who write Javascript or 
 who wish to learn Javascript
X-WR-CALDESC:This meetup is in Bangalore for women who write Javascript or
  who wish to learn Javascript
NAME:Meetup 9
X-WR-CALNAME:Meetup 9
REFRESH-INTERVAL;VALUE=DURATION:PT12H
SUMMARY:Meetup 9
TIMEZONE-ID:Asia/Kolkata
X-PUBLISHED-TTL:PT12H
X-WR-TIMEZONE:Asia/Kolkata
BEGIN:VEVENT
SUMMARY:Application Performance
DTSTART:20180923T053000Z
DTEND:20180923T061500Z
DTSTAMP:20260421T192058Z
UID:session/KE9iu4NNAA7SgLhyYYdTqu@hasgeek.com
SEQUENCE:2
CATEGORIES:Beginner
CREATED:20190705T071809Z
DESCRIPTION:There is no point building an app with so much effort when it 
 does not work properly on show devices or if does not load or if it loaded
  superfast but slowed down in case of interactions. This talk is basically
  to share my views on performance\, its measurement\, considerations and i
 ts improvement\n\n### Speaker bio\n\nIn relationship with JS from past 5 y
 rs. Employee of Flipkart and explorer from heart.\n
LAST-MODIFIED:20230810T072606Z
LOCATION:Meetup room - HasGeek house\nIN
ORGANIZER;CN="Girls Who Javascript":MAILTO:no-reply@hasgeek.com
URL:https://hasgeek.com/girls_who_javascript/meetup9/schedule/application-
 performance-KE9iu4NNAA7SgLhyYYdTqu
BEGIN:VALARM
ACTION:display
DESCRIPTION:Application Performance in Meetup room in 5 minutes
TRIGGER:-PT5M
END:VALARM
END:VEVENT
BEGIN:VEVENT
SUMMARY:Let's talk about Web APIs
DTSTART:20180923T061500Z
DTEND:20180923T070000Z
DTSTAMP:20260421T192058Z
UID:session/UNrBcgrQmTogJzNGby4NjK@hasgeek.com
SEQUENCE:2
CATEGORIES:Beginner
CREATED:20190705T071817Z
DESCRIPTION:My experience working with Web APIs\n1. localStorage\n2. navig
 ator.onLine\n3. navigator.mediaDevices.getUserMedia\n4. getSelection\n5. p
 ostMessage \n6. document.querySelector\n\n### Speaker bio\n\nGot intereste
 d in web developement while building an educational [games website](http:/
 /discoveringthemind.appspot.com/) for my then toddler daughter. I can talk
  for hours about composting\, gardening and simple lifestyle changes to sa
 ve the environment!\nCurrently a front-end developer at HasGeek.\n
LAST-MODIFIED:20230810T072606Z
LOCATION:Meetup room - HasGeek house\nIN
ORGANIZER;CN="Girls Who Javascript":MAILTO:no-reply@hasgeek.com
URL:https://hasgeek.com/girls_who_javascript/meetup9/schedule/lets-talk-ab
 out-web-apis-UNrBcgrQmTogJzNGby4NjK
BEGIN:VALARM
ACTION:display
DESCRIPTION:Let's talk about Web APIs in Meetup room in 5 minutes
TRIGGER:-PT5M
END:VALARM
END:VEVENT
END:VCALENDAR
