BEGIN:VCALENDAR
VERSION:2.0
PRODID:-//HasGeek//NONSGML Funnel//EN
DESCRIPTION:Girls Who Javascript Meetup 8
X-WR-CALDESC:Girls Who Javascript Meetup 8
NAME:Meetup 8
X-WR-CALNAME:Meetup 8
REFRESH-INTERVAL;VALUE=DURATION:PT12H
SUMMARY:Meetup 8
TIMEZONE-ID:Asia/Kolkata
X-PUBLISHED-TTL:PT12H
X-WR-TIMEZONE:Asia/Kolkata
BEGIN:VEVENT
SUMMARY:Introduction to Webpack: Module Bundler
DTSTART:20180715T053000Z
DTEND:20180715T060500Z
DTSTAMP:20260421T222429Z
UID:session/KYMrmqhsemLkjqE5YBBfNP@hasgeek.com
SEQUENCE:2
CATEGORIES:Beginner
CREATED:20190705T071429Z
DESCRIPTION:1. Intro to Module Bundler\n   - What are JS Modules?\n   - Wh
 y JS Modules?\n   - What are module bunlders and how they help?\n   - Diff
 erent module bundlers.\n\n2. Introduction to Webpack\n  - What is webpack?
 \n  - Why Webpack?\n\n3. Concepts involed in Webpack using an example\n  -
  Entry\n  - Output\n  - Loader\n  - Plugins\n\n### Speaker bio\n\nAdisha P
 orwal is three year old Frontend engineer\, currently working for typeset.
 io.\n
LAST-MODIFIED:20230810T072606Z
LOCATION:Meetup room - Treebo Hotels Corporate Office\, Bommanahalli\, Ben
 galuru (primary)\nIN
ORGANIZER;CN="Girls Who Javascript":MAILTO:no-reply@hasgeek.com
URL:https://hasgeek.com/girls_who_javascript/meetup8/schedule/introduction
 -to-webpack-module-bundler-KYMrmqhsemLkjqE5YBBfNP
BEGIN:VALARM
ACTION:display
DESCRIPTION:Introduction to Webpack: Module Bundler in Meetup room in 5 mi
 nutes
TRIGGER:-PT5M
END:VALARM
END:VEVENT
BEGIN:VEVENT
SUMMARY:Building cross platform apps using React Native and ReactNative We
 b
DTSTART:20180715T060500Z
DTEND:20180715T064000Z
DTSTAMP:20260421T222429Z
UID:session/Jz9YTKSSeMGfLRjCUNR3Tv@hasgeek.com
SEQUENCE:2
CATEGORIES:Beginner
CREATED:20190705T071350Z
DESCRIPTION:- Why cross platform app?\n- Need and motivation\n- Evolution 
 of hybrid apps\n- Create React Native app\n- Aliasing with React Native we
 b to run the same code seemlessly on web\n- How to dive deeper: taking exa
 mples from successful companies already using it\n\n### Speaker bio\n\nI a
 m Toshi\, working as a UI developer at Flipkart - currently exploring Reac
 t Native!\n
LAST-MODIFIED:20230810T072606Z
LOCATION:Meetup room - Treebo Hotels Corporate Office\, Bommanahalli\, Ben
 galuru (primary)\nIN
ORGANIZER;CN="Girls Who Javascript":MAILTO:no-reply@hasgeek.com
URL:https://hasgeek.com/girls_who_javascript/meetup8/schedule/building-cro
 ss-platform-apps-using-react-native-and-reactnative-web-Jz9YTKSSeMGfLRjCUN
 R3Tv
BEGIN:VALARM
ACTION:display
DESCRIPTION:Building cross platform apps using React Native and ReactNativ
 e Web in Meetup room in 5 minutes
TRIGGER:-PT5M
END:VALARM
END:VEVENT
BEGIN:VEVENT
SUMMARY:How to GraphQL
DTSTART:20180715T064000Z
DTEND:20180715T072500Z
DTSTAMP:20260421T222429Z
UID:session/RzTVD22xTbNvfRBZa6TiUC@hasgeek.com
SEQUENCE:2
CATEGORIES:Beginner
CREATED:20190705T071446Z
DESCRIPTION:Agenda\n1. Why should i even bother using GraphQl?\n2. Creatin
 g your first GraphQl server- all about schemas\n3. Using Apollo client wit
 h React- consuming your GraphQl schemas in your project\n\n### Speaker bio
 \n\nCurrently working as Frontend Engineer at Treebo Hotels. Have over 3 y
 ears of experience working with Javascript and contributing to some amazin
 g products using D3.JS\, React\, React-native\, Redux\, GraphQl\, Apollo.\
 nhttps://twitter.com/constpragya\n
LAST-MODIFIED:20230810T072606Z
LOCATION:Meetup room - Treebo Hotels Corporate Office\, Bommanahalli\, Ben
 galuru (primary)\nIN
ORGANIZER;CN="Girls Who Javascript":MAILTO:no-reply@hasgeek.com
URL:https://hasgeek.com/girls_who_javascript/meetup8/schedule/how-to-graph
 ql-RzTVD22xTbNvfRBZa6TiUC
BEGIN:VALARM
ACTION:display
DESCRIPTION:How to GraphQL in Meetup room in 5 minutes
TRIGGER:-PT5M
END:VALARM
END:VEVENT
END:VCALENDAR
