BEGIN:VCALENDAR
VERSION:2.0
PRODID:-//HasGeek//NONSGML Funnel//EN
DESCRIPTION:Girls Who Javascript Meetup 7
X-WR-CALDESC:Girls Who Javascript Meetup 7
NAME:Meetup 7
X-WR-CALNAME:Meetup 7
REFRESH-INTERVAL;VALUE=DURATION:PT12H
SUMMARY:Meetup 7
TIMEZONE-ID:Asia/Kolkata
X-PUBLISHED-TTL:PT12H
X-WR-TIMEZONE:Asia/Kolkata
BEGIN:VEVENT
SUMMARY:How Browsers Work- Behind the scenes
DTSTART:20180610T054000Z
DTEND:20180610T062000Z
DTSTAMP:20260421T205235Z
UID:session/UNyLk8yjR3xsXQyZ8oN4Pb@hasgeek.com
SEQUENCE:2
CATEGORIES:Beginner
CREATED:20190705T071101Z
DESCRIPTION:-Introduction to browsers.\n-Architecture of browser.\n-Compon
 ent wise explanation. It will cover topics like DOM tree\, CSSOM\, Render 
 tree\, Layout.\n-Browser Engine and Browser UI.\n-Rendering engine(this wi
 ll be more about how browsers parse HTML/CSS codes\, there will be code ex
 amples)\n-JS Interpreter- Covers Javascript code parsing.\n-Why New versio
 n of firefox is fast? What is new there.\n\n### Speaker bio\n\nI am an ope
 n source contributor curretly working as software UI Engineer. I mostly wr
 ite Javascript and Rust. Also\, I am an Outreachy and RGSoC alumni. You ca
 n find more about me here: http://rakhisharma.in/\n
LAST-MODIFIED:20230810T072606Z
LOCATION:Meetup room - HasGeek house\nIN
ORGANIZER;CN="Girls Who Javascript":MAILTO:no-reply@hasgeek.com
URL:https://hasgeek.com/girls_who_javascript/meetup7/schedule/how-browsers
 -work-behind-the-scenes-UNyLk8yjR3xsXQyZ8oN4Pb
BEGIN:VALARM
ACTION:display
DESCRIPTION:How Browsers Work- Behind the scenes in Meetup room in 5 minut
 es
TRIGGER:-PT5M
END:VALARM
END:VEVENT
BEGIN:VEVENT
SUMMARY:How to Create a Responsive Website using basic CSS?
DTSTART:20180610T062000Z
DTEND:20180610T070500Z
DTSTAMP:20260421T205235Z
UID:session/HbGcL1Rs5v8Hs51e1R1Acs@hasgeek.com
SEQUENCE:2
CATEGORIES:Advanced
CREATED:20190705T071112Z
DESCRIPTION:Having a responsive web design is as critical as having a beau
 tiful layout. Here is how you can create a responsive website in a few ste
 ps using CSS!\n\n### Speaker bio\n\nFrontEnd Engineer Treebo Hotels\n
LAST-MODIFIED:20230810T072606Z
LOCATION:Meetup room - HasGeek house\nIN
ORGANIZER;CN="Girls Who Javascript":MAILTO:no-reply@hasgeek.com
URL:https://hasgeek.com/girls_who_javascript/meetup7/schedule/how-to-creat
 e-a-responsive-website-using-basic-css-HbGcL1Rs5v8Hs51e1R1Acs
BEGIN:VALARM
ACTION:display
DESCRIPTION:How to Create a Responsive Website using basic CSS? in Meetup 
 room in 5 minutes
TRIGGER:-PT5M
END:VALARM
END:VEVENT
BEGIN:VEVENT
SUMMARY:Javascript Basic Concepts
DTSTART:20180610T070500Z
DTEND:20180610T075000Z
DTSTAMP:20260421T205235Z
UID:session/7VoCN54pfqvaYQR3QL72EL@hasgeek.com
SEQUENCE:2
CATEGORIES:Beginner
CREATED:20190705T071123Z
DESCRIPTION:Topics to be covered - \n    1. Promises\, \n    2. Array - Ma
 p Reduce filter\, \n    3. Javascript Objects - this\,  \n    4. Apply\, B
 ind\, Call\n\n### Speaker bio\n\n4 year old front end developer. Currently
  working @ Flipkart\n
LAST-MODIFIED:20230810T072606Z
LOCATION:Meetup room - HasGeek house\nIN
ORGANIZER;CN="Girls Who Javascript":MAILTO:no-reply@hasgeek.com
URL:https://hasgeek.com/girls_who_javascript/meetup7/schedule/javascript-b
 asic-concepts-7VoCN54pfqvaYQR3QL72EL
BEGIN:VALARM
ACTION:display
DESCRIPTION:Javascript Basic Concepts in Meetup room in 5 minutes
TRIGGER:-PT5M
END:VALARM
END:VEVENT
END:VCALENDAR
