BEGIN:VCALENDAR
VERSION:2.0
PRODID:-//HasGeek//NONSGML Funnel//EN
DESCRIPTION:This meetup is in Bangalore for women who write Javascript or 
 who wish to learn Javascript
X-WR-CALDESC:This meetup is in Bangalore for women who write Javascript or
  who wish to learn Javascript
NAME:Girls Who Javascript - Meetup 10
X-WR-CALNAME:Girls Who Javascript - Meetup 10
REFRESH-INTERVAL;VALUE=DURATION:PT12H
SUMMARY:Girls Who Javascript - Meetup 10
TIMEZONE-ID:Asia/Kolkata
X-PUBLISHED-TTL:PT12H
X-WR-TIMEZONE:Asia/Kolkata
BEGIN:VEVENT
SUMMARY:Understanding Javascript Quirks
DTSTART:20181118T053000Z
DTEND:20181118T061500Z
DTSTAMP:20260421T210228Z
UID:session/52HTvzCQryrnuv4zQfioeu@hasgeek.com
SEQUENCE:2
CATEGORIES:Beginner
CREATED:20190705T072046Z
DESCRIPTION:We have all come across the following quirky questions in quiz
 zes or interviews:\n\n```\nvar a = 20\;\nfunction foo() { \n   console.log
 (a)\n   var a = 10\;\n   return function a() {}\n}\n// Outputs function a(
 ){}\n```\nor\n\n```\n{} + [] = 0\n\n[] + {} = "[object Object]"\n\n{} + {}
  = NaN\n\n({} + {}) = "[object Object][object Object]"\n```\n\nThis talk i
 s aimed at understanding the Javascript language features behind such beha
 viour such as hoisting\, automatic type conversion for various operators\,
  `ToPrimitive` internal algorithm to name a few.\n\n### Speaker bio\n\nHi\
 , I am Anupama. I work as a UI engineer in Unbxd where I am part of the te
 am that is building a new product\n
LAST-MODIFIED:20230810T072606Z
LOCATION:Meetup room - Razorpay\nIN
ORGANIZER;CN="Girls Who Javascript":MAILTO:no-reply@hasgeek.com
URL:https://hasgeek.com/girls_who_javascript/meetup10/schedule/understandi
 ng-javascript-quirks-52HTvzCQryrnuv4zQfioeu
BEGIN:VALARM
ACTION:display
DESCRIPTION:Understanding Javascript Quirks in Meetup room in 5 minutes
TRIGGER:-PT5M
END:VALARM
END:VEVENT
END:VCALENDAR
