BEGIN:VCALENDAR
VERSION:2.0
PRODID:-//HasGeek//NONSGML Funnel//EN
DESCRIPTION:Girls Who Javascript Meetup 6
X-WR-CALDESC:Girls Who Javascript Meetup 6
NAME:Meetup 6
X-WR-CALNAME:Meetup 6
REFRESH-INTERVAL;VALUE=DURATION:PT12H
SUMMARY:Meetup 6
TIMEZONE-ID:Asia/Kolkata
X-PUBLISHED-TTL:PT12H
X-WR-TIMEZONE:Asia/Kolkata
BEGIN:VEVENT
SUMMARY:Introductions
DTSTART:20180506T053000Z
DTEND:20180506T054000Z
DTSTAMP:20260421T192108Z
UID:session/EwgM6Bcart1AuHHeuSGjxB@hasgeek.com
SEQUENCE:0
CREATED:20190705T070751Z
DESCRIPTION:\n
LAST-MODIFIED:20190705T070755Z
LOCATION:Meetup room - Treebo Hotels Corporate Office\, Bommanahalli\, Ben
 galuru\nIN
ORGANIZER;CN="Girls Who Javascript":MAILTO:no-reply@hasgeek.com
BEGIN:VALARM
ACTION:display
DESCRIPTION:Introductions in Meetup room in 5 minutes
TRIGGER:-PT5M
END:VALARM
END:VEVENT
BEGIN:VEVENT
SUMMARY:An overview of Vue.js
DTSTART:20180506T054000Z
DTEND:20180506T062000Z
DTSTAMP:20260421T192108Z
UID:session/D597UFn9hdvSr1WqF3FwoN@hasgeek.com
SEQUENCE:2
CATEGORIES:Beginner
CREATED:20180322T163217Z
DESCRIPTION:1. What is Vue.js\n2. Experience rewriting HasGeek TV(in jquer
 y) to SPA using Vue.js\n3. It's features like html based templates\, props
 \, directives\, computed properties\, filters\, mixins\, reusable componen
 t\, single file component.\n4. HasGeek TV app has many admin pages with fo
 rms. Our python flask backend has the capability to generate HTML forms an
 d render them. General format that we follow when we require form for an a
 pplication is as simple as defining the forms fields and backend takes car
 e of providing the form html along with the javascript assets required lik
 e multiselect\, tinymce\, etc. Vue's dynamic components and computed prope
 rties helped us reuse the backend generated form (html and associated JS l
 ibrary) and saved us from writing the HTML all over again.\n4. Vue cli\n4.
  vue-router\n\n### Speaker bio\n\nGot interested in web developement while
  building an educational games website(http://discoveringthemind.appspot.c
 om/) for my then toddler daughter. I can talk for hours about composting\,
  gardening and simple lifestyle changes to save the environment!\nCurrentl
 y a front-end developer at HasGeek.\n
LAST-MODIFIED:20230810T072606Z
LOCATION:Meetup room - Treebo Hotels Corporate Office\, Bommanahalli\, Ben
 galuru\nIN
ORGANIZER;CN="Girls Who Javascript":MAILTO:no-reply@hasgeek.com
URL:https://hasgeek.com/girls_who_javascript/meetup-6/schedule/an-overview
 -of-vue-js-D597UFn9hdvSr1WqF3FwoN
BEGIN:VALARM
ACTION:display
DESCRIPTION:An overview of Vue.js in Meetup room in 5 minutes
TRIGGER:-PT5M
END:VALARM
END:VEVENT
BEGIN:VEVENT
SUMMARY:JS Design Patterns
DTSTART:20180506T062000Z
DTEND:20180506T070500Z
DTSTAMP:20260421T192108Z
UID:session/WyLUB3fukP8FxM4cpEMP3u@hasgeek.com
SEQUENCE:2
CATEGORIES:Beginner
CREATED:20180322T163237Z
DESCRIPTION:Design patterns have two major benefits. First\, they provide 
 you with a way to solve issues related to software development using a pro
 ven solution. The solution facilitates the development of highly cohesive 
 modules with minimal coupling. Second\, design patterns make communication
  between designers more efficient. Will discuss top 5 design patterns in d
 etail.\n\n### Speaker bio\n\nI love design patterns as they make our life 
 much easier. Want to share my experience on the same.\n
LAST-MODIFIED:20230810T072606Z
LOCATION:Meetup room - Treebo Hotels Corporate Office\, Bommanahalli\, Ben
 galuru\nIN
ORGANIZER;CN="Girls Who Javascript":MAILTO:no-reply@hasgeek.com
URL:https://hasgeek.com/girls_who_javascript/meetup-6/schedule/js-design-p
 atterns-WyLUB3fukP8FxM4cpEMP3u
BEGIN:VALARM
ACTION:display
DESCRIPTION:JS Design Patterns in Meetup room in 5 minutes
TRIGGER:-PT5M
END:VALARM
END:VEVENT
END:VCALENDAR
