BEGIN:VCALENDAR
VERSION:2.0
PRODID:-//HasGeek//NONSGML Funnel//EN
DESCRIPTION:This is an online meetup for women who write Javascript or who
  wish to learn Javascript
X-WR-CALDESC:This is an online meetup for women who write Javascript or wh
 o wish to learn Javascript
NAME:Meetup 17
X-WR-CALNAME:Meetup 17
REFRESH-INTERVAL;VALUE=DURATION:PT12H
SUMMARY:Meetup 17
TIMEZONE-ID:Asia/Kolkata
X-PUBLISHED-TTL:PT12H
X-WR-TIMEZONE:Asia/Kolkata
BEGIN:VEVENT
SUMMARY:Introduction
DTSTART:20201031T083000Z
DTEND:20201031T085000Z
DTSTAMP:20260421T223430Z
UID:session/MLNHL8LmJsRAm6oHicJ3Uc@hasgeek.com
SEQUENCE:0
CREATED:20201022T071937Z
DESCRIPTION:\n
LAST-MODIFIED:20201022T071937Z
LOCATION:Online
ORGANIZER;CN="Girls Who Javascript":MAILTO:no-reply@hasgeek.com
BEGIN:VALARM
ACTION:display
DESCRIPTION:Introduction in 5 minutes
TRIGGER:-PT5M
END:VALARM
END:VEVENT
BEGIN:VEVENT
SUMMARY:Talk 1
DTSTART:20201031T085000Z
DTEND:20201031T092500Z
DTSTAMP:20260421T223430Z
UID:session/XPTHKBiqqP7HoZ4UPSWiss@hasgeek.com
SEQUENCE:0
CREATED:20201022T071952Z
DESCRIPTION:\n
LAST-MODIFIED:20201022T071952Z
LOCATION:Online
ORGANIZER;CN="Girls Who Javascript":MAILTO:no-reply@hasgeek.com
BEGIN:VALARM
ACTION:display
DESCRIPTION:Talk 1 in 5 minutes
TRIGGER:-PT5M
END:VALARM
END:VEVENT
BEGIN:VEVENT
SUMMARY:break
DTSTART:20201031T092500Z
DTEND:20201031T093000Z
DTSTAMP:20260421T223430Z
UID:session/Px3wCaiaUdXuw1hJqgVCa6@hasgeek.com
SEQUENCE:0
CREATED:20201022T072009Z
DESCRIPTION:\n
LAST-MODIFIED:20201022T072018Z
LOCATION:Online
ORGANIZER;CN="Girls Who Javascript":MAILTO:no-reply@hasgeek.com
BEGIN:VALARM
ACTION:display
DESCRIPTION:break in 5 minutes
TRIGGER:-PT5M
END:VALARM
END:VEVENT
BEGIN:VEVENT
SUMMARY:Talk 2
DTSTART:20201031T093000Z
DTEND:20201031T100500Z
DTSTAMP:20260421T223430Z
UID:session/WKEhcRe874ZkSaPkAhmwCA@hasgeek.com
SEQUENCE:0
CREATED:20201022T072037Z
DESCRIPTION:\n
LAST-MODIFIED:20201022T072037Z
LOCATION:Online
ORGANIZER;CN="Girls Who Javascript":MAILTO:no-reply@hasgeek.com
BEGIN:VALARM
ACTION:display
DESCRIPTION:Talk 2 in 5 minutes
TRIGGER:-PT5M
END:VALARM
END:VEVENT
BEGIN:VEVENT
SUMMARY:Talk 3
DTSTART:20201031T100500Z
DTEND:20201031T103000Z
DTSTAMP:20260421T223430Z
UID:session/W2HvLA3KHvdVvZZgdR6RxW@hasgeek.com
SEQUENCE:0
CREATED:20201022T072052Z
DESCRIPTION:\n
LAST-MODIFIED:20201022T072052Z
LOCATION:Online
ORGANIZER;CN="Girls Who Javascript":MAILTO:no-reply@hasgeek.com
BEGIN:VALARM
ACTION:display
DESCRIPTION:Talk 3 in 5 minutes
TRIGGER:-PT5M
END:VALARM
END:VEVENT
END:VCALENDAR
