BEGIN:VCALENDAR
VERSION:2.0
PRODID:-//HasGeek//NONSGML Funnel//EN
DESCRIPTION:This meetup is in Bangalore for women who write Javascript or 
 who wish to learn Javascript
X-WR-CALDESC:This meetup is in Bangalore for women who write Javascript or
  who wish to learn Javascript
NAME:Meetup 13
X-WR-CALNAME:Meetup 13
REFRESH-INTERVAL;VALUE=DURATION:PT12H
SUMMARY:Meetup 13
TIMEZONE-ID:Asia/Kolkata
X-PUBLISHED-TTL:PT12H
X-WR-TIMEZONE:Asia/Kolkata
BEGIN:VEVENT
SUMMARY:Introduction
DTSTART:20191207T083000Z
DTEND:20191207T084000Z
DTSTAMP:20260421T205210Z
UID:session/JrW7D7RiSiTF6B5dXjYKzZ@hasgeek.com
SEQUENCE:0
CREATED:20191015T042321Z
DESCRIPTION:\n
LAST-MODIFIED:20191114T132604Z
LOCATION:Bangalore
ORGANIZER;CN="Girls Who Javascript":MAILTO:no-reply@hasgeek.com
BEGIN:VALARM
ACTION:display
DESCRIPTION:Introduction in 5 minutes
TRIGGER:-PT5M
END:VALARM
END:VEVENT
BEGIN:VEVENT
SUMMARY:ReactJS (technical - handon session)
DTSTART:20191207T084000Z
DTEND:20191207T113000Z
DTSTAMP:20260421T205210Z
UID:session/5KYLppUkQ8oWdoo5QsT4hJ@hasgeek.com
SEQUENCE:2
CATEGORIES:Intermediate,Workshop
CREATED:20191114T132524Z
DESCRIPTION:Stressing on basics of reactjs and covering main concepts:\n1.
  Introduction to react and rendering elements\n2. Components and Props and
  State\n3. Handling Events\n4. Lists and Keys\n5. Lifting State Up\n6. Han
 don tutorial to teach above concepts on the go\n\n### Speaker bio\n\nI wor
 k for Mckinsey Digital Labs which is an arm of Mckinsey&Company. I am a fu
 ll stack develop and have worked in technologies such as nodejs\, angularj
 s and reactjs. I completed my Btech (IT) from VIT University\,Vellore. I h
 ave worked in developing softwares for companies in the insurance and cons
 umer section.\n
LAST-MODIFIED:20230810T072606Z
LOCATION:Bangalore
ORGANIZER;CN="Girls Who Javascript":MAILTO:no-reply@hasgeek.com
URL:https://hasgeek.com/girls_who_javascript/meetup-13/schedule/reactjs-te
 chnical-handon-session-5KYLppUkQ8oWdoo5QsT4hJ
BEGIN:VALARM
ACTION:display
DESCRIPTION:ReactJS (technical - handon session) in 5 minutes
TRIGGER:-PT5M
END:VALARM
END:VEVENT
END:VCALENDAR
