BEGIN:VCALENDAR
VERSION:2.0
PRODID:-//HasGeek//NONSGML Funnel//EN
DESCRIPTION:This meetup is in Bangalore for women who write Javascript or 
 who wish to learn Javascript
X-WR-CALDESC:This meetup is in Bangalore for women who write Javascript or
  who wish to learn Javascript
NAME:Meetup 12
X-WR-CALNAME:Meetup 12
REFRESH-INTERVAL;VALUE=DURATION:PT12H
SUMMARY:Meetup 12
TIMEZONE-ID:Asia/Kolkata
X-PUBLISHED-TTL:PT12H
X-WR-TIMEZONE:Asia/Kolkata
BEGIN:VEVENT
SUMMARY:Introductions
DTSTART:20191207T083000Z
DTEND:20191207T085000Z
DTSTAMP:20260421T222450Z
UID:session/YESkdnSDJgP4zH8jgvqU9c@hasgeek.com
SEQUENCE:0
CREATED:20191014T042900Z
DESCRIPTION:\n
LAST-MODIFIED:20191014T042906Z
LOCATION:Bangalore
ORGANIZER;CN="Girls Who Javascript":MAILTO:no-reply@hasgeek.com
BEGIN:VALARM
ACTION:display
DESCRIPTION:Introductions in 5 minutes
TRIGGER:-PT5M
END:VALARM
END:VEVENT
BEGIN:VEVENT
SUMMARY:Docker for front end engineers
DTSTART:20191207T085000Z
DTEND:20191207T093000Z
DTSTAMP:20260421T222450Z
UID:session/6d7Tw6FXaTk4YXP4iiKhDw@hasgeek.com
SEQUENCE:2
CREATED:20191015T042819Z
DESCRIPTION:We will learn the what\, why & how of docker and also dockeriz
 e a sample front end project. We will also learn the various commands avai
 lable at our disposal while working with docker.\n\n### Speaker bio\n\nHi\
 , I am Anupama. I work as a UI engineer in Unbxd where I am part of the te
 am that is building a new product\n
GEO:12.926958536192009;77.68278121948244
LAST-MODIFIED:20230810T072606Z
LOCATION:7th floor\, Mahal room - Linkedin office\nBengaluru\nIN
ORGANIZER;CN="Girls Who Javascript":MAILTO:no-reply@hasgeek.com
URL:https://hasgeek.com/girls_who_javascript/meetup-12/schedule/docker-for
 -front-end-engineers-6d7Tw6FXaTk4YXP4iiKhDw
BEGIN:VALARM
ACTION:display
DESCRIPTION:Docker for front end engineers in 7th floor\, Mahal room in 5 
 minutes
TRIGGER:-PT5M
END:VALARM
END:VEVENT
BEGIN:VEVENT
SUMMARY:Tea break
DTSTART:20191207T093000Z
DTEND:20191207T095000Z
DTSTAMP:20260421T222450Z
UID:session/R2wM9uKo5MZJanhKPwkQq6@hasgeek.com
SEQUENCE:0
CREATED:20191015T042910Z
DESCRIPTION:\n
LAST-MODIFIED:20191015T042916Z
LOCATION:Bangalore
ORGANIZER;CN="Girls Who Javascript":MAILTO:no-reply@hasgeek.com
BEGIN:VALARM
ACTION:display
DESCRIPTION:Tea break in 5 minutes
TRIGGER:-PT5M
END:VALARM
END:VEVENT
BEGIN:VEVENT
SUMMARY:Critical rendering path - Sequence of steps browser carries to ren
 der html
DTSTART:20191207T095000Z
DTEND:20191207T103000Z
DTSTAMP:20260421T222450Z
UID:session/NPmCK6FK4H3VQgmsnTiBoA@hasgeek.com
SEQUENCE:2
CREATED:20191015T042921Z
DESCRIPTION:Key take aways would be how DOM gets constructed\,how DOM can 
 be partially loaded\, CSS object model(CSSOM)\, why cssom is renderblockin
 g.\n\n### Speaker bio\n\nI am Kavitha I work as Senior Developer at Tesco.
  I am passionate about coding also share little things which I learn. Also
  love to empower women more in technology.\n
GEO:12.926958536192009;77.68278121948244
LAST-MODIFIED:20230810T072606Z
LOCATION:7th floor\, Mahal room - Linkedin office\nBengaluru\nIN
ORGANIZER;CN="Girls Who Javascript":MAILTO:no-reply@hasgeek.com
URL:https://hasgeek.com/girls_who_javascript/meetup-12/schedule/critical-r
 endering-path-sequence-of-steps-browser-carries-to-render-html-NPmCK6FK4H3
 VQgmsnTiBoA
BEGIN:VALARM
ACTION:display
DESCRIPTION:Critical rendering path - Sequence of steps browser carries to
  render html in 7th floor\, Mahal room in 5 minutes
TRIGGER:-PT5M
END:VALARM
END:VEVENT
BEGIN:VEVENT
SUMMARY:TEA BREAK
DTSTART:20191207T103000Z
DTEND:20191207T105000Z
DTSTAMP:20260421T222450Z
UID:session/BwiXUQtG3VP1fx22jFJKfk@hasgeek.com
SEQUENCE:0
CREATED:20191015T043017Z
DESCRIPTION:\n
LAST-MODIFIED:20191015T043020Z
LOCATION:Bangalore
ORGANIZER;CN="Girls Who Javascript":MAILTO:no-reply@hasgeek.com
BEGIN:VALARM
ACTION:display
DESCRIPTION:TEA BREAK in 5 minutes
TRIGGER:-PT5M
END:VALARM
END:VEVENT
BEGIN:VEVENT
SUMMARY:Performance discussion
DTSTART:20191207T105000Z
DTEND:20191207T113500Z
DTSTAMP:20260421T222450Z
UID:session/8mMGKxk9993UfrKH1RVjcB@hasgeek.com
SEQUENCE:0
CREATED:20191015T042948Z
DESCRIPTION:\n
GEO:12.926958536192009;77.68278121948244
LAST-MODIFIED:20191015T043006Z
LOCATION:7th floor\, Mahal room - Linkedin office\nBengaluru\nIN
ORGANIZER;CN="Girls Who Javascript":MAILTO:no-reply@hasgeek.com
BEGIN:VALARM
ACTION:display
DESCRIPTION:Performance discussion in 7th floor\, Mahal room in 5 minutes
TRIGGER:-PT5M
END:VALARM
END:VEVENT
END:VCALENDAR
