BEGIN:VCALENDAR
VERSION:2.0
PRODID:-//HasGeek//NONSGML Funnel//EN
DESCRIPTION:Hands-on workshop on Generative AI\, Text2Image\, Dreambooth\,
  LORA and ControlNet
X-WR-CALDESC:Hands-on workshop on Generative AI\, Text2Image\, Dreambooth\
 , LORA and ControlNet
NAME:Building with Stable Diffusion
X-WR-CALNAME:Building with Stable Diffusion
REFRESH-INTERVAL;VALUE=DURATION:PT12H
SUMMARY:Building with Stable Diffusion
TIMEZONE-ID:Asia/Kolkata
X-PUBLISHED-TTL:PT12H
X-WR-TIMEZONE:Asia/Kolkata
BEGIN:VEVENT
SUMMARY:Introduction to Text2Image Models
DTSTART:20230325T043000Z
DTEND:20230325T044500Z
DTSTAMP:20260421T204157Z
UID:session/VbuaQiXPruYwDENeYJigod@hasgeek.com
SEQUENCE:5
CREATED:20230306T073719Z
LAST-MODIFIED:20230306T074117Z
LOCATION:Online
ORGANIZER;CN=GenerativeAI:MAILTO:no-reply@hasgeek.com
BEGIN:VALARM
ACTION:display
DESCRIPTION:Introduction to Text2Image Models in 5 minutes
TRIGGER:-PT5M
END:VALARM
END:VEVENT
BEGIN:VEVENT
SUMMARY:Prompt Engineering (Anatomy & Process)
DTSTART:20230325T044500Z
DTEND:20230325T051500Z
DTSTAMP:20260421T204157Z
UID:session/JabPxetRMpq9sDoDz6VYBV@hasgeek.com
SEQUENCE:4
CREATED:20230306T073832Z
LAST-MODIFIED:20230306T074122Z
LOCATION:Online
ORGANIZER;CN=GenerativeAI:MAILTO:no-reply@hasgeek.com
BEGIN:VALARM
ACTION:display
DESCRIPTION:Prompt Engineering (Anatomy & Process) in 5 minutes
TRIGGER:-PT5M
END:VALARM
END:VEVENT
BEGIN:VEVENT
SUMMARY:Advance Prompt Engineering (Parameters\, Attention Weights\, Negat
 ive Prompts)
DTSTART:20230325T051500Z
DTEND:20230325T060000Z
DTSTAMP:20260421T204157Z
UID:session/LQgm9Dnjii1PvJC4xEHpr3@hasgeek.com
SEQUENCE:3
CREATED:20230306T074024Z
LAST-MODIFIED:20230306T074938Z
LOCATION:Online
ORGANIZER;CN=GenerativeAI:MAILTO:no-reply@hasgeek.com
BEGIN:VALARM
ACTION:display
DESCRIPTION:Advance Prompt Engineering (Parameters\, Attention Weights\, N
 egative Prompts) in 5 minutes
TRIGGER:-PT5M
END:VALARM
END:VEVENT
BEGIN:VEVENT
SUMMARY:Img2img - Stylizing images\, mask object removal\, object enhancem
 ent\, in-painting\, instruct pix2pix
DTSTART:20230325T060000Z
DTEND:20230325T063000Z
DTSTAMP:20260421T204157Z
UID:session/4xnVtouLGy3i8XiYK8EUXU@hasgeek.com
SEQUENCE:3
CREATED:20230306T074242Z
LAST-MODIFIED:20230306T074353Z
LOCATION:Online
ORGANIZER;CN=GenerativeAI:MAILTO:no-reply@hasgeek.com
BEGIN:VALARM
ACTION:display
DESCRIPTION:Img2img - Stylizing images\, mask object removal\, object enha
 ncement\, in-painting\, instruct pix2pix in 5 minutes
TRIGGER:-PT5M
END:VALARM
END:VEVENT
BEGIN:VEVENT
SUMMARY:Parameter Tuning using Automatic1111 webUI
DTSTART:20230325T063000Z
DTEND:20230325T073000Z
DTSTAMP:20260421T204157Z
UID:session/6dFhw65kmfw8e9oPq8r8CK@hasgeek.com
SEQUENCE:0
CREATED:20230306T074718Z
LAST-MODIFIED:20230306T074718Z
LOCATION:Online
ORGANIZER;CN=GenerativeAI:MAILTO:no-reply@hasgeek.com
BEGIN:VALARM
ACTION:display
DESCRIPTION:Parameter Tuning using Automatic1111 webUI in 5 minutes
TRIGGER:-PT5M
END:VALARM
END:VEVENT
BEGIN:VEVENT
SUMMARY:Lunch Break
DTSTART:20230325T073000Z
DTEND:20230325T083000Z
DTSTAMP:20260421T204157Z
UID:session/YZxeMcWEafNUnZ3GQ2VZvD@hasgeek.com
SEQUENCE:0
CREATED:20230306T074644Z
LAST-MODIFIED:20230306T074644Z
LOCATION:Online
ORGANIZER;CN=GenerativeAI:MAILTO:no-reply@hasgeek.com
BEGIN:VALARM
ACTION:display
DESCRIPTION:Lunch Break in 5 minutes
TRIGGER:-PT5M
END:VALARM
END:VEVENT
BEGIN:VEVENT
SUMMARY:ControlNet
DTSTART:20230325T083000Z
DTEND:20230325T093000Z
DTSTAMP:20260421T204157Z
UID:session/3dP9jsoKYF22CVBUGmcAVn@hasgeek.com
SEQUENCE:1
CREATED:20230306T074801Z
LAST-MODIFIED:20230306T075735Z
LOCATION:Online
ORGANIZER;CN=GenerativeAI:MAILTO:no-reply@hasgeek.com
BEGIN:VALARM
ACTION:display
DESCRIPTION:ControlNet in 5 minutes
TRIGGER:-PT5M
END:VALARM
END:VEVENT
BEGIN:VEVENT
SUMMARY:Model Fine Tuning Techniques - Textual Inversion\, Dreambooth\, LO
 RA\, Merging
DTSTART:20230325T093000Z
DTEND:20230325T100000Z
DTSTAMP:20260421T204157Z
UID:session/D39ZTqDpfzALWQXk9yVvZ1@hasgeek.com
SEQUENCE:4
CREATED:20230306T074901Z
LAST-MODIFIED:20230306T080610Z
LOCATION:Online
ORGANIZER;CN=GenerativeAI:MAILTO:no-reply@hasgeek.com
BEGIN:VALARM
ACTION:display
DESCRIPTION:Model Fine Tuning Techniques - Textual Inversion\, Dreambooth\
 , LORA\, Merging in 5 minutes
TRIGGER:-PT5M
END:VALARM
END:VEVENT
BEGIN:VEVENT
SUMMARY:Stylizing using Textual Inversion
DTSTART:20230325T100000Z
DTEND:20230325T103000Z
DTSTAMP:20260421T204157Z
UID:session/SR4UyydfvwnHBvVHYgDoR9@hasgeek.com
SEQUENCE:1
CREATED:20230306T074915Z
LAST-MODIFIED:20230306T075718Z
LOCATION:Online
ORGANIZER;CN=GenerativeAI:MAILTO:no-reply@hasgeek.com
BEGIN:VALARM
ACTION:display
DESCRIPTION:Stylizing using Textual Inversion in 5 minutes
TRIGGER:-PT5M
END:VALARM
END:VEVENT
BEGIN:VEVENT
SUMMARY:Model Fine Tuning using LORA
DTSTART:20230325T103000Z
DTEND:20230325T112000Z
DTSTAMP:20260421T204157Z
UID:session/7QxB9KwCrgwYi1gMwxzQiy@hasgeek.com
SEQUENCE:9
CREATED:20230306T074601Z
LAST-MODIFIED:20230306T080037Z
LOCATION:Online
ORGANIZER;CN=GenerativeAI:MAILTO:no-reply@hasgeek.com
BEGIN:VALARM
ACTION:display
DESCRIPTION:Model Fine Tuning using LORA in 5 minutes
TRIGGER:-PT5M
END:VALARM
END:VEVENT
BEGIN:VEVENT
SUMMARY:QnA
DTSTART:20230325T112000Z
DTEND:20230325T113000Z
DTSTAMP:20260421T204157Z
UID:session/XFsgMU5TkvMJpASrkAb1vb@hasgeek.com
SEQUENCE:0
CREATED:20230306T074541Z
LAST-MODIFIED:20230306T074541Z
LOCATION:Online
ORGANIZER;CN=GenerativeAI:MAILTO:no-reply@hasgeek.com
BEGIN:VALARM
ACTION:display
DESCRIPTION:QnA in 5 minutes
TRIGGER:-PT5M
END:VALARM
END:VEVENT
BEGIN:VEVENT
SUMMARY:Recap Day 1
DTSTART:20230326T043000Z
DTEND:20230326T044500Z
DTSTAMP:20260421T204157Z
UID:session/GMsYTBYoP9sFWAQxEZXWP2@hasgeek.com
SEQUENCE:0
CREATED:20230306T074952Z
LAST-MODIFIED:20230306T074952Z
LOCATION:Online
ORGANIZER;CN=GenerativeAI:MAILTO:no-reply@hasgeek.com
BEGIN:VALARM
ACTION:display
DESCRIPTION:Recap Day 1 in 5 minutes
TRIGGER:-PT5M
END:VALARM
END:VEVENT
BEGIN:VEVENT
SUMMARY:Latent Diffusion Models Theory
DTSTART:20230326T044500Z
DTEND:20230326T053000Z
DTSTAMP:20260421T204157Z
UID:session/XuQvPjyUt9hLuNs4ddmwjR@hasgeek.com
SEQUENCE:1
CREATED:20230306T075016Z
LAST-MODIFIED:20230306T080906Z
LOCATION:Online
ORGANIZER;CN=GenerativeAI:MAILTO:no-reply@hasgeek.com
BEGIN:VALARM
ACTION:display
DESCRIPTION:Latent Diffusion Models Theory in 5 minutes
TRIGGER:-PT5M
END:VALARM
END:VEVENT
BEGIN:VEVENT
SUMMARY:Text2Image pipeline using Diffusers
DTSTART:20230326T053000Z
DTEND:20230326T063000Z
DTSTAMP:20260421T204157Z
UID:session/A3DBYtLRDk1rtRyTkXUAbr@hasgeek.com
SEQUENCE:2
CREATED:20230306T075038Z
LAST-MODIFIED:20230306T080916Z
LOCATION:Online
ORGANIZER;CN=GenerativeAI:MAILTO:no-reply@hasgeek.com
BEGIN:VALARM
ACTION:display
DESCRIPTION:Text2Image pipeline using Diffusers in 5 minutes
TRIGGER:-PT5M
END:VALARM
END:VEVENT
BEGIN:VEVENT
SUMMARY:Serverless model deployment using Replicate
DTSTART:20230326T063000Z
DTEND:20230326T073000Z
DTSTAMP:20260421T204157Z
UID:session/Y5oQxhAymMkwr2X6uSKgyE@hasgeek.com
SEQUENCE:6
CREATED:20230306T075127Z
LAST-MODIFIED:20230306T080923Z
LOCATION:Online
ORGANIZER;CN=GenerativeAI:MAILTO:no-reply@hasgeek.com
BEGIN:VALARM
ACTION:display
DESCRIPTION:Serverless model deployment using Replicate in 5 minutes
TRIGGER:-PT5M
END:VALARM
END:VEVENT
BEGIN:VEVENT
SUMMARY:Lunch
DTSTART:20230326T073000Z
DTEND:20230326T083000Z
DTSTAMP:20260421T204157Z
UID:session/4BDRcqcu8Vew5YzufFEAmS@hasgeek.com
SEQUENCE:0
CREATED:20230306T074932Z
LAST-MODIFIED:20230306T074932Z
LOCATION:Online
ORGANIZER;CN=GenerativeAI:MAILTO:no-reply@hasgeek.com
BEGIN:VALARM
ACTION:display
DESCRIPTION:Lunch in 5 minutes
TRIGGER:-PT5M
END:VALARM
END:VEVENT
BEGIN:VEVENT
SUMMARY:Model fine tuning Deployment
DTSTART:20230326T083000Z
DTEND:20230326T093000Z
DTSTAMP:20260421T204157Z
UID:session/QCU3b7yjiBmbFNc7ABuTVT@hasgeek.com
SEQUENCE:7
CREATED:20230306T075525Z
LAST-MODIFIED:20230306T080941Z
LOCATION:Online
ORGANIZER;CN=GenerativeAI:MAILTO:no-reply@hasgeek.com
BEGIN:VALARM
ACTION:display
DESCRIPTION:Model fine tuning Deployment in 5 minutes
TRIGGER:-PT5M
END:VALARM
END:VEVENT
BEGIN:VEVENT
SUMMARY:Model Inference Deployment
DTSTART:20230326T093000Z
DTEND:20230326T103000Z
DTSTAMP:20260421T204157Z
UID:session/Qt85xHroMZZNfvdnWfaaMA@hasgeek.com
SEQUENCE:2
CREATED:20230306T080818Z
LAST-MODIFIED:20230306T080945Z
LOCATION:Online
ORGANIZER;CN=GenerativeAI:MAILTO:no-reply@hasgeek.com
BEGIN:VALARM
ACTION:display
DESCRIPTION:Model Inference Deployment in 5 minutes
TRIGGER:-PT5M
END:VALARM
END:VEVENT
BEGIN:VEVENT
SUMMARY:Unit Economics of Text2Image Applications
DTSTART:20230326T103000Z
DTEND:20230326T104500Z
DTSTAMP:20260421T204157Z
UID:session/BRPoPRbf6GKWp1pBBwSZVs@hasgeek.com
SEQUENCE:1
CREATED:20230306T080248Z
LAST-MODIFIED:20230306T080836Z
LOCATION:Online
ORGANIZER;CN=GenerativeAI:MAILTO:no-reply@hasgeek.com
BEGIN:VALARM
ACTION:display
DESCRIPTION:Unit Economics of Text2Image Applications in 5 minutes
TRIGGER:-PT5M
END:VALARM
END:VEVENT
BEGIN:VEVENT
SUMMARY:Future applications and business opportunities
DTSTART:20230326T104500Z
DTEND:20230326T112000Z
DTSTAMP:20260421T204157Z
UID:session/MAed7MStDtfgwfTqbbFF2v@hasgeek.com
SEQUENCE:4
CREATED:20230306T080155Z
LAST-MODIFIED:20230306T080844Z
LOCATION:Online
ORGANIZER;CN=GenerativeAI:MAILTO:no-reply@hasgeek.com
BEGIN:VALARM
ACTION:display
DESCRIPTION:Future applications and business opportunities in 5 minutes
TRIGGER:-PT5M
END:VALARM
END:VEVENT
BEGIN:VEVENT
SUMMARY:QnA
DTSTART:20230326T112000Z
DTEND:20230326T113000Z
DTSTAMP:20260421T204157Z
UID:session/5cb8gFN2pDeFRi989zKYgN@hasgeek.com
SEQUENCE:0
CREATED:20230306T075402Z
LAST-MODIFIED:20230306T075402Z
LOCATION:Online
ORGANIZER;CN=GenerativeAI:MAILTO:no-reply@hasgeek.com
BEGIN:VALARM
ACTION:display
DESCRIPTION:QnA in 5 minutes
TRIGGER:-PT5M
END:VALARM
END:VEVENT
END:VCALENDAR
