BEGIN:VCALENDAR
VERSION:2.0
PRODID:-//HasGeek//NONSGML Funnel//EN
DESCRIPTION:A workshop for artists and designers
X-WR-CALDESC:A workshop for artists and designers
NAME:Midjourney workshop
X-WR-CALNAME:Midjourney workshop
REFRESH-INTERVAL;VALUE=DURATION:PT12H
SUMMARY:Midjourney workshop
TIMEZONE-ID:Asia/Kolkata
X-PUBLISHED-TTL:PT12H
X-WR-TIMEZONE:Asia/Kolkata
BEGIN:VEVENT
SUMMARY:Midjourney workshop
DTSTART:20230303T083000Z
DTEND:20230303T113000Z
DTSTAMP:20260421T222351Z
UID:session/EJFvoJp4nJFuw4bYHYTfXG@hasgeek.com
SEQUENCE:15
CREATED:20230223T160526Z
DESCRIPTION:## What is Midjourney?\nAlong with Stability and Dall-e\, Midj
 ourney is one of the most popular text to image AI generators. Midjourney 
 is known for its consistently aesthetically pleasing\, refined and artisti
 c results\, and for its ease of use as a discord bot. \n\n## About generat
 ive art\nOver the last year\, the field of AI art has seen rapid and monum
 ental progress. With these new engines\, the way art is being made is revo
 lutionized. No longer do you have to generate moodboards by searching onli
 ne hoping that something matches the keywords that you want. You can now g
 enerate ideas instantly\, in the style that you want and one can focus mor
 e on art direction and creativity rather than just polishing and rendering
  works\, especially in early stages. \n\nThis is going to change how artis
 ts\, art directors\, illustrators\, graphic designers\, game makers\, prod
 uct designers\, architects\, fashion designers\, book cover artists\, comi
 c artists and anyone and everyone who does visual work\, does what they do
 . It already is changing things for these industries and enabling visual c
 reativity for many more people than before including those who wouldn’t 
 normally work with visuals.\n\n## Who should attend?\nThis workshop is gre
 at if you fall in two different categories. If you are a visual artist of 
 any kind and you want to understand and leverage Midjourney to speed up an
 d level up your work\, you will find this very useful in how you can art d
 irect better. Also if you are someone who generally works in collaboration
  with visual artists but would love to see their own vision come to realit
 y this workshop will help you in finding ways to plug MidJourney into your
  workflow. \n\n## What will I learn in this workshop?\nThe workshop will c
 over the following topics\n\n- Learning to prompt : how to write prompts w
 hich give you the control to make what you want\, instead of what the mode
 l wants\n- Putting it together : How you can incorporate generative AI art
  in your creative process\n- An interactive component where we help you bu
 ild a short 3-4 panel story using MidJourney.\n\n## Prerequisites for part
 icipating in this workshop\nThis workshop has no prerequisites other than 
 curiosity. \n\n## Software to install before coming to the workshop   \nYo
 u should install [discord](https://discord.com/) and signup for [midjourne
 y.](https://www.midjourney.com/)  You get 40 free renders when you signup 
 for midjourney but if you feel so inclined\, you can also get a 10$ subscr
 iption for a month that will give you 3 hours of generation time. 40 credi
 ts is going to be enough for this workshop. \n\nIf you have any issues you
  can mail contactcharutak [at] gmail[dot]com\n\n## About the instructors\n
 [Divya](https://www.linkedin.com/in/divya-tak-56019522/) is a Game and Pro
 duct designer and she also does illustration work. A lot of her work has b
 een focused on exploring different visual and experience design problems a
 nd finding solutions for them. Currently she is working on building an exp
 erience design studio with a friend. \n\n[Charu](https://charutak.xyz/) is
  a Game developer and designer. She works across different technologies to
  bring interesting experiences to life. Right now she is working on some e
 xperiences in Virtual reality with Unreal engine. \n\nThey are both sister
 s and often collaborate on making things together. In 2020 they made and r
 eleased 6 games at the pace of a game a month\, that you can check out [he
 re](https://charutak.itch.io/). They are currently working on their next g
 ame together.\n\n## Online workshop\nThis is a paid workshop\, and will be
  held online\, via Zoom.\n\n## Contact details \nFor tickets and inquiries
  about this workshop\, contact Hasgeek at <info@hasgeek.com> or call (91)7
 676332020.
LAST-MODIFIED:20230810T072505Z
LOCATION:Online - https://hasgeek.com/generativeAI/midjourney-workshop/
ORGANIZER;CN=GenerativeAI:MAILTO:no-reply@hasgeek.com
URL:https://hasgeek.com/generativeAI/midjourney-workshop/
BEGIN:VALARM
ACTION:display
DESCRIPTION:Midjourney workshop in 5 minutes
TRIGGER:-PT5M
END:VALARM
END:VEVENT
END:VCALENDAR
