BEGIN:VCALENDAR
VERSION:2.0
PRODID:-//HasGeek//NONSGML Funnel//EN
DESCRIPTION:GenerativeAI Meetup in Bangalore focussed on visual medium - i
 mages\, videos\, games etc.
X-WR-CALDESC:GenerativeAI Meetup in Bangalore focussed on visual medium - 
 images\, videos\, games etc.
NAME:GenerativeAI May Meetup
X-WR-CALNAME:GenerativeAI May Meetup
REFRESH-INTERVAL;VALUE=DURATION:PT12H
SUMMARY:GenerativeAI May Meetup
TIMEZONE-ID:Asia/Kolkata
X-PUBLISHED-TTL:PT12H
X-WR-TIMEZONE:Asia/Kolkata
BEGIN:VEVENT
SUMMARY:UNet deep dive
DTSTART:20230527T113000Z
DTEND:20230527T120000Z
DTSTAMP:20260421T162432Z
UID:session/Y1tGqxXiphWypSqoFRwHfi@hasgeek.com
SEQUENCE:1
CREATED:20230618T013536Z
LAST-MODIFIED:20230618T013559Z
LOCATION:Bengaluru
ORGANIZER;CN=GenerativeAI:MAILTO:no-reply@hasgeek.com
BEGIN:VALARM
ACTION:display
DESCRIPTION:UNet deep dive in 5 minutes
TRIGGER:-PT5M
END:VALARM
END:VEVENT
BEGIN:VEVENT
SUMMARY:Composition with Stable Diffusion
DTSTART:20230527T120000Z
DTEND:20230527T123000Z
DTSTAMP:20260421T162432Z
UID:session/4beqi2nHybL8TW4UMuWx3o@hasgeek.com
SEQUENCE:1
CREATED:20230618T013658Z
LAST-MODIFIED:20230618T013705Z
LOCATION:Bengaluru
ORGANIZER;CN=GenerativeAI:MAILTO:no-reply@hasgeek.com
BEGIN:VALARM
ACTION:display
DESCRIPTION:Composition with Stable Diffusion in 5 minutes
TRIGGER:-PT5M
END:VALARM
END:VEVENT
END:VCALENDAR
