BEGIN:VCALENDAR
VERSION:2.0
PRODID:-//HasGeek//NONSGML Funnel//EN
DESCRIPTION:6 Hour Model Finetuning Hackathon
X-WR-CALDESC:6 Hour Model Finetuning Hackathon
NAME:Gen AI - Hack Day
X-WR-CALNAME:Gen AI - Hack Day
REFRESH-INTERVAL;VALUE=DURATION:PT12H
SUMMARY:Gen AI - Hack Day
TIMEZONE-ID:Asia/Kolkata
X-PUBLISHED-TTL:PT12H
X-WR-TIMEZONE:Asia/Kolkata
BEGIN:VEVENT
SUMMARY:Gen AI - Hack Day
DTSTART:20230902T103000Z
DTEND:20230902T163000Z
DTSTAMP:20260421T150708Z
UID:session/C5jHdWB6HX725LUPiAT8un@hasgeek.com
SEQUENCE:11
CREATED:20230829T033350Z
DESCRIPTION:# Gen AI Community Hack Day\n\nWhen? September 2nd! 🎉 \n
 🔍 Dive into Model Finetuning: Focussed on Llama2\, SD/LoRA and similar 
 PEFT methods!\n\n**Ready to Hack?**\n\nApplying for the event is a piece o
 f cake! Register on hasgeek and your spot is reserved for the Hack Day! If
  you already have a teammate in mind\, awesome! mention their email at reg
 istration. If you decide or find a teammate after the registration\, that'
 s okay too — bring them along as your +1 on the Hack Day without asking 
 us! If not\, don't worry\; our friendly community will ensure you find a p
 artner to conquer the AI world together.\n\n## Awards\n### [Nintee](https:
 //nintee.com/) Award for Emotional Support Chat\nSponsored by [Nintee](htt
 ps://nintee.com/)\n\n1. Model weights and tutorial blog to be released wit
 hin 14 days of the event\n2. If you can\, release dataset too!\n\nJudging 
 Criteria:\n1. Emotional first aid\,\n2. Context gathering i.e. ask for mor
 e information where relevant e.g. if someone is not able to sleep well\, a
 sk them questions to dig deeper and keep the convo going\n3. Emotional sup
 port e.g. have the user feel heard\n\nReferences: More like pi.ai\, less l
 ike chatgpt\n\n### RAG Award by Qdrant\n1. Solution should use [Qdrant Clo
 ud](https://qrant.tech)\, or self-hosted Qdrant\n2. To be eligible\, one m
 ust publish a short blog with the solution within 10 days of the event to 
 receive the cash reward\n\n\n**Contact Us**\n\nIf you have any questions o
 r need more information about the Hack Day\, we're here to help! Feel free
  to shoot us an email at [genaicommunityindia@gmail.com](mailto:genaicommu
 nityindia@gmail.com) . We can't wait to welcome you to this mind-blowing e
 vent!\n\nSo mark your calendars\, rally your enthusiasm\, and get ready fo
 r an unforgettable day of AI magic at the Gen AI Community Hack Day! We pr
 omise you'll leave with new friends\, tons of knowledge\, and a heart full
  of inspiration. See you there! 🚀\n\nEvent details on Luma : https://lu
 .ma/soweb4fz
LAST-MODIFIED:20230829T064019Z
LOCATION:Bengaluru - https://hasgeek.com/generativeAI/gen-ai-hack-day/
ORGANIZER;CN=GenerativeAI:MAILTO:no-reply@hasgeek.com
URL:https://hasgeek.com/generativeAI/gen-ai-hack-day/
BEGIN:VALARM
ACTION:display
DESCRIPTION:Gen AI - Hack Day in 5 minutes
TRIGGER:-PT5M
END:VALARM
END:VEVENT
END:VCALENDAR
