BEGIN:VCALENDAR
VERSION:2.0
PRODID:-//HasGeek//NONSGML Funnel//EN
DESCRIPTION:Interesting and excellent generative AI demos from India
X-WR-CALDESC:Interesting and excellent generative AI demos from India
NAME:Demo Day
X-WR-CALNAME:Demo Day
REFRESH-INTERVAL;VALUE=DURATION:PT12H
SUMMARY:Demo Day
TIMEZONE-ID:Asia/Kolkata
X-PUBLISHED-TTL:PT12H
X-WR-TIMEZONE:Asia/Kolkata
BEGIN:VEVENT
SUMMARY:Demo Day
DTSTART:20231007T103000Z
DTEND:20231007T130000Z
DTSTAMP:20260419T185421Z
UID:session/ME2bzZtGbDaBRWfxmQvkzf@hasgeek.com
SEQUENCE:6
CREATED:20230926T131842Z
DESCRIPTION:**Register here** : https://lu.ma/aidemoday\n\nGet ready to ex
 plore what the generative AI community in India is building. Products that
  are international quality in polish and innovation. Join us on **October 
 7th** for a showcase of interesting and innovating product demos in the ge
 nerative AI domain. \n\n**Who Should Come?** \n\nIf you're a machine learn
 ing enthusiast\, a budding entrepreneur\, a venture capitalist with a tast
 e for the avant-garde\, or just someone who loves to witness the cutting-e
 dge\, this event is tailor-made for you.\n\n **What's in Store?** \n\nGet 
 ready to be wowed as top talents from India's generative AI ecosystem unve
 il their polished creations. From startups pushing the boundaries to solo 
 hackers with big ideas\, our lineup promises a whirlwind of inspiration an
 d innovation.\n\n **After the Demos? It's Meetup Time!** \n\nBut that's no
 t all! After the mind-bending demos\, stick around for an informal meetup.
  Rub shoulders with fellow enthusiasts\, exchange ideas\, and forge connec
 tions that could spark the next big thing.\n\n**Contact Us**\n\nIf you hav
 e any questions or need more information about the Hack Day\, we're here t
 o help! Feel free to shoot us an email at **[genaicommunityindia@gmail.com
 ](mailto:genaicommunityindia@gmail.com)**. We can't wait to welcome you to
  this mind-blowing event!\n\n**Apply to Demo Your Product**\n\nGot an amaz
 ing generative AI product to showcase? Apply to demo your creation by fill
 ing out our form [here.](https://forms.gle/M5u6rVujH3ZHUYjA7)\n\nSo mark y
 our calendars\, rally your enthusiasm\, and get ready for an unforgettable
  day of AI magic at the Gen AI Community Hack Day! We promise you'll leave
  with new friends\, tons of knowledge\, and a heart full of inspiration. S
 ee you there! 🚀
LAST-MODIFIED:20230926T131933Z
LOCATION:Bengaluru - https://hasgeek.com/generativeAI/demo-day/
ORGANIZER;CN=GenerativeAI:MAILTO:no-reply@hasgeek.com
URL:https://hasgeek.com/generativeAI/demo-day/
BEGIN:VALARM
ACTION:display
DESCRIPTION:Demo Day in 5 minutes
TRIGGER:-PT5M
END:VALARM
END:VEVENT
END:VCALENDAR
