BEGIN:VCALENDAR
VERSION:2.0
PRODID:-//HasGeek//NONSGML Funnel//EN
DESCRIPTION:Generative AI / DeepMedia Hackathon
X-WR-CALDESC:Generative AI / DeepMedia Hackathon
NAME:Deep Hack
X-WR-CALNAME:Deep Hack
REFRESH-INTERVAL;VALUE=DURATION:PT12H
SUMMARY:Deep Hack
TIMEZONE-ID:Asia/Kolkata
X-PUBLISHED-TTL:PT12H
X-WR-TIMEZONE:Asia/Kolkata
BEGIN:VEVENT
SUMMARY:Hackathon kick-off\; participant introductions\; hackathon briefin
 g
DTSTART:20230331T103000Z
DTEND:20230331T113000Z
DTSTAMP:20260421T095856Z
UID:session/PfAjLmgUET7RvsL623bear@hasgeek.com
SEQUENCE:5
CREATED:20230327T074157Z
LAST-MODIFIED:20230330T162754Z
LOCATION:2nd floor - Juspay Technologies Private Limited\nBengaluru\nIN
ORGANIZER;CN=GenerativeAI:MAILTO:no-reply@hasgeek.com
BEGIN:VALARM
ACTION:display
DESCRIPTION:Hackathon kick-off\; participant introductions\; hackathon bri
 efing in 2nd floor in 5 minutes
TRIGGER:-PT5M
END:VALARM
END:VEVENT
BEGIN:VEVENT
SUMMARY:Participants pitch ideas\; form teams
DTSTART:20230331T113000Z
DTEND:20230331T123000Z
DTSTAMP:20260421T095856Z
UID:session/2rWw7FxnEUVuo6St9fy9bt@hasgeek.com
SEQUENCE:4
CREATED:20230330T162606Z
LAST-MODIFIED:20230330T162759Z
LOCATION:2nd floor - Juspay Technologies Private Limited\nBengaluru\nIN
ORGANIZER;CN=GenerativeAI:MAILTO:no-reply@hasgeek.com
BEGIN:VALARM
ACTION:display
DESCRIPTION:Participants pitch ideas\; form teams in 2nd floor in 5 minute
 s
TRIGGER:-PT5M
END:VALARM
END:VEVENT
BEGIN:VEVENT
SUMMARY:Weaviate demo
DTSTART:20230331T123000Z
DTEND:20230331T130000Z
DTSTAMP:20260421T095856Z
UID:session/B1QZ1AMFJ4JxB9sia7hsTA@hasgeek.com
SEQUENCE:6
CREATED:20230330T162934Z
LAST-MODIFIED:20230406T121615Z
LOCATION:2nd floor - Juspay Technologies Private Limited\nBengaluru\nIN
ORGANIZER;CN=GenerativeAI:MAILTO:no-reply@hasgeek.com
BEGIN:VALARM
ACTION:display
DESCRIPTION:Weaviate demo in 2nd floor in 5 minutes
TRIGGER:-PT5M
END:VALARM
END:VEVENT
BEGIN:VEVENT
SUMMARY:Appsmith demo
DTSTART:20230331T130000Z
DTEND:20230331T133000Z
DTSTAMP:20260421T095856Z
UID:session/DaaK7mNUjbTPGY8ibNdFsg@hasgeek.com
SEQUENCE:4
CREATED:20230330T163711Z
LAST-MODIFIED:20230406T122546Z
LOCATION:2nd floor - Juspay Technologies Private Limited\nBengaluru\nIN
ORGANIZER;CN=GenerativeAI:MAILTO:no-reply@hasgeek.com
BEGIN:VALARM
ACTION:display
DESCRIPTION:Appsmith demo in 2nd floor in 5 minutes
TRIGGER:-PT5M
END:VALARM
END:VEVENT
BEGIN:VEVENT
SUMMARY:Hackathon continues
DTSTART:20230331T133000Z
DTEND:20230331T153500Z
DTSTAMP:20260421T095856Z
UID:session/9s6wfbHGJGoEDZ1HBg5gL1@hasgeek.com
SEQUENCE:5
CREATED:20230330T163754Z
LAST-MODIFIED:20230330T172238Z
LOCATION:2nd floor - Juspay Technologies Private Limited\nBengaluru\nIN
ORGANIZER;CN=GenerativeAI:MAILTO:no-reply@hasgeek.com
BEGIN:VALARM
ACTION:display
DESCRIPTION:Hackathon continues in 2nd floor in 5 minutes
TRIGGER:-PT5M
END:VALARM
END:VEVENT
BEGIN:VEVENT
SUMMARY:Dinner - on the 5th floor\, in the pantry.
DTSTART:20230331T144500Z
DTEND:20230331T153000Z
DTSTAMP:20260421T095856Z
UID:session/RHB87N4JnJVGRsMGaDH6He@hasgeek.com
SEQUENCE:7
CREATED:20230330T163815Z
LAST-MODIFIED:20230330T172615Z
LOCATION:Hybrid
ORGANIZER;CN=GenerativeAI:MAILTO:no-reply@hasgeek.com
BEGIN:VALARM
ACTION:display
DESCRIPTION:Dinner - on the 5th floor\, in the pantry. in 5 minutes
TRIGGER:-PT5M
END:VALARM
END:VEVENT
BEGIN:VEVENT
SUMMARY:Hackathon continues
DTSTART:20230331T153000Z
DTEND:20230331T163000Z
DTSTAMP:20260421T095856Z
UID:session/UPfHNjSmnRWXLa8gZTwDjQ@hasgeek.com
SEQUENCE:6
CREATED:20230330T164127Z
LAST-MODIFIED:20230330T164212Z
LOCATION:2nd floor - Juspay Technologies Private Limited\nBengaluru\nIN
ORGANIZER;CN=GenerativeAI:MAILTO:no-reply@hasgeek.com
BEGIN:VALARM
ACTION:display
DESCRIPTION:Hackathon continues in 2nd floor in 5 minutes
TRIGGER:-PT5M
END:VALARM
END:VEVENT
BEGIN:VEVENT
SUMMARY:Talk/demo on GPT-Index (Llama Index)
DTSTART:20230331T163000Z
DTEND:20230331T173000Z
DTSTAMP:20260421T095856Z
UID:session/TMMxTrLBLHjAvzYeoMeDSx@hasgeek.com
SEQUENCE:6
CREATED:20230330T164254Z
LAST-MODIFIED:20230406T122804Z
LOCATION:2nd floor - Juspay Technologies Private Limited\nBengaluru\nIN
ORGANIZER;CN=GenerativeAI:MAILTO:no-reply@hasgeek.com
BEGIN:VALARM
ACTION:display
DESCRIPTION:Talk/demo on GPT-Index (Llama Index) in 2nd floor in 5 minutes
TRIGGER:-PT5M
END:VALARM
END:VEVENT
BEGIN:VEVENT
SUMMARY:Hackathon continues
DTSTART:20230331T173000Z
DTEND:20230331T180000Z
DTSTAMP:20260421T095856Z
UID:session/NGsfiyBc15cfEgvRGZYRyX@hasgeek.com
SEQUENCE:4
CREATED:20230330T164334Z
LAST-MODIFIED:20230330T164342Z
LOCATION:2nd floor - Juspay Technologies Private Limited\nBengaluru\nIN
ORGANIZER;CN=GenerativeAI:MAILTO:no-reply@hasgeek.com
BEGIN:VALARM
ACTION:display
DESCRIPTION:Hackathon continues in 2nd floor in 5 minutes
TRIGGER:-PT5M
END:VALARM
END:VEVENT
BEGIN:VEVENT
SUMMARY:Guardrails demo
DTSTART:20230331T180000Z
DTEND:20230331T183000Z
DTSTAMP:20260421T095856Z
UID:session/3pzSxVqs8t8FVgrRy1pe45@hasgeek.com
SEQUENCE:4
CREATED:20230330T164411Z
LAST-MODIFIED:20230406T121157Z
LOCATION:2nd floor - Juspay Technologies Private Limited\nBengaluru\nIN
ORGANIZER;CN=GenerativeAI:MAILTO:no-reply@hasgeek.com
BEGIN:VALARM
ACTION:display
DESCRIPTION:Guardrails demo in 2nd floor in 5 minutes
TRIGGER:-PT5M
END:VALARM
END:VEVENT
BEGIN:VEVENT
SUMMARY:Hackathon continues
DTSTART:20230331T183000Z
DTEND:20230401T023000Z
DTSTAMP:20260421T095856Z
UID:session/Ugcjong4tV21AqvvHUVSvn@hasgeek.com
SEQUENCE:10
CREATED:20230330T164859Z
LAST-MODIFIED:20230330T164935Z
LOCATION:2nd floor - Juspay Technologies Private Limited\nBengaluru\nIN
ORGANIZER;CN=GenerativeAI:MAILTO:no-reply@hasgeek.com
BEGIN:VALARM
ACTION:display
DESCRIPTION:Hackathon continues in 2nd floor in 5 minutes
TRIGGER:-PT5M
END:VALARM
END:VEVENT
BEGIN:VEVENT
SUMMARY:Breakfast - on the 5th floor\, in the pantry.
DTSTART:20230401T023000Z
DTEND:20230401T033000Z
DTSTAMP:20260421T095856Z
UID:session/SVzreUK5z5z5Vc1PPBmDjm@hasgeek.com
SEQUENCE:6
CREATED:20230330T164949Z
LAST-MODIFIED:20230330T172609Z
LOCATION:Hybrid
ORGANIZER;CN=GenerativeAI:MAILTO:no-reply@hasgeek.com
BEGIN:VALARM
ACTION:display
DESCRIPTION:Breakfast - on the 5th floor\, in the pantry. in 5 minutes
TRIGGER:-PT5M
END:VALARM
END:VEVENT
BEGIN:VEVENT
SUMMARY:Hackathon continues
DTSTART:20230401T033000Z
DTEND:20230401T064500Z
DTSTAMP:20260421T095856Z
UID:session/SxdcdxDeQNJtu66NQpdT4m@hasgeek.com
SEQUENCE:7
CREATED:20230330T165309Z
LAST-MODIFIED:20230330T165336Z
LOCATION:2nd floor - Juspay Technologies Private Limited\nBengaluru\nIN
ORGANIZER;CN=GenerativeAI:MAILTO:no-reply@hasgeek.com
BEGIN:VALARM
ACTION:display
DESCRIPTION:Hackathon continues in 2nd floor in 5 minutes
TRIGGER:-PT5M
END:VALARM
END:VEVENT
BEGIN:VEVENT
SUMMARY:Lunch - on the 5th floor\, in the pantry.
DTSTART:20230401T064500Z
DTEND:20230401T073000Z
DTSTAMP:20260421T095856Z
UID:session/GoAdU6bbNo8FTmzFP5kWZG@hasgeek.com
SEQUENCE:4
CREATED:20230330T165343Z
LAST-MODIFIED:20230330T172631Z
LOCATION:Hybrid
ORGANIZER;CN=GenerativeAI:MAILTO:no-reply@hasgeek.com
BEGIN:VALARM
ACTION:display
DESCRIPTION:Lunch - on the 5th floor\, in the pantry. in 5 minutes
TRIGGER:-PT5M
END:VALARM
END:VEVENT
BEGIN:VEVENT
SUMMARY:Final sprint of the hackathon\; prepare your demos!
DTSTART:20230401T073000Z
DTEND:20230401T103000Z
DTSTAMP:20260421T095856Z
UID:session/XwoFtVupJBXD6AbLsa4W23@hasgeek.com
SEQUENCE:7
CREATED:20230330T165404Z
LAST-MODIFIED:20230330T165447Z
LOCATION:2nd floor - Juspay Technologies Private Limited\nBengaluru\nIN
ORGANIZER;CN=GenerativeAI:MAILTO:no-reply@hasgeek.com
BEGIN:VALARM
ACTION:display
DESCRIPTION:Final sprint of the hackathon\; prepare your demos! in 2nd flo
 or in 5 minutes
TRIGGER:-PT5M
END:VALARM
END:VEVENT
BEGIN:VEVENT
SUMMARY:Water Cooler: Network and Recharge
DTSTART:20230401T103000Z
DTEND:20230401T111500Z
DTSTAMP:20260421T095856Z
UID:session/HReWraAnaeCdX2JzDvfm6H@hasgeek.com
SEQUENCE:9
CREATED:20230330T165644Z
LAST-MODIFIED:20230331T063102Z
LOCATION:2nd floor - Juspay Technologies Private Limited\nBengaluru\nIN
ORGANIZER;CN=GenerativeAI:MAILTO:no-reply@hasgeek.com
BEGIN:VALARM
ACTION:display
DESCRIPTION:Water Cooler: Network and Recharge in 2nd floor in 5 minutes
TRIGGER:-PT5M
END:VALARM
END:VEVENT
BEGIN:VEVENT
SUMMARY:Namma Yatri hackathon announcement by Juspay
DTSTART:20230401T111500Z
DTEND:20230401T113000Z
DTSTAMP:20260421T095856Z
UID:session/JzwnKtLVNyP6TrVqN8c6qG@hasgeek.com
SEQUENCE:5
CREATED:20230330T200401Z
LAST-MODIFIED:20230331T063106Z
LOCATION:2nd floor - Juspay Technologies Private Limited\nBengaluru\nIN
ORGANIZER;CN=GenerativeAI:MAILTO:no-reply@hasgeek.com
BEGIN:VALARM
ACTION:display
DESCRIPTION:Namma Yatri hackathon announcement by Juspay in 2nd floor in 5
  minutes
TRIGGER:-PT5M
END:VALARM
END:VEVENT
BEGIN:VEVENT
SUMMARY:Demo time!
DTSTART:20230401T113000Z
DTEND:20230401T133000Z
DTSTAMP:20260421T095856Z
UID:session/STrcHbguoGVqDa4hLFp6WB@hasgeek.com
SEQUENCE:17
CREATED:20230330T165707Z
LAST-MODIFIED:20230331T063112Z
LOCATION:2nd floor - Juspay Technologies Private Limited\nBengaluru\nIN
ORGANIZER;CN=GenerativeAI:MAILTO:no-reply@hasgeek.com
BEGIN:VALARM
ACTION:display
DESCRIPTION:Demo time! in 2nd floor in 5 minutes
TRIGGER:-PT5M
END:VALARM
END:VEVENT
BEGIN:VEVENT
SUMMARY:Hold your hearts ... prize announcements
DTSTART:20230401T133000Z
DTEND:20230401T141500Z
DTSTAMP:20260421T095856Z
UID:session/EVfqY4ixUSkTxPX6yWy7FC@hasgeek.com
SEQUENCE:3
CREATED:20230330T172043Z
LAST-MODIFIED:20230330T172054Z
LOCATION:2nd floor - Juspay Technologies Private Limited\nBengaluru\nIN
ORGANIZER;CN=GenerativeAI:MAILTO:no-reply@hasgeek.com
BEGIN:VALARM
ACTION:display
DESCRIPTION:Hold your hearts ... prize announcements in 2nd floor in 5 min
 utes
TRIGGER:-PT5M
END:VALARM
END:VEVENT
BEGIN:VEVENT
SUMMARY:Thank yous\; goodbyes until we meet next time!
DTSTART:20230401T141500Z
DTEND:20230401T143000Z
DTSTAMP:20260421T095856Z
UID:session/GqvjDtS2gWZv6D3orTvyBv@hasgeek.com
SEQUENCE:4
CREATED:20230330T165759Z
LAST-MODIFIED:20230330T172026Z
LOCATION:2nd floor - Juspay Technologies Private Limited\nBengaluru\nIN
ORGANIZER;CN=GenerativeAI:MAILTO:no-reply@hasgeek.com
BEGIN:VALARM
ACTION:display
DESCRIPTION:Thank yous\; goodbyes until we meet next time! in 2nd floor in
  5 minutes
TRIGGER:-PT5M
END:VALARM
END:VEVENT
END:VCALENDAR
