BEGIN:VCALENDAR
VERSION:2.0
PRODID:-//HasGeek//NONSGML Funnel//EN
DESCRIPTION:Meetup with few demos
X-WR-CALDESC:Meetup with few demos
NAME:GenerativeAI April Meetup
X-WR-CALNAME:GenerativeAI April Meetup
REFRESH-INTERVAL;VALUE=DURATION:PT12H
SUMMARY:GenerativeAI April Meetup
TIMEZONE-ID:Asia/Kolkata
X-PUBLISHED-TTL:PT12H
X-WR-TIMEZONE:Asia/Kolkata
BEGIN:VEVENT
SUMMARY:GenerativeAI April Meetup
DTSTART:20230422T111500Z
DTEND:20230422T133000Z
DTSTAMP:20260421T193023Z
UID:session/7ukcRWaJkK4Tgcpskkp5tA@hasgeek.com
SEQUENCE:14
CREATED:20230407T115620Z
DESCRIPTION:Are you an AI enthusiast\, whether beginner or advanced? Get r
 eady for our action-packed April Meetup\, designed to be beginner-friendly
 \, while still offering insightful discussions for seasoned experts! We've
  had some fantastic events over the last 3 months\, and now it's time to c
 ontinue our journey together with an **in-person meetup in beautiful Benga
 luru**.\n\nHere's what's in store for you:\n\n🚀 Engaging topics: Discov
 er the power of AI in commercial applications like QA\, summarization\, co
 de generation\, and even cartoons! Explore cutting-edge agentic systems li
 ke AutoGPT and multi-agent async systems that are transforming the world o
 f AI.\n\n🔧 Essential tools & concepts: Familiarize yourself with Vector
  DBs and delve into the world of LLM-distillations such as Vicuna and Alpa
 ca.\n\n🤝 Networking opportunities: This meetup is all about connecting 
 and talking to each other\, rather than just listening to talks. Share you
 r experiences\, learn from others\, and expand your professional network!\
 n\n🎉 Live demos: Witness the incredible potential of AI with live demos
 \, including a confirmed presentation by Amod Malviya on Quantization – 
 and we're lining up even more!\n\nWhat will you miss if you don't attend? 
 The chance to immerse yourself in the latest AI advancements\, gain valuab
 le insights from industry experts\, and build meaningful connections with 
 like-minded individuals. Don't let this opportunity slip away!\n\nConfirme
 d Demos: \n\n1. Why it works: [Amod Malviya](https://www.linkedin.com/in/a
 modm/?originalSubdomain=in): Quantization and why it works\n2. How it work
 s: [Ravi Theja](https://www.linkedin.com/in/ravidesetty/?originalSubdomain
 =in): Evaluation answers in a QA setup with Llama Index -- the [Albus](htt
 ps://www.springworks.in/albus/) Case Study\n3. Social Good: [Dev](https://
 www.linkedin.com/in/dev-aggarwal-3616a0179/?originalSubdomain=in) of Gooey
 .ai: [farmer.chat](https://www.help.gooey.ai/farmerchat) -- leverages tech
  to make agricultural advisory content accessible for millions of small-sc
 ale farmers across India\, Ethiopia\, Kenya\n   \nJoin us for this unmissa
 ble event and propel your AI journey to new heights!
LAST-MODIFIED:20230430T025832Z
LOCATION:Bengaluru\, in-person only - https://hasgeek.com/generativeAI/apr
 il-meetup/
ORGANIZER;CN=GenerativeAI:MAILTO:no-reply@hasgeek.com
URL:https://hasgeek.com/generativeAI/april-meetup/
BEGIN:VALARM
ACTION:display
DESCRIPTION:GenerativeAI April Meetup in 5 minutes
TRIGGER:-PT5M
END:VALARM
END:VEVENT
END:VCALENDAR
