BEGIN:VCALENDAR
VERSION:2.0
PRODID:-//HasGeek//NONSGML Funnel//EN
DESCRIPTION:Meet and Greet Humans Talking about Generation using AI
X-WR-CALDESC:Meet and Greet Humans Talking about Generation using AI
NAME:GenerativeAI July Meetup
X-WR-CALNAME:GenerativeAI July Meetup
REFRESH-INTERVAL;VALUE=DURATION:PT12H
SUMMARY:GenerativeAI July Meetup
TIMEZONE-ID:Asia/Kolkata
X-PUBLISHED-TTL:PT12H
X-WR-TIMEZONE:Asia/Kolkata
BEGIN:VEVENT
SUMMARY:GenerativeAI July Meetup
DTSTART:20230729T113000Z
DTEND:20230729T133000Z
DTSTAMP:20260421T132208Z
UID:session/GuFJnpLsUnvcwG1QDKLzMN@hasgeek.com
SEQUENCE:22
CREATED:20230703T212857Z
DESCRIPTION:​​In the last 5 months\, Generative AI Community has organ
 ised: \n1. Demo Day Meetup in February\, a Deep Coffee Hack\,\n2. A Hackat
 hon with 5L INR in cash prizes\, 43 submissions from almost 100 participan
 ts!\n3. April meetup which saw a stellar demo on a chatbot for farmers\, e
 valuating question answering from a Llama Index contributor and an Intro t
 o Model Quantisation from Amod Malviya\n4. May meetup that saw talks on un
 et architecture by Vignesh\, CTO hexo.ai and composability with stable dif
 fusion by Amogh Vaishampayam\, Founding Team @ dashtoon.ai\n5. June Meetup
  which saw a discussion with Amod Malviya\, Kailash Nadh and Charu Tak.\n\
 n## When? 29th July\, Saturday\n## Speakers\n### Dr. Pratyush \n[Pratyush]
 (https://www.linkedin.com/in/pratyush-kumar-8844a8a3/) is a researcher at 
 Microsoft Research and AI4Bharat (IIT M) with a focus on systems and deep 
 learning for language technologies. He is deeply interested in realising A
 I as a force of social good. \n\nTalk Theme: Brief story of AI4Bharat - th
 e mission and what we have achieved. Will then move on to LLMs\, provide s
 ome technical insight into intrinsic dimensionality in deep learning\, and
  his take on how innovation will develop in building custom LLMs\n### Sach
 in Dharavshivkar\n[Sachin Dharashivkar](https://www.linkedin.com/in/sachin
 -dharashivkar/) will speak about LLM Finetuning and RLHF\nSachin is a foun
 der who is exploring use cases of AI agents. He enjoys training Reinforcem
 ent Learning agents and exploring novel applications of Large Language Mod
 els.\n\nTalk Theme: Introduction to Supervised and Reinforcement Finetunin
 g. \n\nThree steps of training chatGPT style models. How to perform superv
 ised finetuning. Why is Reinforcement Learning from Human Feedback importa
 nt and How to train Reward and Policy models.\n\nLocation: Bengaluru. Exac
 t location is shared in the invite on approval.\n
LAST-MODIFIED:20230812T083805Z
LOCATION:CRED aero\, Bengaluru - https://hasgeek.com/generativeAI/2023-07/
ORGANIZER;CN=GenerativeAI:MAILTO:no-reply@hasgeek.com
URL:https://hasgeek.com/generativeAI/2023-07/
BEGIN:VALARM
ACTION:display
DESCRIPTION:GenerativeAI July Meetup in 5 minutes
TRIGGER:-PT5M
END:VALARM
END:VEVENT
END:VCALENDAR
