BEGIN:VCALENDAR
VERSION:2.0
PRODID:-//HasGeek//NONSGML Funnel//EN
DESCRIPTION:Share your use case with Kotlin\; learn from your peers' exper
 iences
X-WR-CALDESC:Share your use case with Kotlin\; learn from your peers' expe
 riences
NAME:Kotlin users' meetup
X-WR-CALNAME:Kotlin users' meetup
REFRESH-INTERVAL;VALUE=DURATION:PT12H
SUMMARY:Kotlin users' meetup
TIMEZONE-ID:Asia/Kolkata
X-PUBLISHED-TTL:PT12H
X-WR-TIMEZONE:Asia/Kolkata
BEGIN:VEVENT
SUMMARY:Introduction to the meetup\; setting expectations.
DTSTART:20200620T103000Z
DTEND:20200620T103500Z
DTSTAMP:20260419T220828Z
UID:session/SXuzY1eDvdMAt58ycQZfGj@hasgeek.com
SEQUENCE:0
CREATED:20200607T111543Z
DESCRIPTION:\n
LAST-MODIFIED:20200607T111543Z
LOCATION:Online
ORGANIZER;CN=Fragments:MAILTO:no-reply@hasgeek.com
BEGIN:VALARM
ACTION:display
DESCRIPTION:Introduction to the meetup\; setting expectations. in 5 minute
 s
TRIGGER:-PT5M
END:VALARM
END:VEVENT
BEGIN:VEVENT
SUMMARY:Getting started with Kotlin
DTSTART:20200620T103500Z
DTEND:20200620T110500Z
DTSTAMP:20260419T220828Z
UID:session/4Bsmo3zqB9q5rgyqBsMFBt@hasgeek.com
SEQUENCE:1
CREATED:20200607T111622Z
DESCRIPTION:- Migrating from Java to Kotlin\n- What are the biggest wins ?
 \n- Any drawbacks ?\nAdvantages on Different Platforms\n- Kotlin for Andro
 id - gains\, losses\, industry trends\n- Kotlin for servers - KTor\, curre
 nt state\, industry trends\n
LAST-MODIFIED:20230108T103046Z
LOCATION:Online
ORGANIZER;CN=Fragments:MAILTO:no-reply@hasgeek.com
BEGIN:VALARM
ACTION:display
DESCRIPTION:Getting started with Kotlin in 5 minutes
TRIGGER:-PT5M
END:VALARM
END:VEVENT
BEGIN:VEVENT
SUMMARY:Kotlin Deep Dive
DTSTART:20200620T110500Z
DTEND:20200620T113500Z
DTSTAMP:20260419T220828Z
UID:session/TeSQnysxtBck6fJDuHcQva@hasgeek.com
SEQUENCE:1
CREATED:20200607T111656Z
DESCRIPTION:- Reactive and Asynchronous Programming\n– How useful are co
 routines ? Are they a game changer ? Anything to watch out for ?\n– Flow
 s\, Channels\, Streams - can Kotlin stdlib replace RxJava ?\nWhat’s new 
 in Kotlin 1.4\nExperiments and Opportunities with Kotlin\n- Kotlin Multipl
 atform\n
LAST-MODIFIED:20230108T103046Z
LOCATION:Online
ORGANIZER;CN=Fragments:MAILTO:no-reply@hasgeek.com
BEGIN:VALARM
ACTION:display
DESCRIPTION:Kotlin Deep Dive in 5 minutes
TRIGGER:-PT5M
END:VALARM
END:VEVENT
BEGIN:VEVENT
SUMMARY:Experiments and Opportunities with Kotlin
DTSTART:20200620T113500Z
DTEND:20200620T120500Z
DTSTAMP:20260419T220828Z
UID:session/BuCQmeUKbhXFhFKAnXgMrS@hasgeek.com
SEQUENCE:1
CREATED:20200607T111726Z
DESCRIPTION:1. Kotlin Multiplatform \n2. Where is the ecosystem right now 
 ? \n3. Can KMP be used for production cross-platform iOS/Android apps ? \n
 4. Opportunities and challenges with Kotlin/JS ?\n
LAST-MODIFIED:20230108T103046Z
LOCATION:Online
ORGANIZER;CN=Fragments:MAILTO:no-reply@hasgeek.com
BEGIN:VALARM
ACTION:display
DESCRIPTION:Experiments and Opportunities with Kotlin in 5 minutes
TRIGGER:-PT5M
END:VALARM
END:VEVENT
BEGIN:VEVENT
SUMMARY:Summarizing key takeaways\; conclusion
DTSTART:20200620T120500Z
DTEND:20200620T121500Z
DTSTAMP:20260419T220828Z
UID:session/FfM3T2FAkXVBXyCM5N78cc@hasgeek.com
SEQUENCE:0
CREATED:20200607T111756Z
DESCRIPTION:\n
LAST-MODIFIED:20200619T054633Z
LOCATION:Online
ORGANIZER;CN=Fragments:MAILTO:no-reply@hasgeek.com
BEGIN:VALARM
ACTION:display
DESCRIPTION:Summarizing key takeaways\; conclusion in 5 minutes
TRIGGER:-PT5M
END:VALARM
END:VEVENT
END:VCALENDAR
