BEGIN:VCALENDAR
VERSION:2.0
PRODID:-//HasGeek//NONSGML Funnel//EN
DESCRIPTION:services-flake: Services simplified for Dev/CI workflows
X-WR-CALDESC:services-flake: Services simplified for Dev/CI workflows
NAME:Shivaraj talks about about Nix service-flake
X-WR-CALNAME:Shivaraj talks about about Nix service-flake
REFRESH-INTERVAL;VALUE=DURATION:PT12H
SUMMARY:Shivaraj talks about about Nix service-flake
TIMEZONE-ID:Asia/Kolkata
X-PUBLISHED-TTL:PT12H
X-WR-TIMEZONE:Asia/Kolkata
BEGIN:VEVENT
SUMMARY:Shivaraj talks about about Nix service-flake
DTSTART:20250104T113000Z
DTEND:20250104T123000Z
DTSTAMP:20260421T181827Z
UID:session/2PFY54xWL6cYKYnoXr4jMQ@hasgeek.com
SEQUENCE:6
CREATED:20241225T084518Z
DESCRIPTION:Shivaraj B H (https://x.com/shivaraj_bh_) will demonstrate usi
 ng services-flake to declaratively manage service dependencies (for exampl
 e\, databases) of your project in the Nix development environment and re-u
 se the same configuration for testing in your CI workflow. This talk build
 s upon his lightning talk from NixCon 2024 (https://talks.nixcon.org/nixco
 n-2024/talk/review/UTZQ8YZHKSMTUPRSC83TKALDUYNL9BCX)\, diving deeper into 
 the topic with additional insights.\n\nUPDATE: Meeting link: https://meet.
 jit.si/services-flake\nUPDATE: YouTube streaming link: https://www.youtube
 .com/watch?v=GsLNPaM3tf8\n\nThe talk serves as a video demonstration of th
 e Part-4 in the Nixify Haskell projects series. (https://nixos.asia/en/nix
 ify-haskell)
LAST-MODIFIED:20250103T030105Z
LOCATION:Online - https://hasgeek.com/fpindia/shivaraj-talks-about-about-n
 ix-service-flake/
ORGANIZER;CN="Functional Programming India":MAILTO:no-reply@hasgeek.com
URL:https://hasgeek.com/fpindia/shivaraj-talks-about-about-nix-service-fla
 ke/
BEGIN:VALARM
ACTION:display
DESCRIPTION:Shivaraj talks about about Nix service-flake in 5 minutes
TRIGGER:-PT5M
END:VALARM
END:VEVENT
END:VCALENDAR
