BEGIN:VCALENDAR
VERSION:2.0
PRODID:-//HasGeek//NONSGML Funnel//EN
DESCRIPTION:November Bangalore Haskell meetup
X-WR-CALDESC:November Bangalore Haskell meetup
NAME:November Bangalore Haskell meetup
X-WR-CALNAME:November Bangalore Haskell meetup
REFRESH-INTERVAL;VALUE=DURATION:PT12H
SUMMARY:November Bangalore Haskell meetup
TIMEZONE-ID:Asia/Kolkata
X-PUBLISHED-TTL:PT12H
X-WR-TIMEZONE:Asia/Kolkata
BEGIN:VEVENT
SUMMARY:November Bangalore Haskell meetup
DTSTART:20241116T050000Z
DTEND:20241116T073000Z
DTSTAMP:20260420T130119Z
UID:session/DhUGLAqYDzi87dy986KUEo@hasgeek.com
SEQUENCE:6
CREATED:20241106T125708Z
DESCRIPTION:**Cancelled**. See the **Updates** tab/section.\n\nThis will b
 e an in person meetup\, and we are happy to accept submissions for talks\,
  if any.\n\nAnyone interested in Haskell or FP in general is welcomed to j
 oin. While we will have no specific agenda\, attendees can discuss\, speak
  or ask about\n\n   - Get help or clarification on any specific topic or q
 uestion\n   - Speak about a project or something you are working or lookin
 g to work on\n   - Share any specific experience on using Haskell in any o
 f your projects\n   - Discuss any book/topic/library/blog in Haskell\n   -
  Want to propose a reading group?\n   - Anything Haskell\n\nPlease note\, 
 that Dyte is on third floor\, above Third wave coffee shop.\n\nIf you find
  the entrance for getting to the third floor closed\, please access the li
 ft via basement parking. You should see a gate/entrance just below Third w
 ave coffee shop.
LAST-MODIFIED:20241115T084843Z
LOCATION:Bengaluru - https://hasgeek.com/fpindia/november-bangalore-haskel
 l-meetup/
ORGANIZER;CN="Functional Programming India":MAILTO:no-reply@hasgeek.com
URL:https://hasgeek.com/fpindia/november-bangalore-haskell-meetup/
BEGIN:VALARM
ACTION:display
DESCRIPTION:November Bangalore Haskell meetup in 5 minutes
TRIGGER:-PT5M
END:VALARM
END:VEVENT
END:VCALENDAR
