BEGIN:VCALENDAR
VERSION:2.0
PRODID:-//HasGeek//NONSGML Funnel//EN
DESCRIPTION:nix\, nixOS\, nixpkgs
X-WR-CALDESC:nix\, nixOS\, nixpkgs
NAME:Using home-manager to manage dotfiles\, packages\, services
X-WR-CALNAME:Using home-manager to manage dotfiles\, packages\, services
REFRESH-INTERVAL;VALUE=DURATION:PT12H
SUMMARY:Using home-manager to manage dotfiles\, packages\, services
TIMEZONE-ID:Asia/Kolkata
X-PUBLISHED-TTL:PT12H
X-WR-TIMEZONE:Asia/Kolkata
BEGIN:VEVENT
SUMMARY:Using home-manager to manage dotfiles\, packages\, services
DTSTART:20240305T110000Z
DTEND:20240305T123000Z
DTSTAMP:20260420T130652Z
UID:session/YWV2QDV7DX48TDdskrE1tn@hasgeek.com
SEQUENCE:9
CREATED:20240228T034510Z
DESCRIPTION:https://nixos.asia/en/event/nix-dev-home\n\n Sridhar Ratnakuma
 r will demonstrate using Nix to declaratively manage your dotfiles\, progr
 ams and services using home-manager\, thus replacing the likes of legacy s
 oftware like homebrew. The goal is to create a one-click environment to se
 t up an user environment on any system\, be it a MacBook or a Linux machin
 e.\n\nAmong the various examples\, we will showcase how to configure Neovi
 m declaratively in Nix\, and have it work across platforms. In addition\, 
 we will show how to use direnv to develop projects uniformly across differ
 ent machines.\n\n**This will be an online event. Joining link for the even
 t will be shared later.**
LAST-MODIFIED:20240228T123152Z
LOCATION:Online - https://hasgeek.com/fpindia/nixos-asia-home-manager/
ORGANIZER;CN="Functional Programming India":MAILTO:no-reply@hasgeek.com
URL:https://hasgeek.com/fpindia/nixos-asia-home-manager/
BEGIN:VALARM
ACTION:display
DESCRIPTION:Using home-manager to manage dotfiles\, packages\, services in
  5 minutes
TRIGGER:-PT5M
END:VALARM
END:VEVENT
END:VCALENDAR
