BEGIN:VCALENDAR
VERSION:2.0
PRODID:-//HasGeek//NONSGML Funnel//EN
DESCRIPTION:June Bangalore Haskell meetup
X-WR-CALDESC:June Bangalore Haskell meetup
NAME:June Bangalore Haskell meetup
X-WR-CALNAME:June Bangalore Haskell meetup
REFRESH-INTERVAL;VALUE=DURATION:PT12H
SUMMARY:June Bangalore Haskell meetup
TIMEZONE-ID:Asia/Kolkata
X-PUBLISHED-TTL:PT12H
X-WR-TIMEZONE:Asia/Kolkata
BEGIN:VEVENT
SUMMARY:June Bangalore Haskell meetup
DTSTART:20240629T043000Z
DTEND:20240629T073000Z
DTSTAMP:20260420T064811Z
UID:session/8HrEYDWgqqXP8TtAvZQCUm@hasgeek.com
SEQUENCE:5
CREATED:20240606T145151Z
DESCRIPTION:This will be an in person meetup\, and we are happy to accept 
 submissions for talks\, if any.\n\nAnyone interested in Haskell is welcome
 d to join. While we will have no specific agenda\, attendees can discuss\,
  speak or ask about\n\n   - Get help or clarification on any specific topi
 c or question\n   - Speak about a project or something you are working or 
 looking to work on\n   - Share any specific experience on using Haskell in
  any of your projects\n   - Discuss any book/topic/library/blog in Haskell
 \n   - Want to propose a reading group?\n   - Anything Haskell\n\nPlease n
 ote\, that Dyte is on third floor\, above Third wave coffee shop.\n\nIf yo
 u find the entrance for getting to the third floor closed\, please access 
 the lift via basement parking. You should see a gate/entrance just below T
 hird wave coffee shop.
LAST-MODIFIED:20241106T130019Z
LOCATION:Bangalore - https://hasgeek.com/fpindia/june-bangalore-haskell-me
 etup/
ORGANIZER;CN="Functional Programming India":MAILTO:no-reply@hasgeek.com
URL:https://hasgeek.com/fpindia/june-bangalore-haskell-meetup/
BEGIN:VALARM
ACTION:display
DESCRIPTION:June Bangalore Haskell meetup in 5 minutes
TRIGGER:-PT5M
END:VALARM
END:VEVENT
END:VCALENDAR
