BEGIN:VCALENDAR
VERSION:2.0
PRODID:-//HasGeek//NONSGML Funnel//EN
DESCRIPTION:Haskell - Semigroups and Monoid
X-WR-CALDESC:Haskell - Semigroups and Monoid
NAME:Haskell - Semigroups and Monoid
X-WR-CALNAME:Haskell - Semigroups and Monoid
REFRESH-INTERVAL;VALUE=DURATION:PT12H
SUMMARY:Haskell - Semigroups and Monoid
TIMEZONE-ID:Asia/Kolkata
X-PUBLISHED-TTL:PT12H
X-WR-TIMEZONE:Asia/Kolkata
BEGIN:VEVENT
SUMMARY:Haskell - Semigroups and Monoid
DTSTART:20240217T043000Z
DTEND:20240217T073000Z
DTSTAMP:20260420T125845Z
UID:session/htWP7oriL7qAwwZ2XrjrU@hasgeek.com
SEQUENCE:4
CREATED:20240212T114538Z
DESCRIPTION:\n\nAgenda for this meetup will be to cover the chapter 15 on 
 Monoid & Semigroup from the Haskell book\, https://haskellbook.com/.\n\nIf
  you have missed the previous meetup on Type classes\, please refer to the
  below material.\nhttps://serokell.io/blog/haskell-typeclasses\nhttps://ww
 w.learnyouahaskell.com/types-and-typeclasses\n\nYou need not have access t
 o the Haskell book to attend the meetup. Please come up with a laptop and 
 Haskell setup (https://www.haskell.org/ghcup/) as we will have some hands 
 on.\n\nFor discussions and co-ordination\, join the Functional Programming
  India telegram group. https://t.me/fpncr.\n\nNOTE: Please make it on time
  for us to make it with 1 PM as closing.
LAST-MODIFIED:20240212T114538Z
LOCATION:Bengaluru - https://hasgeek.com/fpindia/haskell-semigroups-and-mo
 noid/
ORGANIZER;CN="Functional Programming India":MAILTO:no-reply@hasgeek.com
URL:https://hasgeek.com/fpindia/haskell-semigroups-and-monoid/
BEGIN:VALARM
ACTION:display
DESCRIPTION:Haskell - Semigroups and Monoid in 5 minutes
TRIGGER:-PT5M
END:VALARM
END:VEVENT
END:VCALENDAR
