BEGIN:VCALENDAR
VERSION:2.0
PRODID:-//HasGeek//NONSGML Funnel//EN
DESCRIPTION:Haskell - Functor
X-WR-CALDESC:Haskell - Functor
NAME:Haskell - Functor
X-WR-CALNAME:Haskell - Functor
REFRESH-INTERVAL;VALUE=DURATION:PT12H
SUMMARY:Haskell - Functor
TIMEZONE-ID:Asia/Kolkata
X-PUBLISHED-TTL:PT12H
X-WR-TIMEZONE:Asia/Kolkata
BEGIN:VEVENT
SUMMARY:Haskell - Functor
DTSTART:20240302T043000Z
DTEND:20240302T073000Z
DTSTAMP:20260420T125808Z
UID:session/71bErpvnxq7jz9yqDSDg5m@hasgeek.com
SEQUENCE:3
CREATED:20240228T114217Z
DESCRIPTION:Agenda for this meetup will be to cover the chapter 16 on Func
 tor from the Haskell book\, https://haskellbook.com/.\n\nIf you have misse
 d the previous meetup on Type classes\, please refer to the below material
 .\nhttps://serokell.io/blog/haskell-typeclasses\nhttps://www.learnyouahask
 ell.com/types-and-typeclasses\n\nYou need not have access to the Haskell b
 ook to attend the meetup. Please come up with a laptop and Haskell setup (
 https://www.haskell.org/ghcup/) as we will have some hands on.\n\nFor disc
 ussions and co-ordination\, join the Functional Programming India telegram
  group. https://t.me/fpncr.\n\nNOTE: Please make it on time for us to make
  it with 1 PM as closing.\n
LAST-MODIFIED:20240228T114217Z
LOCATION:Dyte\, Bengaluru - https://hasgeek.com/fpindia/haskell-functor/
ORGANIZER;CN="Functional Programming India":MAILTO:no-reply@hasgeek.com
URL:https://hasgeek.com/fpindia/haskell-functor/
BEGIN:VALARM
ACTION:display
DESCRIPTION:Haskell - Functor in 5 minutes
TRIGGER:-PT5M
END:VALARM
END:VEVENT
END:VCALENDAR
