BEGIN:VCALENDAR
VERSION:2.0
PRODID:-//HasGeek//NONSGML Funnel//EN
DESCRIPTION:Haskell - Algebraic Data Types
X-WR-CALDESC:Haskell - Algebraic Data Types
NAME:Haskell - Algebraic Data Types
X-WR-CALNAME:Haskell - Algebraic Data Types
REFRESH-INTERVAL;VALUE=DURATION:PT12H
SUMMARY:Haskell - Algebraic Data Types
TIMEZONE-ID:Asia/Kolkata
X-PUBLISHED-TTL:PT12H
X-WR-TIMEZONE:Asia/Kolkata
BEGIN:VEVENT
SUMMARY:Haskell - Algebraic Data Types
DTSTART:20240127T043000Z
DTEND:20240127T073000Z
DTSTAMP:20260420T125808Z
UID:session/EUSrGWWqhb7A8fJp49oETh@hasgeek.com
SEQUENCE:3
CREATED:20240123T085118Z
DESCRIPTION:Agenda for this meetup will be to cover the chapter 11 on Alge
 braic Data Types from the Haskell book\, https://haskellbook.com/. If time
  permits\, we will talk about using Stack/Cabal or discuss the next topic 
 of Monoids & Semigroups briefly.\n\nYou need not have access to the Haskel
 l book to attend the meetup. Please come up with a laptop and Haskell setu
 p (https://www.haskell.org/ghcup/) as we will have some hands on.\n\nFor d
 iscussions and co-ordination\, join the Functional Programming India teleg
 ram group. https://t.me/fpncr.\n\nNOTE: Please make it on time for us to m
 ake it with 1 PM as closing.
LAST-MODIFIED:20240123T085118Z
LOCATION:Dyte\, HSR Layout\, Bangalore - https://hasgeek.com/fpindia/haske
 ll-algebraic-data-types/
ORGANIZER;CN="Functional Programming India":MAILTO:no-reply@hasgeek.com
URL:https://hasgeek.com/fpindia/haskell-algebraic-data-types/
BEGIN:VALARM
ACTION:display
DESCRIPTION:Haskell - Algebraic Data Types in 5 minutes
TRIGGER:-PT5M
END:VALARM
END:VEVENT
END:VCALENDAR
