BEGIN:VCALENDAR
VERSION:2.0
PRODID:-//HasGeek//NONSGML Funnel//EN
DESCRIPTION:A reading group to discuss effect systems in functional progra
 mming languages
X-WR-CALDESC:A reading group to discuss effect systems in functional progr
 amming languages
NAME:Effect Systems Reading Group
X-WR-CALNAME:Effect Systems Reading Group
REFRESH-INTERVAL;VALUE=DURATION:PT12H
SUMMARY:Effect Systems Reading Group
TIMEZONE-ID:Asia/Kolkata
X-PUBLISHED-TTL:PT12H
X-WR-TIMEZONE:Asia/Kolkata
BEGIN:VEVENT
SUMMARY:Effect Systems Meetup 3
DTSTART:20230506T133000Z
DTEND:20230506T150000Z
DTSTAMP:20260421T181418Z
UID:session/GfTf6M64s9qzGy8srFdbSX@hasgeek.com
SEQUENCE:3
CREATED:20230426T140655Z
DESCRIPTION:Informal meetup agenda -\n1. Anupam Jain will discuss Vyom - h
 ttps://github.com/ajnsit/vyom.\n2. General discussion around effect system
 s
LAST-MODIFIED:20230602T075302Z
LOCATION:Online
ORGANIZER;CN="Functional Programming India":MAILTO:no-reply@hasgeek.com
BEGIN:VALARM
ACTION:display
DESCRIPTION:Effect Systems Meetup 3 in 5 minutes
TRIGGER:-PT5M
END:VALARM
END:VEVENT
BEGIN:VEVENT
SUMMARY:Sanchayan Maity talks about the nitty gritty details of implementi
 ng Effect Systems in Haskell
DTSTART:20230520T133000Z
DTEND:20230520T150500Z
DTSTAMP:20260421T181418Z
UID:session/FXUf5pz3jnZ64aNSsWK6qu@hasgeek.com
SEQUENCE:0
CREATED:20230507T075421Z
DESCRIPTION:Sanchayan Maity talks about the nitty gritty details of implem
 enting Effect Systems in Haskell
LAST-MODIFIED:20230507T075421Z
LOCATION:Online
ORGANIZER;CN="Functional Programming India":MAILTO:no-reply@hasgeek.com
BEGIN:VALARM
ACTION:display
DESCRIPTION:Sanchayan Maity talks about the nitty gritty details of implem
 enting Effect Systems in Haskell in 5 minutes
TRIGGER:-PT5M
END:VALARM
END:VEVENT
BEGIN:VEVENT
SUMMARY:Effect Systems meetup 4
DTSTART:20230701T140000Z
DTEND:20230701T153000Z
DTSTAMP:20260421T181418Z
UID:session/3KKk6oQr2gAqsZKf64VCcg@hasgeek.com
SEQUENCE:4
CREATED:20230628T135128Z
DESCRIPTION:We will discuss the following two papers related to Evidence p
 assing in effect handlers.\n\nhttps://dl.acm.org/doi/pdf/10.1145/3473576\n
 \nhttps://xnning.github.io/papers/haskell-evidently.pdf
LAST-MODIFIED:20230628T140222Z
LOCATION:Online
ORGANIZER;CN="Functional Programming India":MAILTO:no-reply@hasgeek.com
BEGIN:VALARM
ACTION:display
DESCRIPTION:Effect Systems meetup 4 in 5 minutes
TRIGGER:-PT5M
END:VALARM
END:VEVENT
END:VCALENDAR
