BEGIN:VCALENDAR
VERSION:2.0
PRODID:-//HasGeek//NONSGML Funnel//EN
DESCRIPTION:Bangalore FP September 2025 meetup
X-WR-CALDESC:Bangalore FP September 2025 meetup
NAME:Bangalore FP September 2025 meetup
X-WR-CALNAME:Bangalore FP September 2025 meetup
REFRESH-INTERVAL;VALUE=DURATION:PT12H
SUMMARY:Bangalore FP September 2025 meetup
TIMEZONE-ID:Asia/Kolkata
X-PUBLISHED-TTL:PT12H
X-WR-TIMEZONE:Asia/Kolkata
BEGIN:VEVENT
SUMMARY:Bangalore FP September 2025 meetup
DTSTART:20250906T053000Z
DTEND:20250906T073000Z
DTSTAMP:20260421T181806Z
UID:session/RGVbAaXmGHx1WLkp5vkKFt@hasgeek.com
SEQUENCE:11
CREATED:20250818T110818Z
DESCRIPTION:Any topics related to functional programming languages are wel
 come.\n\n- ML (Haskell/OCaml/Idris/Lean/Rocq/Agda/PureScript)\n- Beam (Erl
 ang/Elixir/Gleam)\n- LISP/Scheme dialects/Clojure\n\nVenue:\n\nJuspay Tech
 nologies Pvt. Ltd.\nIndiqube Grape Garden\nNess Building 4th Floor\, Korma
 ngala\nBengaluru - 560095\nKarnataka\, IN\nhttps://maps.app.goo.gl/DejZZqC
 w7aaTDj9F7\n
LAST-MODIFIED:20250903T122042Z
LOCATION:Online - https://hasgeek.com/fpindia/bangalore-fp-september-2025-
 meetup/
ORGANIZER;CN="Functional Programming India":MAILTO:no-reply@hasgeek.com
URL:https://hasgeek.com/fpindia/bangalore-fp-september-2025-meetup/
BEGIN:VALARM
ACTION:display
DESCRIPTION:Bangalore FP September 2025 meetup in 5 minutes
TRIGGER:-PT5M
END:VALARM
END:VEVENT
END:VCALENDAR
