BEGIN:VCALENDAR
VERSION:2.0
PRODID:-//HasGeek//NONSGML Funnel//EN
DESCRIPTION:Bangalore FP October 2025 meetup
X-WR-CALDESC:Bangalore FP October 2025 meetup
NAME:Bangalore FP October 2025 meetup
X-WR-CALNAME:Bangalore FP October 2025 meetup
REFRESH-INTERVAL;VALUE=DURATION:PT12H
SUMMARY:Bangalore FP October 2025 meetup
TIMEZONE-ID:Asia/Kolkata
X-PUBLISHED-TTL:PT12H
X-WR-TIMEZONE:Asia/Kolkata
BEGIN:VEVENT
SUMMARY:Bangalore FP October 2025 meetup
DTSTART:20251011T053000Z
DTEND:20251011T073000Z
DTSTAMP:20260421T181827Z
UID:session/W5t4XTYTnmWedhBMeogQ6s@hasgeek.com
SEQUENCE:7
CREATED:20250902T054755Z
DESCRIPTION:Any topics related to functional programming languages are wel
 come.\n\nML (Haskell/OCaml/Idris/Lean/Rocq/Agda/PureScript)\nBeam (Erlang/
 Elixir/Gleam)\nLISP/Scheme dialects/Clojure\n\nLocation: Pre6 Tech\, HSR L
 ayout\n
LAST-MODIFIED:20250915T124421Z
LOCATION:TBA - https://hasgeek.com/fpindia/bangalore-fp-october-2025-meetu
 p/
ORGANIZER;CN="Functional Programming India":MAILTO:no-reply@hasgeek.com
URL:https://hasgeek.com/fpindia/bangalore-fp-october-2025-meetup/
BEGIN:VALARM
ACTION:display
DESCRIPTION:Bangalore FP October 2025 meetup in 5 minutes
TRIGGER:-PT5M
END:VALARM
END:VEVENT
END:VCALENDAR
