BEGIN:VCALENDAR
VERSION:2.0
PRODID:-//HasGeek//NONSGML Funnel//EN
DESCRIPTION:Bangalore FP November 2025 meetup - Cancelled
X-WR-CALDESC:Bangalore FP November 2025 meetup - Cancelled
NAME:Bangalore FP November 2025 meetup - Cancelled
X-WR-CALNAME:Bangalore FP November 2025 meetup - Cancelled
REFRESH-INTERVAL;VALUE=DURATION:PT12H
SUMMARY:Bangalore FP November 2025 meetup - Cancelled
TIMEZONE-ID:Asia/Kolkata
X-PUBLISHED-TTL:PT12H
X-WR-TIMEZONE:Asia/Kolkata
BEGIN:VEVENT
SUMMARY:Bangalore FP November 2025 meetup - Cancelled
DTSTART:20251122T053000Z
DTEND:20251122T073000Z
DTSTAMP:20260421T181835Z
UID:session/KM28eqmtCRi9fNPhPnWpmA@hasgeek.com
SEQUENCE:14
CREATED:20251122T061740Z
DESCRIPTION:Update: The FPIndia meetup for November has been cancelled. Th
 e next meetup shall take place in the month of December\n\nFPIndia Bangalo
 re November 2025 Meetup\n\nTalk submissions are now open. Any topics relat
 ed to functional programming languages are welcome.\n\nML (Haskell/OCaml/I
 dris/Lean/Rocq/Agda/PureScript)\nBeam (Erlang/Elixir/Gleam)\nLISP/Scheme d
 ialects/Clojure\n\nLocation: TBA\n
LAST-MODIFIED:20260112T074551Z
LOCATION:TBA - https://hasgeek.com/fpindia/bangalore-fp-november-2025-meet
 up/
ORGANIZER;CN="Functional Programming India":MAILTO:no-reply@hasgeek.com
URL:https://hasgeek.com/fpindia/bangalore-fp-november-2025-meetup/
BEGIN:VALARM
ACTION:display
DESCRIPTION:Bangalore FP November 2025 meetup - Cancelled in 5 minutes
TRIGGER:-PT5M
END:VALARM
END:VEVENT
END:VCALENDAR
