BEGIN:VCALENDAR
VERSION:2.0
PRODID:-//HasGeek//NONSGML Funnel//EN
DESCRIPTION:Bangalore FP May meetup
X-WR-CALDESC:Bangalore FP May meetup
NAME:Bangalore FP May meetup
X-WR-CALNAME:Bangalore FP May meetup
REFRESH-INTERVAL;VALUE=DURATION:PT12H
SUMMARY:Bangalore FP May meetup
TIMEZONE-ID:Asia/Kolkata
X-PUBLISHED-TTL:PT12H
X-WR-TIMEZONE:Asia/Kolkata
BEGIN:VEVENT
SUMMARY:Bangalore FP May meetup
DTSTART:20250517T050000Z
DTEND:20250517T080000Z
DTSTAMP:20260420T130119Z
UID:session/5DZx8JhpEwTLc6sZzRGh9C@hasgeek.com
SEQUENCE:5
CREATED:20250505T083057Z
DESCRIPTION:Any topics in the following languages are welcome.\n\n- ML (Ha
 skell/OCaml/Idris2/Lean/Rocq/Agda/PureScript)\n- Beam (Erlang/Elixir/Gleam
 )\n- LISP/Scheme dialects/Clojure\n\nThis will be an in person meetup.
LAST-MODIFIED:20250521T174330Z
LOCATION:Bengaluru - https://hasgeek.com/fpindia/bangalore-fp-may-meetup/
ORGANIZER;CN="Functional Programming India":MAILTO:no-reply@hasgeek.com
URL:https://hasgeek.com/fpindia/bangalore-fp-may-meetup/
BEGIN:VALARM
ACTION:display
DESCRIPTION:Bangalore FP May meetup in 5 minutes
TRIGGER:-PT5M
END:VALARM
END:VEVENT
END:VCALENDAR
