BEGIN:VCALENDAR
VERSION:2.0
PRODID:-//HasGeek//NONSGML Funnel//EN
DESCRIPTION:Bangalore FP June meetup
X-WR-CALDESC:Bangalore FP June meetup
NAME:Bangalore FP June meetup
X-WR-CALNAME:Bangalore FP June meetup
REFRESH-INTERVAL;VALUE=DURATION:PT12H
SUMMARY:Bangalore FP June meetup
TIMEZONE-ID:Asia/Kolkata
X-PUBLISHED-TTL:PT12H
X-WR-TIMEZONE:Asia/Kolkata
BEGIN:VEVENT
SUMMARY:Bangalore FP June meetup
DTSTART:20250614T050000Z
DTEND:20250614T080000Z
DTSTAMP:20260421T181633Z
UID:session/MCpdqmMvr9ZRQ7peAvD9J9@hasgeek.com
SEQUENCE:6
CREATED:20250610T060047Z
DESCRIPTION:Any topics in the following languages are welcome.\n\n- ML (Ha
 skell/OCaml/Idris2/Lean/Rocq/Agda/PureScript)\n- Beam (Erlang/Elixir/Gleam
 )\n- LISP/Scheme dialects/Clojure\n\nVenue for the meetup is Pre6 (https:/
 /pre6.ai/).\n\nPre6 Tech Pvt Ltd\n1st floor\, HSR Optima\, 1672/A\n14th Ma
 in Rd\, Sector 7\, HSR Layout\nBengaluru - 560102\nKarnataka\, IN\n\n
LAST-MODIFIED:20250808T094508Z
LOCATION:Bengaluru - https://hasgeek.com/fpindia/bangalore-fp-june-meetup/
ORGANIZER;CN="Functional Programming India":MAILTO:no-reply@hasgeek.com
URL:https://hasgeek.com/fpindia/bangalore-fp-june-meetup/
BEGIN:VALARM
ACTION:display
DESCRIPTION:Bangalore FP June meetup in 5 minutes
TRIGGER:-PT5M
END:VALARM
END:VEVENT
END:VCALENDAR
