BEGIN:VCALENDAR
VERSION:2.0
PRODID:-//HasGeek//NONSGML Funnel//EN
DESCRIPTION:Bangalore FP February meetup
X-WR-CALDESC:Bangalore FP February meetup
NAME:Bangalore FP February meetup
X-WR-CALNAME:Bangalore FP February meetup
REFRESH-INTERVAL;VALUE=DURATION:PT12H
SUMMARY:Bangalore FP February meetup
TIMEZONE-ID:Asia/Kolkata
X-PUBLISHED-TTL:PT12H
X-WR-TIMEZONE:Asia/Kolkata
BEGIN:VEVENT
SUMMARY:Bangalore FP February meetup
DTSTART:20250215T050000Z
DTEND:20250215T080000Z
DTSTAMP:20260420T144232Z
UID:session/RgNKttXgQxDfESb3MyKvcK@hasgeek.com
SEQUENCE:10
CREATED:20250115T085731Z
DESCRIPTION:Any topics in the following languages are welcome.\n\n- ML (Ha
 skell/OCaml/Idris2/Lean/Rocq/Agda)\n- Beam (Erlang/Elixir/Gleam)\n- LISP/S
 cheme dialects/Clojure\n\nThis will be an in person meetup.\n\nThe meetup 
 venue is Dyte (https://dyte.io/) @ HSR Layout.  Please note\, that Dyte is
  on third floor\, above Third wave coffee shop.\n\nIf you find the entranc
 e for getting to the third floor closed\, please access the lift via basem
 ent parking. You should see a gate/entrance just below Third wave coffee s
 hop.
LAST-MODIFIED:20250215T042952Z
LOCATION:Bangalore - https://hasgeek.com/fpindia/bangalore-fp-february-mee
 tup/
ORGANIZER;CN="Functional Programming India":MAILTO:no-reply@hasgeek.com
URL:https://hasgeek.com/fpindia/bangalore-fp-february-meetup/
BEGIN:VALARM
ACTION:display
DESCRIPTION:Bangalore FP February meetup in 5 minutes
TRIGGER:-PT5M
END:VALARM
END:VEVENT
END:VCALENDAR
