BEGIN:VCALENDAR
VERSION:2.0
PRODID:-//HasGeek//NONSGML Funnel//EN
DESCRIPTION:Bangalore FP August 2025 meetup
X-WR-CALDESC:Bangalore FP August 2025 meetup
NAME:Bangalore FP August 2025 meetup
X-WR-CALNAME:Bangalore FP August 2025 meetup
REFRESH-INTERVAL;VALUE=DURATION:PT12H
SUMMARY:Bangalore FP August 2025 meetup
TIMEZONE-ID:Asia/Kolkata
X-PUBLISHED-TTL:PT12H
X-WR-TIMEZONE:Asia/Kolkata
BEGIN:VEVENT
SUMMARY:Bangalore FP August 2025 meetup
DTSTART:20250809T053000Z
DTEND:20250809T073000Z
DTSTAMP:20260420T132537Z
UID:session/HiV14dFYCSMB8kX57pemfB@hasgeek.com
SEQUENCE:6
CREATED:20250712T103741Z
DESCRIPTION:Any topics related to functional programming languages are wel
 come.\n\n- ML (Haskell/OCaml/Idris/Lean/Rocq/Agda/PureScript)\n- Beam (Erl
 ang/Elixir/Gleam)\n- LISP/Scheme dialects/Clojure\n\nLocation: https://map
 s.app.goo.gl/JsKFKfjW6Lfp9fzi9?g_st=ic
LAST-MODIFIED:20250808T094556Z
LOCATION:Online - https://hasgeek.com/fpindia/bangalore-fp-august-2025-mee
 tup/
ORGANIZER;CN="Functional Programming India":MAILTO:no-reply@hasgeek.com
URL:https://hasgeek.com/fpindia/bangalore-fp-august-2025-meetup/
BEGIN:VALARM
ACTION:display
DESCRIPTION:Bangalore FP August 2025 meetup in 5 minutes
TRIGGER:-PT5M
END:VALARM
END:VEVENT
END:VCALENDAR
