BEGIN:VCALENDAR
VERSION:2.0
PRODID:-//HasGeek//NONSGML Funnel//EN
DESCRIPTION:Bangalore FP April meetup
X-WR-CALDESC:Bangalore FP April meetup
NAME:Bangalore FP April meetup
X-WR-CALNAME:Bangalore FP April meetup
REFRESH-INTERVAL;VALUE=DURATION:PT12H
SUMMARY:Bangalore FP April meetup
TIMEZONE-ID:Asia/Kolkata
X-PUBLISHED-TTL:PT12H
X-WR-TIMEZONE:Asia/Kolkata
BEGIN:VEVENT
SUMMARY:Bangalore FP April meetup
DTSTART:20250426T050000Z
DTEND:20250426T080000Z
DTSTAMP:20260421T181709Z
UID:session/MZ3Ykfx5nXxLKddKWetAFp@hasgeek.com
SEQUENCE:7
CREATED:20250406T132604Z
DESCRIPTION:Any topics in the following languages are welcome.\n\n- ML (Ha
 skell/OCaml/Idris2/Lean/Rocq/Agda/PureScript)\n- Beam (Erlang/Elixir/Gleam
 )\n- LISP/Scheme dialects/Clojure\n\nThis will be an in person meetup.\n\n
 The meetup venue is Dyte (https://dyte.io/) @ HSR Layout.  Please note\, t
 hat Dyte is on third floor\, above Third wave coffee shop.\n\nIf you find 
 the entrance for getting to the third floor closed\, please access the lif
 t via basement parking. You should see a gate/entrance just below Third wa
 ve coffee shop.
LAST-MODIFIED:20250521T174325Z
LOCATION:Bengaluru - https://hasgeek.com/fpindia/bangalore-fp-april-meetup
 /
ORGANIZER;CN="Functional Programming India":MAILTO:no-reply@hasgeek.com
URL:https://hasgeek.com/fpindia/bangalore-fp-april-meetup/
BEGIN:VALARM
ACTION:display
DESCRIPTION:Bangalore FP April meetup in 5 minutes
TRIGGER:-PT5M
END:VALARM
END:VEVENT
END:VCALENDAR
