BEGIN:VCALENDAR
VERSION:2.0
PRODID:-//HasGeek//NONSGML Funnel//EN
DESCRIPTION:A reading group to discuss algorithms and data structure desig
 n in Haskell (and other functional programming languages)
X-WR-CALDESC:A reading group to discuss algorithms and data structure desi
 gn in Haskell (and other functional programming languages)
NAME:Algorithm Design with Haskell Reading Group
X-WR-CALNAME:Algorithm Design with Haskell Reading Group
REFRESH-INTERVAL;VALUE=DURATION:PT12H
SUMMARY:Algorithm Design with Haskell Reading Group
TIMEZONE-ID:Asia/Kolkata
X-PUBLISHED-TTL:PT12H
X-WR-TIMEZONE:Asia/Kolkata
BEGIN:VEVENT
SUMMARY:Algorithm Design with Haskell: Chapter 1
DTSTART:20230513T133000Z
DTEND:20230513T143000Z
DTSTAMP:20260421T181411Z
UID:session/8sG6VpxYQJjbnkMBw82VxN@hasgeek.com
SEQUENCE:1
CREATED:20230512T094032Z
DESCRIPTION:We'll discuss Chapter 1 of the Algorithm Design with Haskell b
 ook. You should read the chapter before attending (attempting the exercise
 s before the meetup is optional).
LAST-MODIFIED:20230512T094136Z
LOCATION:Online
ORGANIZER;CN="Functional Programming India":MAILTO:no-reply@hasgeek.com
BEGIN:VALARM
ACTION:display
DESCRIPTION:Algorithm Design with Haskell: Chapter 1 in 5 minutes
TRIGGER:-PT5M
END:VALARM
END:VEVENT
BEGIN:VEVENT
SUMMARY:Algorithm Design with Haskell - Day 2
DTSTART:20230527T133000Z
DTEND:20230527T150000Z
DTSTAMP:20260421T181411Z
UID:session/WxL619ZyxZPMoJ5FtZNyZZ@hasgeek.com
SEQUENCE:0
CREATED:20230517T043231Z
DESCRIPTION:Agenda -\n1. Section 1.5\n2. QnA for Chapter 1 exercises\n3. C
 hapter 2
LAST-MODIFIED:20230517T043231Z
LOCATION:Online
ORGANIZER;CN="Functional Programming India":MAILTO:no-reply@hasgeek.com
BEGIN:VALARM
ACTION:display
DESCRIPTION:Algorithm Design with Haskell - Day 2 in 5 minutes
TRIGGER:-PT5M
END:VALARM
END:VEVENT
END:VCALENDAR
