BEGIN:VCALENDAR
VERSION:2.0
PRODID:-//HasGeek//NONSGML Funnel//EN
DESCRIPTION:FOSSMeet is an annual event at NIT Calicut that brings togethe
 r the Free and Open Source Community from around the country.
X-WR-CALDESC:FOSSMeet is an annual event at NIT Calicut that brings togeth
 er the Free and Open Source Community from around the country.
NAME:FOSSMeet 2019
X-WR-CALNAME:FOSSMeet 2019
REFRESH-INTERVAL;VALUE=DURATION:PT12H
SUMMARY:FOSSMeet 2019
TIMEZONE-ID:Asia/Kolkata
X-PUBLISHED-TTL:PT12H
X-WR-TIMEZONE:Asia/Kolkata
BEGIN:VEVENT
SUMMARY:Keynote
DTSTART:20190215T114500Z
DTEND:20190215T120000Z
DTSTAMP:20260420T104032Z
UID:session/JWCRCD4MTxYL7o5GKgRqNH@hasgeek.com
SEQUENCE:0
CREATED:20190204T130238Z
DESCRIPTION:\n
GEO:11.321651111253816;75.93407173873857
LAST-MODIFIED:20190204T130243Z
LOCATION:Bhaskara Hall - NITC\nCalicut\nIN
ORGANIZER;CN=FOSSMeet:MAILTO:no-reply@hasgeek.com
BEGIN:VALARM
ACTION:display
DESCRIPTION:Keynote in Bhaskara Hall in 5 minutes
TRIGGER:-PT5M
END:VALARM
END:VEVENT
BEGIN:VEVENT
SUMMARY:Break
DTSTART:20190215T120000Z
DTEND:20190215T121500Z
DTSTAMP:20260420T104032Z
UID:session/MLx9MW3eLyoHKstZ322QVz@hasgeek.com
SEQUENCE:0
CREATED:20190204T131554Z
DESCRIPTION:\n
LAST-MODIFIED:20190204T131600Z
LOCATION:NIT Calicut
ORGANIZER;CN=FOSSMeet:MAILTO:no-reply@hasgeek.com
BEGIN:VALARM
ACTION:display
DESCRIPTION:Break in 5 minutes
TRIGGER:-PT5M
END:VALARM
END:VEVENT
BEGIN:VEVENT
SUMMARY:How and Why Open Hardware + Open Source can and should be used in 
 Non-western countries
DTSTART:20190215T121500Z
DTEND:20190215T131500Z
DTSTAMP:20260420T104032Z
UID:session/6tp4Kpx8TWJihahSbdXqkY@hasgeek.com
SEQUENCE:0
CREATED:20190204T132215Z
DESCRIPTION:\n
GEO:11.321651111253816;75.93407173873857
LAST-MODIFIED:20190210T204826Z
LOCATION:Bhaskara Hall - NITC\nCalicut\nIN
ORGANIZER;CN=FOSSMeet:MAILTO:no-reply@hasgeek.com
BEGIN:VALARM
ACTION:display
DESCRIPTION:How and Why Open Hardware + Open Source can and should be used
  in Non-western countries in Bhaskara Hall in 5 minutes
TRIGGER:-PT5M
END:VALARM
END:VEVENT
BEGIN:VEVENT
SUMMARY:Break
DTSTART:20190215T131500Z
DTEND:20190215T133000Z
DTSTAMP:20260420T104032Z
UID:session/4MdWNKsae1SmEGyDywMPS5@hasgeek.com
SEQUENCE:0
CREATED:20190204T132201Z
DESCRIPTION:\n
LAST-MODIFIED:20190204T132201Z
LOCATION:NIT Calicut
ORGANIZER;CN=FOSSMeet:MAILTO:no-reply@hasgeek.com
BEGIN:VALARM
ACTION:display
DESCRIPTION:Break in 5 minutes
TRIGGER:-PT5M
END:VALARM
END:VEVENT
BEGIN:VEVENT
SUMMARY:FOSSMeet: Past\, Present and Future
DTSTART:20190215T133000Z
DTEND:20190215T143000Z
DTSTAMP:20260420T104032Z
UID:session/ENJbznzQqW46yydbkGvZz8@hasgeek.com
SEQUENCE:2
CATEGORIES:Professional,Beginner
CREATED:20190204T131453Z
DESCRIPTION:>FOSSMeet Past\, Present and Future...\n>\nFOSSMeet: Vision\, 
 Mission and Objectives\nFOSSMeet: Culture and Collaborations\nFOSS and Car
 eer..\nFOSS and Society\nFOSS and Government…\nFOSS and Industry\nFOSS a
 nd Entrepreneurship…\nBusiness and FOSS\nFOSS and Community…\n\n### Sp
 eaker bio\n\nI combine my 14+ years of professional system design and deve
 lopment experience along with Design Thinking\, System Design and Engineer
 ing\, Social Engineering\, Change Management\, Team Building\, Mentorship 
 and Training. My main focus is on how we can be better technical and socia
 l leaders\, engineers and developers by focusing on learning the skills an
 d deeper part  engineering and sciences\, and skills most of ignore -  und
 erstanding of community and users. In design thinking\, I generally reason
  things w.r.t. big picture\, what should we solve and most important what 
 problems we should not solve. Most of the time early learners generally wa
 ste there vital time in solving problems which are not worth to solve\, or
  solve same kind of problems again and again… As a mentor\, I love to co
 ntribute at these  aspect more… \n\nI have consulted\, performed trainin
 gs\, workshops and designed and developed systems for clients in various s
 ectors. Technology in all its forms is part of my makeup and so I think\, 
 code\, speak\, train and make people awesome in there vision and mission. 
 I am strong proponent of Freedom\, Openness\, Scalability and Sustainabili
 ty in System Design and Engineering.\n\nI was leading contributor in makin
 g and evolving FOSSMeet@NITC in early phases. I lead FOSSMeet 2006 and FOS
 SMeet 2007 along with wonderful energetic\, diverse and vibrant team comin
 g from multiple departments\, areas\, student clubs\, community and indust
 ry. We made FOSSMeet@NITC 2nd largest after FOSS.IN\, Bangalore\, just in 
 3 years… Let’s meet\, share and explore more during 15th edition of FO
 SSMeet@NITC 2019… and make it awesome...\n
GEO:11.321651111253816;75.93407173873857
LAST-MODIFIED:20230810T072606Z
LOCATION:Bhaskara Hall - NITC\nCalicut\nIN
ORGANIZER;CN=FOSSMeet:MAILTO:no-reply@hasgeek.com
URL:https://hasgeek.com/fossmeet_nitc/2019/schedule/fossmeet-past-present-
 and-future-ENJbznzQqW46yydbkGvZz8
BEGIN:VALARM
ACTION:display
DESCRIPTION:FOSSMeet: Past\, Present and Future in Bhaskara Hall in 5 minu
 tes
TRIGGER:-PT5M
END:VALARM
END:VEVENT
BEGIN:VEVENT
SUMMARY:Digital Activism\; the need and you.
DTSTART:20190216T033000Z
DTEND:20190216T043000Z
DTSTAMP:20260420T104032Z
UID:session/4tmHypVHT2ijtJYUk2gEzj@hasgeek.com
SEQUENCE:2
CATEGORIES:Professional,Beginner
CREATED:20190204T124036Z
DESCRIPTION:Technology is evolving with tremendous pace since the industri
 al revolution. Industries has changed\, business has changed\, our politic
 s has changed. And this transition also has reflected on the issues the hu
 mankind face. The problems we face got more and more technical\, same for 
 the solutions. But unlike history these issues are mostly ignored\, maily 
 because of the complex and closed nature of technology. \nThis might be th
 e critical time where we should give a political perspective to technology
 . Knowledge isn't free\, Aron shwartz had to give his life to share the kn
 owledge he could access. Attempts to deny privacy to the citizen by both s
 tate and corporates. Cambridge analytica and examples set by China are ign
 ored and forgotten. \nWe need digital activism\, various forms of it. We n
 eed wikipedia editors to government representatives to advocate digital ri
 ghts.\n\n### Speaker bio\n\nA wikipedian\, free software promoter\, Privac
 y advocate\, political activist.\nMember of Freesoftware Community of Indi
 a\, Wikimedians of Kerala\, FreeSoftware User Group Thrissur\, Kerala Sast
 hra Sahithya Parishad. \nWorking at Alpha Fork Technologies\, a IT company
  with free software policies.\n
GEO:11.321651111253816;75.93407173873857
LAST-MODIFIED:20230810T072606Z
LOCATION:Bhaskara Hall - NITC\nCalicut\nIN
ORGANIZER;CN=FOSSMeet:MAILTO:no-reply@hasgeek.com
URL:https://hasgeek.com/fossmeet_nitc/2019/schedule/digital-activism-the-n
 eed-and-you-4tmHypVHT2ijtJYUk2gEzj
BEGIN:VALARM
ACTION:display
DESCRIPTION:Digital Activism\; the need and you. in Bhaskara Hall in 5 min
 utes
TRIGGER:-PT5M
END:VALARM
END:VEVENT
BEGIN:VEVENT
SUMMARY:Break
DTSTART:20190216T043000Z
DTEND:20190216T044500Z
DTSTAMP:20260420T104032Z
UID:session/RvwRxsqYrNQXMcNR5DXFWQ@hasgeek.com
SEQUENCE:0
CREATED:20190204T124655Z
DESCRIPTION:\n
LAST-MODIFIED:20190204T124655Z
LOCATION:NIT Calicut
ORGANIZER;CN=FOSSMeet:MAILTO:no-reply@hasgeek.com
BEGIN:VALARM
ACTION:display
DESCRIPTION:Break in 5 minutes
TRIGGER:-PT5M
END:VALARM
END:VEVENT
BEGIN:VEVENT
SUMMARY:Understanding SSL Certificates generation and it's Process
DTSTART:20190216T044500Z
DTEND:20190216T054500Z
DTSTAMP:20260420T104032Z
UID:session/6kAu8iftfYynpUTJQB6W6n@hasgeek.com
SEQUENCE:2
CATEGORIES:Student,Beginner
CREATED:20190204T124331Z
DESCRIPTION:This session is more about understanding how SSL certificates 
 are generated\, how connection is get encrypted using this certificates\, 
 how to deploy authentic certificates in your site and understanding certif
 icates checks. How certificate authorities like "Lets encrypt" works\, etc
 .\n\n### Speaker bio\n\nAmol Kahat is working with Red Hat India\, Pvt. Lt
 d. Pune\, Event host for Python Pune meetup\, Open source contributor\, In
 testred in Crypto and security.\n
GEO:11.321651111253816;75.93407173873857
LAST-MODIFIED:20230810T072606Z
LOCATION:Bhaskara Hall - NITC\nCalicut\nIN
ORGANIZER;CN=FOSSMeet:MAILTO:no-reply@hasgeek.com
URL:https://hasgeek.com/fossmeet_nitc/2019/schedule/understanding-ssl-cert
 ificates-generation-and-its-process-6kAu8iftfYynpUTJQB6W6n
BEGIN:VALARM
ACTION:display
DESCRIPTION:Understanding SSL Certificates generation and it's Process in 
 Bhaskara Hall in 5 minutes
TRIGGER:-PT5M
END:VALARM
END:VEVENT
BEGIN:VEVENT
SUMMARY:Break
DTSTART:20190216T054500Z
DTEND:20190216T060000Z
DTSTAMP:20260420T104032Z
UID:session/N1WJbcE3JLUGvKm1MQbdXY@hasgeek.com
SEQUENCE:0
CREATED:20190204T131638Z
DESCRIPTION:\n
GEO:11.321651111253816;75.93407173873857
LAST-MODIFIED:20190204T131638Z
LOCATION:Bhaskara Hall - NITC\nCalicut\nIN
ORGANIZER;CN=FOSSMeet:MAILTO:no-reply@hasgeek.com
BEGIN:VALARM
ACTION:display
DESCRIPTION:Break in Bhaskara Hall in 5 minutes
TRIGGER:-PT5M
END:VALARM
END:VEVENT
BEGIN:VEVENT
SUMMARY:Building Android for Simple Single core to Complex Multi-Core ARM 
 platforms
DTSTART:20190216T060000Z
DTEND:20190216T070000Z
DTSTAMP:20260420T104032Z
UID:session/A4RGCsbY8e17v7NS9GiSrB@hasgeek.com
SEQUENCE:2
CREATED:20190204T131801Z
DESCRIPTION:Android Open Source Project AOSP is public and available to po
 rt across various architectures and platforms. In this talk\, I will share
  my experience on porting AOSP on platforms from simple single core platfo
 rms to complex multi-core server platforms.\n\n### Speaker bio\n\nSenior S
 oftware Engineer\, Linaro. Passionate about building and booting Android o
 n ARM based SOCs for TV\, Tablets\, Mobile\, Non-mobile and ARM servers.\n
GEO:11.321651111253816;75.93407173873857
LAST-MODIFIED:20230810T072606Z
LOCATION:Bhaskara Hall - NITC\nCalicut\nIN
ORGANIZER;CN=FOSSMeet:MAILTO:no-reply@hasgeek.com
BEGIN:VALARM
ACTION:display
DESCRIPTION:Building Android for Simple Single core to Complex Multi-Core 
 ARM platforms in Bhaskara Hall in 5 minutes
TRIGGER:-PT5M
END:VALARM
END:VEVENT
BEGIN:VEVENT
SUMMARY:Break
DTSTART:20190216T070000Z
DTEND:20190216T071500Z
DTSTAMP:20260420T104032Z
UID:session/TBKqeCARLReEDkF3hdTiUR@hasgeek.com
SEQUENCE:0
CREATED:20190204T131724Z
DESCRIPTION:\n
LAST-MODIFIED:20190204T131724Z
LOCATION:NIT Calicut
ORGANIZER;CN=FOSSMeet:MAILTO:no-reply@hasgeek.com
BEGIN:VALARM
ACTION:display
DESCRIPTION:Break in 5 minutes
TRIGGER:-PT5M
END:VALARM
END:VEVENT
BEGIN:VEVENT
SUMMARY:Building the Map front-end for Kerala Rescue
DTSTART:20190216T071500Z
DTEND:20190216T074500Z
DTSTAMP:20260420T104032Z
UID:session/AMWx4eKRSWDg7RDHRgDA2V@hasgeek.com
SEQUENCE:2
CATEGORIES:Student,Beginner
CREATED:20190204T124135Z
DESCRIPTION:The talk will consist of these sections\n\n- How the idea for 
 the map was conceived\n- What technologies were used in building it\n- How
  it became the official map of Kerala Rescue\n- The technological challeng
 es in building it\n- How Open Sourcing it and external contributors made i
 t from a barely functioning prototype to a full functioning App\n- The rol
 e of transparent communication in Open Source\n\n### Speaker bio\n\nI'm a 
 third year CSE student at College of Engineering Chengannur. I am also the
  maker of LessPhone Launcher(Previously NoPhone). \n\nI really love the fr
 eedom that Open Source brings to our life (Not the freedom about privacy\,
  but the freedom to modify and customise our software to our liking). I lo
 ve giving back to the software that I use either in code contributions\, t
 esting out features and hanging around in the issue tracker.\n
GEO:11.321651111253816;75.93407173873857
LAST-MODIFIED:20230810T072606Z
LOCATION:Bhaskara Hall - NITC\nCalicut\nIN
ORGANIZER;CN=FOSSMeet:MAILTO:no-reply@hasgeek.com
URL:https://hasgeek.com/fossmeet_nitc/2019/schedule/building-the-map-front
 -end-for-kerala-rescue-AMWx4eKRSWDg7RDHRgDA2V
BEGIN:VALARM
ACTION:display
DESCRIPTION:Building the Map front-end for Kerala Rescue in Bhaskara Hall 
 in 5 minutes
TRIGGER:-PT5M
END:VALARM
END:VEVENT
BEGIN:VEVENT
SUMMARY:Break
DTSTART:20190216T074500Z
DTEND:20190216T083000Z
DTSTAMP:20260420T104032Z
UID:session/U1uYiaB1g38QGvhzg3XAz3@hasgeek.com
SEQUENCE:0
CREATED:20190204T131952Z
DESCRIPTION:\n
LAST-MODIFIED:20190204T131952Z
LOCATION:NIT Calicut
ORGANIZER;CN=FOSSMeet:MAILTO:no-reply@hasgeek.com
BEGIN:VALARM
ACTION:display
DESCRIPTION:Break in 5 minutes
TRIGGER:-PT5M
END:VALARM
END:VEVENT
BEGIN:VEVENT
SUMMARY:Playing with Data using Open source Search Engine for Fun and Prof
 it (Workshop)
DTSTART:20190216T083000Z
DTEND:20190216T113000Z
DTSTAMP:20260420T104032Z
UID:session/Aq3Fyxh7s7tiVGfYbAKF2U@hasgeek.com
SEQUENCE:2
CATEGORIES:Professional,Beginner
CREATED:20190204T124209Z
DESCRIPTION:1. 5 min technical overview of entire stack\n2. Downloading\, 
 Installing and running Elasticsearch\, Kibana.\n3. Configuring Elasticsear
 ch\, understanding its distributed nature.\n4. Indexing data\, searching i
 t through API's.\n5. Visualizing data on Kibana.\n6. Ingesting your favour
 ite data on Elasticsearch using Logstash\n7. Various ideas on How you can 
 use it to build reliable systems.\n\n### Speaker bio\n\nAravind is passion
 ate about evangelising technology\, meeting developers and helping in solv
 ing their problems. He is a backend developer and has Seven years of devel
 opment experience.\n\nCurrently he works at Elastic as Developer Advocate 
 and looks after the Developer Relation function of India. Previously\, He 
 worked at McAfee Antivirus as a Sr. Software Engineer in Cloud Security Do
 main. He has deep interest in Search\, Machine Learning\, Security Inciden
 t Analysis and IoT tech. In his free time\, he plays around Raspi or a Ard
 uino.\n
GEO:11.321651111253816;75.93407173873857
LAST-MODIFIED:20230810T072606Z
LOCATION:Big Data Laboratory - NITC\nCalicut\nIN
ORGANIZER;CN=FOSSMeet:MAILTO:no-reply@hasgeek.com
URL:https://hasgeek.com/fossmeet_nitc/2019/schedule/playing-with-data-usin
 g-open-source-search-engine-for-fun-and-profit-Aq3Fyxh7s7tiVGfYbAKF2U
BEGIN:VALARM
ACTION:display
DESCRIPTION:Playing with Data using Open source Search Engine for Fun and 
 Profit (Workshop) in Big Data Laboratory in 5 minutes
TRIGGER:-PT5M
END:VALARM
END:VEVENT
BEGIN:VEVENT
SUMMARY:Building Cross Browser Extension with JS (Workshop)
DTSTART:20190216T083000Z
DTEND:20190216T113000Z
DTSTAMP:20260420T104032Z
UID:session/FeFfMFeaduUnN1wky6ow37@hasgeek.com
SEQUENCE:2
CATEGORIES:Professional,Beginner
CREATED:20190204T124241Z
DESCRIPTION:https://slides.com/hellokarthic/webextparis#/\n\n### Speaker b
 io\n\nKarthickeyan is a software engineer at Freshworks by profession and 
 a Mozilla Tech speaker by heart. He contributes to Open Source projects du
 ring his free time and talks about latest breakthrough in Web technology &
  cloud in various Events and international conferences. He is also a part 
 of Mozilla’s Campus Advisory Committee which empowers students to contri
 bute to FOSS projects. He has been listed in the about:credits of the Fire
 fox web browser for his contributions to the different open source project
 s of the Mozilla Foundation\n
GEO:11.321651111253816;75.93407173873857
LAST-MODIFIED:20230810T072606Z
LOCATION:Network Systems Laboratory (NSL) - NITC\nCalicut\nIN
ORGANIZER;CN=FOSSMeet:MAILTO:no-reply@hasgeek.com
URL:https://hasgeek.com/fossmeet_nitc/2019/schedule/building-cross-browser
 -extension-with-js-FeFfMFeaduUnN1wky6ow37
BEGIN:VALARM
ACTION:display
DESCRIPTION:Building Cross Browser Extension with JS (Workshop) in Network
  Systems Laboratory (NSL) in 5 minutes
TRIGGER:-PT5M
END:VALARM
END:VEVENT
BEGIN:VEVENT
SUMMARY:Programming with Kotlin (Workshop)
DTSTART:20190216T083000Z
DTEND:20190216T113000Z
DTSTAMP:20260420T104032Z
UID:session/K6652JcYEqbrY8y7fDkjF6@hasgeek.com
SEQUENCE:2
CATEGORIES:Professional,Beginner
CREATED:20190204T124258Z
DESCRIPTION:Kotlin Introduction\nKotlin Language Basics\nKotlin Type Syste
 m\nProgramming with Lambdas\nDefining and Calling Functions\nClasses\, Obj
 ects\, and Interfaces\nOperator Overloading \nHigher Order Functions\nGene
 rics\n\n### Speaker bio\n\nI combine my 14+ years of professional system d
 esign and development experience along with Design Thinking\, System Desig
 n and Engineering\, Social Engineering\, Change Management\, Team Building
 \, Mentorship and Training. My main focus is on how we can be better techn
 ical and social leaders\, engineers and developers by focusing on learning
  the skills and deeper part  engineering and sciences\, and skills most of
  ignore -  understanding of community and users. In design thinking\, I ge
 nerally reason things w.r.t. big picture\, what should we solve and most i
 mportant what problems we should not solve. Most of the time early learner
 s generally waste there vital time in solving problems which are not worth
  to solve\, or solve same kind of problems again and again… As a mentor\
 , I love to contribute at these  aspect more…\n\nI have consulted\, perf
 ormed trainings\, workshops and designed and developed systems for clients
  in various sectors. Technology in all its forms is part of my makeup and 
 so I think\, code\, speak\, train and make people awesome in there vision 
 and mission. I am strong proponent of Freedom\, Openness\, Scalability and
  Sustainability in System Design and Engineering.\n\nI was leading contrib
 utor in making and evolving FOSSMeet@NITC in early phases. I lead FOSSMeet
  2006 and FOSSMeet 2007 along with wonderful energetic\, diverse and vibra
 nt team coming from multiple departments\, areas\, student clubs\, communi
 ty and industry. We made FOSSMeet@NITC 2nd largest after FOSS.IN\, Bangalo
 re\, just in 3 years… Let’s meet\, share and explore more during 15th 
 edition of FOSSMeet@NITC 2019… and make it awesome...\n
GEO:11.321651111253816;75.93407173873857
LAST-MODIFIED:20230810T072606Z
LOCATION:Software Systems Laboratory (SSL) - NITC\nCalicut\nIN
ORGANIZER;CN=FOSSMeet:MAILTO:no-reply@hasgeek.com
URL:https://hasgeek.com/fossmeet_nitc/2019/schedule/programming-with-kotli
 n-K6652JcYEqbrY8y7fDkjF6
BEGIN:VALARM
ACTION:display
DESCRIPTION:Programming with Kotlin (Workshop) in Software Systems Laborat
 ory (SSL) in 5 minutes
TRIGGER:-PT5M
END:VALARM
END:VEVENT
BEGIN:VEVENT
SUMMARY:WebXR- reality mixed experiences
DTSTART:20190217T033000Z
DTEND:20190217T043000Z
DTSTAMP:20260420T104032Z
UID:session/A93kw7YfbQyMLUYpxkojHf@hasgeek.com
SEQUENCE:2
CATEGORIES:Professional,Beginner
CREATED:20190204T124101Z
DESCRIPTION:1. Introduction to WebVR/AR/XR\n2. Introduction to A-frame\n3.
  Benefits of A-frame\n4. Code contributions to A-frame\n5. A-frame - compo
 nent and registry \n6. Demos\n\n### Speaker bio\n\nI am a tech speaker and
  I always speak about what I am passsionate about. This is why in most of 
 the conference I speak about Virtual and Augmented Reality. VR and AR are 
 emerging into the world with rapid developments everyday\, this way I see 
 to that my sessions are up-to date and interesting. Moreover\, I share abo
 ut what I have learnt and I see to that my audience get wholesome info and
  inspire them to start something innovative from that moment. Having been 
 part of Mozilla since 5 years I had been to 10+ premier institutions in In
 dia\, 4 national conferences and 1 international summit.\n
GEO:11.321651111253816;75.93407173873857
LAST-MODIFIED:20230810T072606Z
LOCATION:Bhaskara Hall - NITC\nCalicut\nIN
ORGANIZER;CN=FOSSMeet:MAILTO:no-reply@hasgeek.com
URL:https://hasgeek.com/fossmeet_nitc/2019/schedule/webxr-reality-mixed-ex
 periences-A93kw7YfbQyMLUYpxkojHf
BEGIN:VALARM
ACTION:display
DESCRIPTION:WebXR- reality mixed experiences in Bhaskara Hall in 5 minutes
TRIGGER:-PT5M
END:VALARM
END:VEVENT
BEGIN:VEVENT
SUMMARY:Break
DTSTART:20190217T043000Z
DTEND:20190217T044500Z
DTSTAMP:20260420T104032Z
UID:session/23MwVeUYiU5KXgtL9L29J2@hasgeek.com
SEQUENCE:0
CREATED:20190204T132027Z
DESCRIPTION:\n
LAST-MODIFIED:20190204T132027Z
LOCATION:NIT Calicut
ORGANIZER;CN=FOSSMeet:MAILTO:no-reply@hasgeek.com
BEGIN:VALARM
ACTION:display
DESCRIPTION:Break in 5 minutes
TRIGGER:-PT5M
END:VALARM
END:VEVENT
BEGIN:VEVENT
SUMMARY:The Complexity of Community Contribution in the Corporate Open Sou
 rce Era
DTSTART:20190217T044500Z
DTEND:20190217T054500Z
DTSTAMP:20260420T104032Z
UID:session/A7XhPerG2KL7gUmb32QUEH@hasgeek.com
SEQUENCE:0
CREATED:20190204T132053Z
DESCRIPTION:\n
GEO:11.321651111253816;75.93407173873857
LAST-MODIFIED:20190214T001701Z
LOCATION:Bhaskara Hall - NITC\nCalicut\nIN
ORGANIZER;CN=FOSSMeet:MAILTO:no-reply@hasgeek.com
BEGIN:VALARM
ACTION:display
DESCRIPTION:The Complexity of Community Contribution in the Corporate Open
  Source Era in Bhaskara Hall in 5 minutes
TRIGGER:-PT5M
END:VALARM
END:VEVENT
BEGIN:VEVENT
SUMMARY:Break
DTSTART:20190217T054500Z
DTEND:20190217T060000Z
DTSTAMP:20260420T104032Z
UID:session/Cv3CceptKgf9KmRKDoS2mE@hasgeek.com
SEQUENCE:0
CREATED:20190204T132109Z
DESCRIPTION:\n
LAST-MODIFIED:20190204T132109Z
LOCATION:NIT Calicut
ORGANIZER;CN=FOSSMeet:MAILTO:no-reply@hasgeek.com
BEGIN:VALARM
ACTION:display
DESCRIPTION:Break in 5 minutes
TRIGGER:-PT5M
END:VALARM
END:VEVENT
BEGIN:VEVENT
SUMMARY:Hail Hydra\, the future of web APIs is here 
DTSTART:20190217T060000Z
DTEND:20190217T063000Z
DTSTAMP:20260420T104032Z
UID:session/UPwSpEpCRHnwvbuy8Xeeco@hasgeek.com
SEQUENCE:2
CATEGORIES:Student,Intermediate
CREATED:20190204T124356Z
DESCRIPTION:* Understanding the APIs of now\, RDF and JSON-LinkedData\n* W
 hy should you listen to the Hydranians and standardise your APIs?\n* Robot
 s talking JSON-LD\n* Understanding where the future is headed for the web\
 , and why Hydra needs to stay Free Software ❤️\n\n### Speaker bio\n\nD
 evdutt is a 2nd year CSE student at Model Engineering College\, Kochi. A B
 EAR(ok\, not really) and an avid contributor to Free Software projects\, h
 e has participated in various FOSS events. He codes in Python mainly\, but
  has interests across languages such as rust and JavaScript.\n
GEO:11.321651111253816;75.93407173873857
LAST-MODIFIED:20230810T072606Z
LOCATION:Bhaskara Hall - NITC\nCalicut\nIN
ORGANIZER;CN=FOSSMeet:MAILTO:no-reply@hasgeek.com
URL:https://hasgeek.com/fossmeet_nitc/2019/schedule/hail-hydra-the-future-
 of-web-apis-is-here-UPwSpEpCRHnwvbuy8Xeeco
BEGIN:VALARM
ACTION:display
DESCRIPTION:Hail Hydra\, the future of web APIs is here  in Bhaskara Hall 
 in 5 minutes
TRIGGER:-PT5M
END:VALARM
END:VEVENT
BEGIN:VEVENT
SUMMARY:Break
DTSTART:20190217T063000Z
DTEND:20190217T064500Z
DTSTAMP:20260420T104032Z
UID:session/L6hVyZVBr8yc5SfbTnwHTz@hasgeek.com
SEQUENCE:0
CREATED:20190204T124705Z
DESCRIPTION:\n
LAST-MODIFIED:20190204T124705Z
LOCATION:NIT Calicut
ORGANIZER;CN=FOSSMeet:MAILTO:no-reply@hasgeek.com
BEGIN:VALARM
ACTION:display
DESCRIPTION:Break in 5 minutes
TRIGGER:-PT5M
END:VALARM
END:VEVENT
BEGIN:VEVENT
SUMMARY:Open Source and Sustainability in OSS via Blockchain 
DTSTART:20190217T064500Z
DTEND:20190217T074500Z
DTSTAMP:20260420T104032Z
UID:session/6UE2LnU5F5DmChugm683zL@hasgeek.com
SEQUENCE:2
CATEGORIES:Professional,Intermediate
CREATED:20190204T124438Z
DESCRIPTION:What is Open Source?\n- Why Open Source?\n- Why sustainability
  matters?\n- Case studies of Burnouts.\n- How Gitcoin helps solve the prob
 lem.\n- How to make Open Source more sustainable.\n- Project Maintainer pe
 rspective\n- Contributor perspective\n- Distribution of work rather than c
 orporate way.\n- Q & A\n\n### Speaker bio\n\nSaptak Sengupta is a contribu
 tor and maintainer of various open source projects. FOSSASIA\, jQuery\, Fr
 eedom of the Press Foundation and Gitcoin are few organizations under his 
 belt. He is currently working as a Software Developer at Gitcoin. He is al
 so associated with programs like Google Summer of Code\, Google Code-In\, 
 and Rails Girls Summer of Code as a mentor/supervisor. As an open-source e
 vangelist\, he also likes to help out people with programming in general. 
 His core area of dabbling is JavaScript and Python. He has previously give
 n talks in FOSSASIA Summit\, FOSSMeet COEP\, DevConf India\, PyCon India D
 evsprint\, MuPy and other local meetups.\n
GEO:11.321651111253816;75.93407173873857
LAST-MODIFIED:20230810T072606Z
LOCATION:Bhaskara Hall - NITC\nCalicut\nIN
ORGANIZER;CN=FOSSMeet:MAILTO:no-reply@hasgeek.com
URL:https://hasgeek.com/fossmeet_nitc/2019/schedule/open-source-and-sustai
 nability-in-oss-via-blockchain-6UE2LnU5F5DmChugm683zL
BEGIN:VALARM
ACTION:display
DESCRIPTION:Open Source and Sustainability in OSS via Blockchain  in Bhask
 ara Hall in 5 minutes
TRIGGER:-PT5M
END:VALARM
END:VEVENT
END:VCALENDAR
