BEGIN:VCALENDAR
VERSION:2.0
PRODID:-//HasGeek//NONSGML Funnel//EN
DESCRIPTION:FOSSMeet is an annual event at NIT Calicut that brings togethe
 r the Free and Open Source Community from around the country.
X-WR-CALDESC:FOSSMeet is an annual event at NIT Calicut that brings togeth
 er the Free and Open Source Community from around the country.
NAME:FOSSMeet 2017
X-WR-CALNAME:FOSSMeet 2017
REFRESH-INTERVAL;VALUE=DURATION:PT12H
SUMMARY:FOSSMeet 2017
TIMEZONE-ID:Asia/Kolkata
X-PUBLISHED-TTL:PT12H
X-WR-TIMEZONE:Asia/Kolkata
BEGIN:VEVENT
SUMMARY:Registration
DTSTART:20170310T100000Z
DTEND:20170310T110000Z
DTSTAMP:20260421T105344Z
UID:session/48BceRvko1A5WCfpwy21VA@hasgeek.com
SEQUENCE:0
CREATED:20170207T063342Z
DESCRIPTION:\n
LAST-MODIFIED:20170227T132850Z
LOCATION:Chanakya Hall\, NITC - NITC\nCalicut\nIN
ORGANIZER;CN=FOSSMeet:MAILTO:no-reply@hasgeek.com
BEGIN:VALARM
ACTION:display
DESCRIPTION:Registration in Chanakya Hall\, NITC in 5 minutes
TRIGGER:-PT5M
END:VALARM
END:VEVENT
BEGIN:VEVENT
SUMMARY:Fairness in Big Data and AI [Keynote]
DTSTART:20170310T110000Z
DTEND:20170310T120000Z
DTSTAMP:20260421T105344Z
UID:session/PfXEAwG4RH4Wd4WxEX8EEi@hasgeek.com
SEQUENCE:2
CREATED:20170207T063504Z
DESCRIPTION:\n\n### Speaker bio\n\nAnivar A. Aravind is a Senior Program/P
 roject Management professional based in Bangalore with 10+ year Industry e
 xperience. He is a well known Free Software/Culture Evangelist in South As
 ia with a 14 year active involvement record. Anivar has a long track recor
 d of initiating\, sustaining and running various Technical\, Policy and De
 veloper platforms and mobilizing people support and participation in such 
 initiatives. Anivar has significant expertise on ICT public policy\, Inter
 net Governance\, Open standards\, Language technology\, FOSS Licensing\, A
 ccessibility\, and coordinating remote and scattered teams. He has substan
 tial experience in mentoring many free and open source software projects a
 nd start-ups in social technology space to find their feet\, assisting in 
 various capacities from part- time adviser to chief technologist. As a soc
 ial entrepreneur and activist working in the field of ICT4D for the last 1
 0 years\, he has extensive experience working with many small and large or
 ganizations at the local\, regional\, national and international levels. H
 e contributed to the launch and maintenance of many thematic and regional 
 networks and his activism has always focused on bridging the awareness gap
  between digital rights activism and general public in India.\n
LAST-MODIFIED:20230810T072606Z
LOCATION:Chanakya Hall\, NITC - NITC\nCalicut\nIN
ORGANIZER;CN=FOSSMeet:MAILTO:no-reply@hasgeek.com
BEGIN:VALARM
ACTION:display
DESCRIPTION:Fairness in Big Data and AI [Keynote] in Chanakya Hall\, NITC 
 in 5 minutes
TRIGGER:-PT5M
END:VALARM
END:VEVENT
BEGIN:VEVENT
SUMMARY:Introduction to FOSS Philosophy
DTSTART:20170310T123000Z
DTEND:20170310T140000Z
DTSTAMP:20260421T105344Z
UID:session/9E3WDQe7cMS8u5HF8uQesd@hasgeek.com
SEQUENCE:2
CREATED:20170309T073550Z
DESCRIPTION:Riccardo will be speaking about the FOSS philosophy and how Wi
 kiToLearn adheres to it in general.\n\n### Speaker bio\n\nRiccardo Iaconel
 li is the founder of WikiToLearn. He's also a software developer\, vectori
 al artist at KDE.org. KDE e.V. member and a Free Software Foundation Europ
 e fellow.\n
LAST-MODIFIED:20230810T072606Z
LOCATION:Chanakya Hall\, NITC - NITC\nCalicut\nIN
ORGANIZER;CN=FOSSMeet:MAILTO:no-reply@hasgeek.com
BEGIN:VALARM
ACTION:display
DESCRIPTION:Introduction to FOSS Philosophy in Chanakya Hall\, NITC in 5 m
 inutes
TRIGGER:-PT5M
END:VALARM
END:VEVENT
BEGIN:VEVENT
SUMMARY:Golang Workshop
DTSTART:20170311T040000Z
DTEND:20170311T073000Z
DTSTAMP:20260421T105344Z
UID:session/MibtPkrrgmTxNWVEhTnGfo@hasgeek.com
SEQUENCE:2
CREATED:20170308T073024Z
DESCRIPTION:Introduction to Go programming language\nSetting enviroment fo
 r Go development\nFundamentals of Go programming language\nControl structu
 res\nData Structures\nFunctions\nInterfaces\nConcurrency\n\n### Speaker bi
 o\n\nBaiju Muthukadan is a DevOps engineer working at RedHat\, Bangalore. 
 He has contributed to many Free/Open source softwares including Zope\, Koh
 a and Salt. He founded the Swathanthra Malayalam Computing project in 2001
  while studying at REC\, Calicut. He was also employed by Free Software Fo
 undation of India in 2002-2003. He received the first Kenneth Gonsalves aw
 ard in recognition of his many contributions to Python language community 
 in India.\n
LAST-MODIFIED:20230810T072606Z
LOCATION: Software Systems Laboratory (SSL)\, NITC - NITC\nCalicut\nIN
ORGANIZER;CN=FOSSMeet:MAILTO:no-reply@hasgeek.com
BEGIN:VALARM
ACTION:display
DESCRIPTION:Golang Workshop in  Software Systems Laboratory (SSL)\, NITC i
 n 5 minutes
TRIGGER:-PT5M
END:VALARM
END:VEVENT
BEGIN:VEVENT
SUMMARY:An introduction to the Rust Programming Language (Workshop)
DTSTART:20170311T040000Z
DTEND:20170311T073000Z
DTSTAMP:20260421T105344Z
UID:session/7jwErcfDxFhLpzJPLLqgir@hasgeek.com
SEQUENCE:2
CATEGORIES:Intermediate
CREATED:20170218T153736Z
DESCRIPTION:Here are some of the topics which will be covered:\n\n  * Rust
  basics - static typing\, type inference\, functions\, basic data types\, 
 control structures\n  * Sum and Product types\n  * Pattern Matching\n  * G
 enerics\, Traits\n  * Iterators\, Closures\n  * Zero Cost Abstractions\n  
 * Ownership\, Borrowing and Lifetimes \n  * Unsafe code\n\n### Speaker bio
 \n\nI am a Free Software enthusiast from Trichur(Kerala). More details: ht
 tp://pramode.net\, http://pramode.in\n
LAST-MODIFIED:20230810T072606Z
LOCATION:Network Systems Lab (NSL)\, NITC - NITC\nCalicut\nIN
ORGANIZER;CN=FOSSMeet:MAILTO:no-reply@hasgeek.com
URL:https://hasgeek.com/fossmeet_nitc/2017/schedule/an-introduction-to-the
 -rust-programming-language-workshop-7jwErcfDxFhLpzJPLLqgir
BEGIN:VALARM
ACTION:display
DESCRIPTION:An introduction to the Rust Programming Language (Workshop) in
  Network Systems Lab (NSL)\, NITC in 5 minutes
TRIGGER:-PT5M
END:VALARM
END:VEVENT
BEGIN:VEVENT
SUMMARY:The Alice and Bob Problem of Open Source Licenses
DTSTART:20170311T043000Z
DTEND:20170311T053000Z
DTSTAMP:20260421T105344Z
UID:session/2LENqcdgiPLHH13DoC3Gb6@hasgeek.com
SEQUENCE:2
CATEGORIES:Beginner
CREATED:20170218T153539Z
DESCRIPTION:Aim:\nThe aim of this talk is to cover the basic nitty grittie
 s associated with the open source licenses. \n\nOutline:\n1. Explaining th
 e concept of copyright and licensing using characters of Alice and Bob.\n2
 . A brief introduction and history about open source licenses: How GNU cam
 e about\, and how the GNU/Linux followed. \n3. Current state of open sourc
 e licenses: Which organizations maintain open source licenses\, list of co
 mmon licenses used today\, license proliferation ‘Spoiled for choice is 
 no choice at all’.\n4. The various attributes that make up an open sourc
 e license: Using characters of Alice and Bob to question various permissio
 ns and conditions that can be associated with an open source license.(Eg. 
 Commercial usage- Can Bob use Alice’s software for commercial use?)\n5. 
 Introducing the concepts of copyleft\, permissive and license compatibilit
 y based on the attributes that shall be discussed above.\n6. Concluding wi
 th a screenshot on how to add license to Github projects.\n\nKey Take Away
 s:\nGain basic insights about  open source licenses\, their attributes\,an
 d usage. Help taking better responsibility of how you share your work.\n\n
 ### Speaker bio\n\nAs an associate software engineer at Red Hat\, I am cur
 rently working on an analytics project. My work under Dr. Tanvir Ahamd on 
 Framework to Extract Context Vectors from Unstructured Data using Big Data
  Analytics was presented at Ninth International Conference on Contemporary
  Computing(Aug 2016). Currently I am envolved with IEEE WIE Stand project 
 as mentor for the Data Science and Machine Learning track\, and volunteer 
 with Women Who Code\, Lean In and Grace Hopper India. I am ever enthusiast
 ic about Data Science\, Women in STEM\, and Open Source.\n
LAST-MODIFIED:20230810T072606Z
LOCATION:Chanakya Hall\, NITC - NITC\nCalicut\nIN
ORGANIZER;CN=FOSSMeet:MAILTO:no-reply@hasgeek.com
URL:https://hasgeek.com/fossmeet_nitc/2017/schedule/the-alice-and-bob-prob
 lem-of-open-source-licenses-2LENqcdgiPLHH13DoC3Gb6
BEGIN:VALARM
ACTION:display
DESCRIPTION:The Alice and Bob Problem of Open Source Licenses in Chanakya 
 Hall\, NITC in 5 minutes
TRIGGER:-PT5M
END:VALARM
END:VEVENT
BEGIN:VEVENT
SUMMARY:Break
DTSTART:20170311T053000Z
DTEND:20170311T060000Z
DTSTAMP:20260421T105344Z
UID:session/TaUnXcZbjU59Pgd4kMRDZE@hasgeek.com
SEQUENCE:0
CREATED:20170207T064257Z
DESCRIPTION:\n
LAST-MODIFIED:20170302T075642Z
LOCATION:Chanakya Hall\, NITC - NITC\nCalicut\nIN
ORGANIZER;CN=FOSSMeet:MAILTO:no-reply@hasgeek.com
BEGIN:VALARM
ACTION:display
DESCRIPTION:Break in Chanakya Hall\, NITC in 5 minutes
TRIGGER:-PT5M
END:VALARM
END:VEVENT
BEGIN:VEVENT
SUMMARY:Talk on GitLab
DTSTART:20170311T060000Z
DTEND:20170311T070000Z
DTSTAMP:20260421T105344Z
UID:session/Urxo8Rj1AwFNfDXFvzohnW@hasgeek.com
SEQUENCE:2
CREATED:20170310T182858Z
DESCRIPTION:\n\n### Speaker bio\n\nBalasankar is a Junior Build Engineer a
 t GitLab. He has been associated with and is an active contributor of FOSS
  communities/projects like Swathanthra Malayalam Computing\, Indic Project
 \, Debian Linux etc.\n
LAST-MODIFIED:20230810T072606Z
LOCATION:Chanakya Hall\, NITC - NITC\nCalicut\nIN
ORGANIZER;CN=FOSSMeet:MAILTO:no-reply@hasgeek.com
BEGIN:VALARM
ACTION:display
DESCRIPTION:Talk on GitLab in Chanakya Hall\, NITC in 5 minutes
TRIGGER:-PT5M
END:VALARM
END:VEVENT
BEGIN:VEVENT
SUMMARY:Break
DTSTART:20170311T070000Z
DTEND:20170311T083000Z
DTSTAMP:20260421T105344Z
UID:session/KRT2yVX6PsiGC26tSSL9KA@hasgeek.com
SEQUENCE:0
CREATED:20170302T075618Z
DESCRIPTION:\n
LAST-MODIFIED:20170302T080025Z
LOCATION:NIT Calicut
ORGANIZER;CN=FOSSMeet:MAILTO:no-reply@hasgeek.com
BEGIN:VALARM
ACTION:display
DESCRIPTION:Break in 5 minutes
TRIGGER:-PT5M
END:VALARM
END:VEVENT
BEGIN:VEVENT
SUMMARY:Understanding basic binary formats
DTSTART:20170311T083000Z
DTEND:20170311T093000Z
DTSTAMP:20260421T105344Z
UID:session/CoJAyhYouzfHfe5r3izW5B@hasgeek.com
SEQUENCE:1
CREATED:20170207T064454Z
DESCRIPTION:Abstract:\nWhat happens when  you compile your "program.c" usi
 ng gcc? What's the difference between your a.out and your program.o? What 
 is a linker? What are .so files?  What is static linking? What are symbols
 ? What is FFI? What are these formats like ELF/DWARF etc.?\n\nWe usually t
 ake the entire compilation process for granted and just run our programs. 
 It's a good idea to have atleast basic information about what goes on unde
 r the hood. To understand what exactly happens when you compile your c pro
 gram into a binary. This talk will cover that with some simple examples. W
 e'll cover the ELF format\, how linking happens and what an executable is.
 \n\nIf there's time at the end\, we'll touch the idea of FFI which is a wa
 y to call functions from a shared object directly from a higher level lang
 uage like python or ruby.\n\n\nPrerequisites:\nBasic knowledge of how to c
 ompile things and run them.\n
LAST-MODIFIED:20230108T103046Z
LOCATION:Network Systems Lab (NSL)\, NITC - NITC\nCalicut\nIN
ORGANIZER;CN=FOSSMeet:MAILTO:no-reply@hasgeek.com
BEGIN:VALARM
ACTION:display
DESCRIPTION:Understanding basic binary formats in Network Systems Lab (NSL
 )\, NITC in 5 minutes
TRIGGER:-PT5M
END:VALARM
END:VEVENT
BEGIN:VEVENT
SUMMARY:LDAP based disroot.org like setup for your college
DTSTART:20170311T083000Z
DTEND:20170311T093000Z
DTSTAMP:20260421T105344Z
UID:session/7vsd2ZALZswCATjWz6sNKL@hasgeek.com
SEQUENCE:2
CATEGORIES:Beginner
CREATED:20170218T153654Z
DESCRIPTION:What is LDAP\nHow to setup open LDAP\nSetup at COEP\, differen
 ces with disroot.org \nShell scripts to maintain your LDAP server\nConfigu
 ration of Moodle\, Nextcloud\, Mediawiki and Desktop with LDAP \nUnmet Cha
 llenges \nPossible extensions\nRequirements for Single Sign On services\n\
 n### Speaker bio\n\nAbhijit A.M. is a faculty at College of Engineering Pu
 ne (COEP). He is a Free Software activist and spends most of his time conv
 incing people the need for a world based on equality\, humanity and freedo
 m.\n
LAST-MODIFIED:20230810T072606Z
LOCATION:Chanakya Hall\, NITC - NITC\nCalicut\nIN
ORGANIZER;CN=FOSSMeet:MAILTO:no-reply@hasgeek.com
URL:https://hasgeek.com/fossmeet_nitc/2017/schedule/ldap-based-disroot-org
 -like-setup-for-your-college-7vsd2ZALZswCATjWz6sNKL
BEGIN:VALARM
ACTION:display
DESCRIPTION:LDAP based disroot.org like setup for your college in Chanakya
  Hall\, NITC in 5 minutes
TRIGGER:-PT5M
END:VALARM
END:VEVENT
BEGIN:VEVENT
SUMMARY:Contributing to Indic Keyboard (workshop)
DTSTART:20170311T083000Z
DTEND:20170311T110000Z
DTSTAMP:20260421T105344Z
UID:session/6hh7nsNLkmkTLuD1vMXunv@hasgeek.com
SEQUENCE:2
CATEGORIES:Beginner
CREATED:20170218T153833Z
DESCRIPTION:Will be selecting one of the layouts from [todo list](https://
 gitlab.com/smc/indic-keyboard/issues). By the end of the workshop\, we wil
 l be able to test our new layout on an android device / emulator and send 
 pulll request to the project.\n\n### Speaker bio\n\nCreated Indic Keyboard
 \, with more than half a million downloads. Currently works at [Hashcube](
 https://hashcube.com) as a Game Developer. Contributes to Free Software pr
 ojects in spare time.\n
LAST-MODIFIED:20230810T072606Z
LOCATION: Software Systems Laboratory (SSL)\, NITC - NITC\nCalicut\nIN
ORGANIZER;CN=FOSSMeet:MAILTO:no-reply@hasgeek.com
URL:https://hasgeek.com/fossmeet_nitc/2017/schedule/contrbuting-to-indic-k
 eyboard-workshop-6hh7nsNLkmkTLuD1vMXunv
BEGIN:VALARM
ACTION:display
DESCRIPTION:Contributing to Indic Keyboard (workshop) in  Software Systems
  Laboratory (SSL)\, NITC in 5 minutes
TRIGGER:-PT5M
END:VALARM
END:VEVENT
BEGIN:VEVENT
SUMMARY:Break
DTSTART:20170311T093000Z
DTEND:20170311T100000Z
DTSTAMP:20260421T105344Z
UID:session/CmaWkhLKNvabLLMexjSVeQ@hasgeek.com
SEQUENCE:0
CREATED:20170207T064659Z
DESCRIPTION:\n
LAST-MODIFIED:20170302T075810Z
LOCATION:Chanakya Hall\, NITC - NITC\nCalicut\nIN
ORGANIZER;CN=FOSSMeet:MAILTO:no-reply@hasgeek.com
BEGIN:VALARM
ACTION:display
DESCRIPTION:Break in Chanakya Hall\, NITC in 5 minutes
TRIGGER:-PT5M
END:VALARM
END:VEVENT
BEGIN:VEVENT
SUMMARY:After Open Source
DTSTART:20170311T100000Z
DTEND:20170311T110000Z
DTSTAMP:20260421T105344Z
UID:session/wYVqGd67vZZza9Dn7wQTG@hasgeek.com
SEQUENCE:2
CREATED:20170207T064728Z
DESCRIPTION:\n\n### Speaker bio\n\nSteven is a partner at Nilenso\, our ti
 tle sponsor for this year. He spent the last decade working for DRW Tradin
 g\, ThoughtWorks\, Adxstudio\, The Canadian Department of National Defence
 \,  etc.\n\nMore: https://nilenso.com/people.html#steven\n
LAST-MODIFIED:20230810T072606Z
LOCATION:Chanakya Hall\, NITC - NITC\nCalicut\nIN
ORGANIZER;CN=FOSSMeet:MAILTO:no-reply@hasgeek.com
BEGIN:VALARM
ACTION:display
DESCRIPTION:After Open Source in Chanakya Hall\, NITC in 5 minutes
TRIGGER:-PT5M
END:VALARM
END:VEVENT
BEGIN:VEVENT
SUMMARY:Buiding Artificial intelligence units with Rust
DTSTART:20170311T100000Z
DTEND:20170311T110000Z
DTSTAMP:20260421T105344Z
UID:session/69dsrZXv4Wtnsn5Tmzf5Ui@hasgeek.com
SEQUENCE:2
CREATED:20170227T103241Z
DESCRIPTION:The talk will be focussed on showcasing how we leverage open s
 ource system programming language Rust to build high performance real-time
  mathematical models and algorithms.\n\n### Speaker bio\n\nVigneshwer is a
 n innovative data scientist with an artistic perception of technology and 
 business\, having 3+ years of experience in various domains such as IOT\, 
 DevOps\, Computer Vision & Deep Learning and is currently engaged as a res
 earch analyst crunching real-time data and implementing state of art AI al
 gorithms in the Innovation and development lab of the world’s largest de
 cision science company in Bengaluru\, India. He is an official Mozilla rep
 resentative and has been associated with Mozilla communities and initiativ
 es for more than 4 years conducting 100+ events in his regions. He strongl
 y believes and evangelizes that technology needs to a human-centric design
  and workflow in order to cater solutions for a diverse audience. He recen
 tly delivered a session about demystifying AI in the open science space at
  Mozfest16\, speaks regularly about rust/ D&I/ ML in various local meetup 
 groups and is the author of Rust Cookbook by Packt publisher.\n
LAST-MODIFIED:20230810T072606Z
LOCATION:Network Systems Lab (NSL)\, NITC - NITC\nCalicut\nIN
ORGANIZER;CN=FOSSMeet:MAILTO:no-reply@hasgeek.com
BEGIN:VALARM
ACTION:display
DESCRIPTION:Buiding Artificial intelligence units with Rust in Network Sys
 tems Lab (NSL)\, NITC in 5 minutes
TRIGGER:-PT5M
END:VALARM
END:VEVENT
BEGIN:VEVENT
SUMMARY:Copyright\, its history and the Open Access movement in academic p
 ublishing
DTSTART:20170311T123000Z
DTEND:20170311T133000Z
DTSTAMP:20260421T105344Z
UID:session/7peZ8f5YzqLZ8ZskNrnciz@hasgeek.com
SEQUENCE:1
CREATED:20170207T064759Z
DESCRIPTION:Chanakya hall\n
LAST-MODIFIED:20230108T103046Z
LOCATION:Chanakya Hall\, NITC - NITC\nCalicut\nIN
ORGANIZER;CN=FOSSMeet:MAILTO:no-reply@hasgeek.com
BEGIN:VALARM
ACTION:display
DESCRIPTION:Copyright\, its history and the Open Access movement in academ
 ic publishing in Chanakya Hall\, NITC in 5 minutes
TRIGGER:-PT5M
END:VALARM
END:VEVENT
BEGIN:VEVENT
SUMMARY:Language Technology Hackathon
DTSTART:20170311T123000Z
DTEND:20170312T023000Z
DTSTAMP:20260421T105344Z
UID:session/71b8wG4M2sKn4ppqkRTJi8@hasgeek.com
SEQUENCE:0
CREATED:20170308T101959Z
DESCRIPTION:\n
LAST-MODIFIED:20170308T131645Z
LOCATION: Software Systems Laboratory (SSL)\, NITC - NITC\nCalicut\nIN
ORGANIZER;CN=FOSSMeet:MAILTO:no-reply@hasgeek.com
BEGIN:VALARM
ACTION:display
DESCRIPTION:Language Technology Hackathon in  Software Systems Laboratory 
 (SSL)\, NITC in 5 minutes
TRIGGER:-PT5M
END:VALARM
END:VEVENT
BEGIN:VEVENT
SUMMARY:Web Automation with Selenium
DTSTART:20170312T040000Z
DTEND:20170312T073000Z
DTSTAMP:20260421T105344Z
UID:session/QL5exJ1zoAxczHYAqNX5jz@hasgeek.com
SEQUENCE:0
CREATED:20170207T064845Z
DESCRIPTION:\n
LAST-MODIFIED:20170309T074342Z
LOCATION: Software Systems Laboratory (SSL)\, NITC - NITC\nCalicut\nIN
ORGANIZER;CN=FOSSMeet:MAILTO:no-reply@hasgeek.com
BEGIN:VALARM
ACTION:display
DESCRIPTION:Web Automation with Selenium in  Software Systems Laboratory (
 SSL)\, NITC in 5 minutes
TRIGGER:-PT5M
END:VALARM
END:VEVENT
BEGIN:VEVENT
SUMMARY:Decentralised\, Community run communication/collaboration infrastr
 ucture - Why and How?
DTSTART:20170312T043000Z
DTEND:20170312T053000Z
DTSTAMP:20260421T105344Z
UID:session/J5GyS84KdXS3etM8ZPtwi4@hasgeek.com
SEQUENCE:2
CATEGORIES:Advanced
CREATED:20170218T153633Z
DESCRIPTION:We will discuss the need for running our own infrastructure\, 
 share our experiences with running services like poddery.com\, diasp.in an
 d git.fosscommunity.in. Looking for more volunteers to make these efforts 
 sustainable.\n\n### Speaker bio\n\nA Debian Developer and privacy advocate
 . Maintains public services like poddery.com\, diasp.in and git.fosscommun
 ity.in.\n
LAST-MODIFIED:20230810T072606Z
LOCATION:Chanakya Hall\, NITC - NITC\nCalicut\nIN
ORGANIZER;CN=FOSSMeet:MAILTO:no-reply@hasgeek.com
URL:https://hasgeek.com/fossmeet_nitc/2017/schedule/decentralised-communit
 y-run-communication-collaboration-infrastructure-why-and-how-J5GyS84KdXS3e
 tM8ZPtwi4
BEGIN:VALARM
ACTION:display
DESCRIPTION:Decentralised\, Community run communication/collaboration infr
 astructure - Why and How? in Chanakya Hall\, NITC in 5 minutes
TRIGGER:-PT5M
END:VALARM
END:VEVENT
BEGIN:VEVENT
SUMMARY:Break
DTSTART:20170312T053000Z
DTEND:20170312T060000Z
DTSTAMP:20260421T105344Z
UID:session/N7GXjVFnzrxQDnqfi7m7SP@hasgeek.com
SEQUENCE:0
CREATED:20170207T065043Z
DESCRIPTION:\n
LAST-MODIFIED:20170302T075659Z
LOCATION:Chanakya Hall\, NITC - NITC\nCalicut\nIN
ORGANIZER;CN=FOSSMeet:MAILTO:no-reply@hasgeek.com
BEGIN:VALARM
ACTION:display
DESCRIPTION:Break in Chanakya Hall\, NITC in 5 minutes
TRIGGER:-PT5M
END:VALARM
END:VEVENT
BEGIN:VEVENT
SUMMARY:FOSS in Academia vs FOSS in Industry
DTSTART:20170312T060000Z
DTEND:20170312T070000Z
DTSTAMP:20260421T105344Z
UID:session/6BGFjxb6PusV5Zent3dVWp@hasgeek.com
SEQUENCE:1
CREATED:20170309T074332Z
DESCRIPTION:A look at the differences between the kind of FOSS contributio
 ns that are prominent in academia and the industry from a Linux perspectiv
 e.\n
LAST-MODIFIED:20230108T103046Z
LOCATION:Chanakya Hall\, NITC - NITC\nCalicut\nIN
ORGANIZER;CN=FOSSMeet:MAILTO:no-reply@hasgeek.com
BEGIN:VALARM
ACTION:display
DESCRIPTION:FOSS in Academia vs FOSS in Industry in Chanakya Hall\, NITC i
 n 5 minutes
TRIGGER:-PT5M
END:VALARM
END:VEVENT
BEGIN:VEVENT
SUMMARY:Break
DTSTART:20170312T070000Z
DTEND:20170312T083000Z
DTSTAMP:20260421T105344Z
UID:session/3mYMwy36RqcPjBxrRW9rAw@hasgeek.com
SEQUENCE:0
CREATED:20170302T075730Z
DESCRIPTION:\n
LAST-MODIFIED:20170302T080031Z
LOCATION:NIT Calicut
ORGANIZER;CN=FOSSMeet:MAILTO:no-reply@hasgeek.com
BEGIN:VALARM
ACTION:display
DESCRIPTION:Break in 5 minutes
TRIGGER:-PT5M
END:VALARM
END:VEVENT
END:VCALENDAR
