BEGIN:VCALENDAR
VERSION:2.0
PRODID:-//HasGeek//NONSGML Funnel//EN
DESCRIPTION:Workshop
X-WR-CALDESC:Workshop
NAME:Turning Tables: Turn English to Data Using Self-Hosted LLMs
X-WR-CALNAME:Turning Tables: Turn English to Data Using Self-Hosted LLMs
REFRESH-INTERVAL;VALUE=DURATION:PT12H
SUMMARY:Turning Tables: Turn English to Data Using Self-Hosted LLMs
TIMEZONE-ID:Asia/Kolkata
X-PUBLISHED-TTL:PT12H
X-WR-TIMEZONE:Asia/Kolkata
BEGIN:VEVENT
SUMMARY:Turning Tables: Turn English to Data Using Self-Hosted LLMs
DTSTART:20240712T043000Z
DTEND:20240712T073500Z
DTSTAMP:20260419T120102Z
UID:session/U5WMAbndZh4oe6KnLbQWM5@hasgeek.com
SEQUENCE:2
CREATED:20240722T062122Z
LAST-MODIFIED:20240816T071029Z
LOCATION:Bangalore
ORGANIZER;CN="The Fifth Elephant":MAILTO:no-reply@hasgeek.com
BEGIN:VALARM
ACTION:display
DESCRIPTION:Turning Tables: Turn English to Data Using Self-Hosted LLMs in
  5 minutes
TRIGGER:-PT5M
END:VALARM
END:VEVENT
END:VCALENDAR
