BEGIN:VCALENDAR
VERSION:2.0
PRODID:-//HasGeek//NONSGML Funnel//EN
DESCRIPTION:Tutorial (hybrid)
X-WR-CALDESC:Tutorial (hybrid)
NAME:Introduction to Transformer Architecture
X-WR-CALNAME:Introduction to Transformer Architecture
REFRESH-INTERVAL;VALUE=DURATION:PT12H
SUMMARY:Introduction to Transformer Architecture
TIMEZONE-ID:Asia/Kolkata
X-PUBLISHED-TTL:PT12H
X-WR-TIMEZONE:Asia/Kolkata
BEGIN:VEVENT
SUMMARY:Introduction to Transformer Architecture
DTSTART:20240411T103000Z
DTEND:20240411T123000Z
DTSTAMP:20260419T170227Z
UID:session/JToA6ARdwie7mSunWaTFJA@hasgeek.com
SEQUENCE:1
CREATED:20240508T055323Z
DESCRIPTION:Members only content 🔒\n\nIn this workshop\, Arvind Devraj 
 demystifies the transformer architecture and explains how AI models like C
 hatGPT function. \n\nFrom discussing the evolution of NLP techniques to un
 derstanding the nuances of pre-trained models\, and from exploring RAG app
 lications to hands-on demonstrations\, this workshop is an essential resou
 rce for anyone interested in AI and ML. Tune in to understand the inner wo
 rkings of language models and see practical applications in action.\n\nFol
 low the project on: https://hasgeek.com/fifthelephant/transformer-architec
 ture-tutorial/\n\n
LAST-MODIFIED:20240508T093334Z
LOCATION:Bangalore\, hybrid
ORGANIZER;CN="The Fifth Elephant":MAILTO:no-reply@hasgeek.com
BEGIN:VALARM
ACTION:display
DESCRIPTION:Introduction to Transformer Architecture in 5 minutes
TRIGGER:-PT5M
END:VALARM
END:VEVENT
END:VCALENDAR
