BEGIN:VCALENDAR
VERSION:2.0
PRODID:-//HasGeek//NONSGML Funnel//EN
DESCRIPTION:Crafting talks that stick
X-WR-CALDESC:Crafting talks that stick
NAME:Speaking dev to dev
X-WR-CALNAME:Speaking dev to dev
REFRESH-INTERVAL;VALUE=DURATION:PT12H
SUMMARY:Speaking dev to dev
TIMEZONE-ID:Asia/Kolkata
X-PUBLISHED-TTL:PT12H
X-WR-TIMEZONE:Asia/Kolkata
BEGIN:VEVENT
SUMMARY:Speaking dev to dev
DTSTART:20250919T133000Z
DTEND:20250919T144500Z
DTSTAMP:20260421T085302Z
UID:session/2pkro46Wg7EoYur3NJFDob@hasgeek.com
SEQUENCE:9
CREATED:20250916T020916Z
DESCRIPTION:## What is this session about?\nMost engineers know their craf
 t deeply but struggle to communicate it effectively. Talks either become t
 oo detailed (variable tweaks\, config dumps) or too high-level (superficia
 l surveys). This session tackles the “sweet spot”: how to share your w
 ork in a way that is substantial\, engaging\, and memorable.\n\n## Why par
 ticipate?\n- Learn from Sandeep Joshi (Uber\, DEI Track Editor at [The Fif
 th Elephant 2025](https://hasgeek.com/fifthelephant/2025)) on how to make 
 your talks impactful.\n- Get feedback on how to present your ideas effecti
 vely to the developer community.\n- Learn how to structure talks that are 
 memorable and relatable.\n- Interact with Pramod Biligiri (The Fifth Eleph
 ant 2024 and 2025 editions track edition) during the Q&A - as well as with
  reviewers from the community.\n\n## Key takeaways for participants\n* How
  to identify the goal of your talk and what the audience will learn.\n* Ho
 w to share experiences and technical insights without overwhelming or unde
 rserving your audience.\n* Structuring a talk using tried-and-tested frame
 works (from Natya Shastra to Aristotle).\n* Using visuals\, memory aids\, 
 and emotional resonance to ensure your talk sticks.\n* Techniques for conf
 ident delivery: modulation\, phrasing\, and handling slip-ups gracefully.\
 n\n**[Download the slide deck of the presentation](https://images.hasgeek.
 com/embed/file/29d3f93818c74c9885eb223986516c5e)**\n\n## Participation\nTh
 is workshop is open to engineers across Hasgeek communities who want to pr
 esent their work at conferences\, meet-ups\, or internal forums.\n📅 Dat
 e: Friday\, 19 September 2025\n🕖 Time: 7:00 – 8:30 PM IST\n💻 Mode:
  Online - https://meet.google.com/uze-eepi-mru\n\n## Reference\n1. Rootcon
 f Mini 2025 and Fifthel 2025 editor Vedang Manerikar has published tips on
  how to make good presentations - https://vedang.me/tips-for-better-presen
 tations/
LAST-MODIFIED:20250918T215556Z
LOCATION:Online - https://hasgeek.com/fifthelephant/speaking-dev-to-dev/
ORGANIZER;CN="The Fifth Elephant":MAILTO:no-reply@hasgeek.com
URL:https://hasgeek.com/fifthelephant/speaking-dev-to-dev/
BEGIN:VALARM
ACTION:display
DESCRIPTION:Speaking dev to dev in 5 minutes
TRIGGER:-PT5M
END:VALARM
END:VEVENT
END:VCALENDAR
