BEGIN:VCALENDAR
VERSION:2.0
PRODID:-//HasGeek//NONSGML Funnel//EN
DESCRIPTION:Signal Foundation's President - Meredith Whittaker - and the S
 ignal team talks about AI\, encryption and more.
X-WR-CALDESC:Signal Foundation's President - Meredith Whittaker - and the 
 Signal team talks about AI\, encryption and more.
NAME:Signal in Bangalore
X-WR-CALNAME:Signal in Bangalore
REFRESH-INTERVAL;VALUE=DURATION:PT12H
SUMMARY:Signal in Bangalore
TIMEZONE-ID:Asia/Kolkata
X-PUBLISHED-TTL:PT12H
X-WR-TIMEZONE:Asia/Kolkata
BEGIN:VEVENT
SUMMARY:Check-in
DTSTART:20231003T113000Z
DTEND:20231003T114500Z
DTSTAMP:20260421T210638Z
UID:session/N2fyBu595d2Dsg3VCrfqk2@hasgeek.com
SEQUENCE:3
CREATED:20230920T122556Z
GEO:12.9666826;77.6352903
LAST-MODIFIED:20230920T122757Z
LOCATION:Library - Bangalore International Centre\nBengaluru\nIN
ORGANIZER;CN="The Fifth Elephant":MAILTO:no-reply@hasgeek.com
BEGIN:VALARM
ACTION:display
DESCRIPTION:Check-in in Library in 5 minutes
TRIGGER:-PT5M
END:VALARM
END:VEVENT
BEGIN:VEVENT
SUMMARY:Talk - How do organizations like Signal sustain in an environment 
 of mass surveillance.
DTSTART:20231003T114500Z
DTEND:20231003T124500Z
DTSTAMP:20260421T210638Z
UID:session/ExN3r8qE9qqHCh9H7ttY7q@hasgeek.com
SEQUENCE:5
CREATED:20230920T122721Z
GEO:12.9666826;77.6352903
LAST-MODIFIED:20240119T112332Z
LOCATION:Library - Bangalore International Centre\nBengaluru\nIN
ORGANIZER;CN="The Fifth Elephant":MAILTO:no-reply@hasgeek.com
BEGIN:VALARM
ACTION:display
DESCRIPTION:Talk - How do organizations like Signal sustain in an environm
 ent of mass surveillance. in Library in 5 minutes
TRIGGER:-PT5M
END:VALARM
END:VEVENT
BEGIN:VEVENT
SUMMARY:Break
DTSTART:20231003T124500Z
DTEND:20231003T130000Z
DTSTAMP:20260421T210638Z
UID:session/VFsWLhLRqoxmJPHw1oGyRN@hasgeek.com
SEQUENCE:3
CREATED:20230920T122735Z
GEO:12.9666826;77.6352903
LAST-MODIFIED:20230920T122750Z
LOCATION:Seminar halls 1 and 2 (first floor) - Bangalore International Cen
 tre\nBengaluru\nIN
ORGANIZER;CN="The Fifth Elephant":MAILTO:no-reply@hasgeek.com
BEGIN:VALARM
ACTION:display
DESCRIPTION:Break in Seminar halls 1 and 2 (first floor) in 5 minutes
TRIGGER:-PT5M
END:VALARM
END:VEVENT
BEGIN:VEVENT
SUMMARY:Panel discussion - AI: Beyond the hype cycle
DTSTART:20231003T130000Z
DTEND:20231003T140000Z
DTSTAMP:20260421T210638Z
UID:session/QhsTDowHi8BpQfck7fSgPw@hasgeek.com
SEQUENCE:6
CREATED:20230920T122918Z
GEO:12.9666826;77.6352903
LAST-MODIFIED:20240119T112345Z
LOCATION:Seminar halls 1 and 2 (first floor) - Bangalore International Cen
 tre\nBengaluru\nIN
ORGANIZER;CN="The Fifth Elephant":MAILTO:no-reply@hasgeek.com
BEGIN:VALARM
ACTION:display
DESCRIPTION:Panel discussion - AI: Beyond the hype cycle in Seminar halls 
 1 and 2 (first floor) in 5 minutes
TRIGGER:-PT5M
END:VALARM
END:VEVENT
END:VCALENDAR
