BEGIN:VCALENDAR
VERSION:2.0
PRODID:-//HasGeek//NONSGML Funnel//EN
DESCRIPTION:Hands-on workshop - The Fifth Elephant 2025 Annual Conference
X-WR-CALDESC:Hands-on workshop - The Fifth Elephant 2025 Annual Conference
NAME:Seeing is retrieving: search chatbots with vision embeddings
X-WR-CALNAME:Seeing is retrieving: search chatbots with vision embeddings
REFRESH-INTERVAL;VALUE=DURATION:PT12H
SUMMARY:Seeing is retrieving: search chatbots with vision embeddings
TIMEZONE-ID:Asia/Kolkata
X-PUBLISHED-TTL:PT12H
X-WR-TIMEZONE:Asia/Kolkata
BEGIN:VEVENT
SUMMARY:Check-in (2nd floor\, Underline Centre + Livestream)
DTSTART:20250718T031500Z
DTEND:20250718T033000Z
DTSTAMP:20260419T153803Z
UID:session/P6W9BzSeSdQnCFkrUNEFJ1@hasgeek.com
SEQUENCE:1
CREATED:20250717T063220Z
LAST-MODIFIED:20250717T063223Z
LOCATION:Underline Centre\, Bangalore
ORGANIZER;CN="The Fifth Elephant":MAILTO:no-reply@hasgeek.com
BEGIN:VALARM
ACTION:display
DESCRIPTION:Check-in (2nd floor\, Underline Centre + Livestream) in 5 minu
 tes
TRIGGER:-PT5M
END:VALARM
END:VEVENT
BEGIN:VEVENT
SUMMARY:Welcome\; housekeeping rules
DTSTART:20250718T033000Z
DTEND:20250718T034000Z
DTSTAMP:20260419T153803Z
UID:session/52JqgLoHxEsjZB27bmdArk@hasgeek.com
SEQUENCE:2
CREATED:20250717T063555Z
LAST-MODIFIED:20250717T064723Z
LOCATION:Underline Centre\, Bangalore
ORGANIZER;CN="The Fifth Elephant":MAILTO:no-reply@hasgeek.com
BEGIN:VALARM
ACTION:display
DESCRIPTION:Welcome\; housekeeping rules in 5 minutes
TRIGGER:-PT5M
END:VALARM
END:VEVENT
BEGIN:VEVENT
SUMMARY:Workshop: Search chatbots with vision embeddings
DTSTART:20250718T034000Z
DTEND:20250718T050000Z
DTSTAMP:20260419T153803Z
UID:session/TpDzGAmgxRuXiUt2RXPDHj@hasgeek.com
SEQUENCE:2
CREATED:20250717T063629Z
LAST-MODIFIED:20250717T063639Z
LOCATION:Underline Centre\, Bangalore
ORGANIZER;CN="The Fifth Elephant":MAILTO:no-reply@hasgeek.com
BEGIN:VALARM
ACTION:display
DESCRIPTION:Workshop: Search chatbots with vision embeddings in 5 minutes
TRIGGER:-PT5M
END:VALARM
END:VEVENT
BEGIN:VEVENT
SUMMARY:Morning break
DTSTART:20250718T050000Z
DTEND:20250718T053000Z
DTSTAMP:20260419T153803Z
UID:session/N2znWeKQkHgqo9zoRasna6@hasgeek.com
SEQUENCE:1
CREATED:20250717T063647Z
LAST-MODIFIED:20250717T063654Z
LOCATION:Underline Centre\, Bangalore
ORGANIZER;CN="The Fifth Elephant":MAILTO:no-reply@hasgeek.com
BEGIN:VALARM
ACTION:display
DESCRIPTION:Morning break in 5 minutes
TRIGGER:-PT5M
END:VALARM
END:VEVENT
BEGIN:VEVENT
SUMMARY:Workshop continued
DTSTART:20250718T053000Z
DTEND:20250718T070000Z
DTSTAMP:20260419T153803Z
UID:session/SwSWMoqvPtCTYKwymsP5Dm@hasgeek.com
SEQUENCE:2
CREATED:20250717T063705Z
LAST-MODIFIED:20250717T063712Z
LOCATION:Underline Centre\, Bangalore
ORGANIZER;CN="The Fifth Elephant":MAILTO:no-reply@hasgeek.com
BEGIN:VALARM
ACTION:display
DESCRIPTION:Workshop continued in 5 minutes
TRIGGER:-PT5M
END:VALARM
END:VEVENT
BEGIN:VEVENT
SUMMARY:Stretch break
DTSTART:20250718T070000Z
DTEND:20250718T071000Z
DTSTAMP:20260419T153803Z
UID:session/W9oCZkgwidBWur8qa7kd5g@hasgeek.com
SEQUENCE:1
CREATED:20250717T063802Z
LAST-MODIFIED:20250717T063803Z
LOCATION:Underline Centre\, Bangalore
ORGANIZER;CN="The Fifth Elephant":MAILTO:no-reply@hasgeek.com
BEGIN:VALARM
ACTION:display
DESCRIPTION:Stretch break in 5 minutes
TRIGGER:-PT5M
END:VALARM
END:VEVENT
BEGIN:VEVENT
SUMMARY:Workshop continued
DTSTART:20250718T071000Z
DTEND:20250718T075500Z
DTSTAMP:20260419T153803Z
UID:session/QN4U81AQkjpKZeRqvfp56b@hasgeek.com
SEQUENCE:2
CREATED:20250717T063815Z
LAST-MODIFIED:20250717T063823Z
LOCATION:Underline Centre\, Bangalore
ORGANIZER;CN="The Fifth Elephant":MAILTO:no-reply@hasgeek.com
BEGIN:VALARM
ACTION:display
DESCRIPTION:Workshop continued in 5 minutes
TRIGGER:-PT5M
END:VALARM
END:VEVENT
BEGIN:VEVENT
SUMMARY:Group photo
DTSTART:20250718T075500Z
DTEND:20250718T080000Z
DTSTAMP:20260419T153803Z
UID:session/C7GPebg2h72EpaUNVq9D1L@hasgeek.com
SEQUENCE:0
CREATED:20250717T063831Z
LAST-MODIFIED:20250717T063831Z
LOCATION:Underline Centre\, Bangalore
ORGANIZER;CN="The Fifth Elephant":MAILTO:no-reply@hasgeek.com
BEGIN:VALARM
ACTION:display
DESCRIPTION:Group photo in 5 minutes
TRIGGER:-PT5M
END:VALARM
END:VEVENT
END:VCALENDAR
