BEGIN:VCALENDAR
VERSION:2.0
PRODID:-//HasGeek//NONSGML Funnel//EN
DESCRIPTION:A workshop and meetup in Pune about data science\, analytics a
 nd machine learning.
X-WR-CALDESC:A workshop and meetup in Pune about data science\, analytics 
 and machine learning.
NAME:The Fifth Elephant Pune Meetup
X-WR-CALNAME:The Fifth Elephant Pune Meetup
REFRESH-INTERVAL;VALUE=DURATION:PT12H
SUMMARY:The Fifth Elephant Pune Meetup
TIMEZONE-ID:Asia/Kolkata
X-PUBLISHED-TTL:PT12H
X-WR-TIMEZONE:Asia/Kolkata
BEGIN:VEVENT
SUMMARY:Introductions
DTSTART:20170708T033000Z
DTEND:20170708T043000Z
DTSTAMP:20260419T170506Z
UID:session/Ahgsow3UAqBGei6JMCQHBo@hasgeek.com
SEQUENCE:0
CREATED:20190705T104754Z
DESCRIPTION:\n
GEO:18.64395815;73.9325681901252
LAST-MODIFIED:20190705T104754Z
LOCATION:Room - Wingify\, Pune\nIN
ORGANIZER;CN="The Fifth Elephant":MAILTO:no-reply@hasgeek.com
BEGIN:VALARM
ACTION:display
DESCRIPTION:Introductions in Room in 5 minutes
TRIGGER:-PT5M
END:VALARM
END:VEVENT
END:VCALENDAR
